BEGIN:VCALENDAR
VERSION:2.0
PRODID:-//jEvents 2.0 for Joomla//EN
CALSCALE:GREGORIAN
METHOD:PUBLISH
BEGIN:VTIMEZONE
TZID:Europe/Paris
BEGIN:STANDARD
DTSTART:20191212T000000
RDATE:20200329T030000
TZOFFSETFROM:+0200
TZOFFSETTO:+0100
TZNAME:Europe/Paris CET
END:STANDARD
BEGIN:STANDARD
DTSTART:20201025T020000
RDATE:20210328T030000
TZOFFSETFROM:+0200
TZOFFSETTO:+0100
TZNAME:Europe/Paris CET
END:STANDARD
BEGIN:STANDARD
DTSTART:20211031T020000
RDATE:20220327T030000
TZOFFSETFROM:+0200
TZOFFSETTO:+0100
TZNAME:Europe/Paris CET
END:STANDARD
BEGIN:STANDARD
DTSTART:20221030T020000
RDATE:20230326T030000
TZOFFSETFROM:+0200
TZOFFSETTO:+0100
TZNAME:Europe/Paris CET
END:STANDARD
BEGIN:STANDARD
DTSTART:20231029T020000
RDATE:20240331T030000
TZOFFSETFROM:+0200
TZOFFSETTO:+0100
TZNAME:Europe/Paris CET
END:STANDARD
BEGIN:STANDARD
DTSTART:20241027T020000
RDATE:20250330T030000
TZOFFSETFROM:+0200
TZOFFSETTO:+0100
TZNAME:Europe/Paris CET
END:STANDARD
BEGIN:STANDARD
DTSTART:20251026T020000
RDATE:20260329T030000
TZOFFSETFROM:+0200
TZOFFSETTO:+0100
TZNAME:Europe/Paris CET
END:STANDARD
BEGIN:STANDARD
DTSTART:20261025T020000
RDATE:20270328T030000
TZOFFSETFROM:+0200
TZOFFSETTO:+0100
TZNAME:Europe/Paris CET
END:STANDARD
BEGIN:DAYLIGHT
DTSTART:20200329T030000
RDATE:20201025T020000
TZOFFSETFROM:+0100
TZOFFSETTO:+0200
TZNAME:Europe/Paris CEST
END:DAYLIGHT
BEGIN:DAYLIGHT
DTSTART:20210328T030000
RDATE:20211031T020000
TZOFFSETFROM:+0100
TZOFFSETTO:+0200
TZNAME:Europe/Paris CEST
END:DAYLIGHT
BEGIN:DAYLIGHT
DTSTART:20220327T030000
RDATE:20221030T020000
TZOFFSETFROM:+0100
TZOFFSETTO:+0200
TZNAME:Europe/Paris CEST
END:DAYLIGHT
BEGIN:DAYLIGHT
DTSTART:20230326T030000
RDATE:20231029T020000
TZOFFSETFROM:+0100
TZOFFSETTO:+0200
TZNAME:Europe/Paris CEST
END:DAYLIGHT
BEGIN:DAYLIGHT
DTSTART:20240331T030000
RDATE:20241027T020000
TZOFFSETFROM:+0100
TZOFFSETTO:+0200
TZNAME:Europe/Paris CEST
END:DAYLIGHT
BEGIN:DAYLIGHT
DTSTART:20250330T030000
RDATE:20251026T020000
TZOFFSETFROM:+0100
TZOFFSETTO:+0200
TZNAME:Europe/Paris CEST
END:DAYLIGHT
BEGIN:DAYLIGHT
DTSTART:20260329T030000
RDATE:20261025T020000
TZOFFSETFROM:+0100
TZOFFSETTO:+0200
TZNAME:Europe/Paris CEST
END:DAYLIGHT
END:VTIMEZONE
BEGIN:VEVENT
UID:ca217873be26d709e792ce4b2356e78a
CATEGORIES:Compétition Biathlon
CREATED:20201221T154034
SUMMARY:BIATHLON REGIONAL COURSE OPEN N°1
URL;VALUE=URI:https://skivosges.net/agenda/export-synchronisation/detailevenement/1528/-/
 biathlon-regional-course-open-n-1?tmpl=component
DESCRIPTION:BIATHLON REGIONAL COURSE OPEN N°1\n - Codex évenement BMVT0010\n - Station 
 : LA BRESSE\n - Organisateur : 14486 BASSE SUR LE RUPT SKI NORDIQUE\n - Cou
 rriel : RegularLabs.EmailProtector.unCloak("ep_f90cda7a");\n - Téléphone : 
 07 86 12 42 23\n - Délégué Technique : HABRAN THIERRYPériode d'inscription 
 à l'evènement du samedi 05 décembre 2020 à 01:00 au jeudi 10 décembre 2020 
 à 13:00 (Inscriptions impossibles).Inscriptions ouvertes aux detenteurs des
  titres Fédéraux valides suivants : Licenciés Compétiteurs\n - Voir les inf
 ormations dans l'agenda... (/index.php?option=com_jevents&amp;task=icaleven
 t.detail&amp;evid=1523&amp;Itemid=6283)Epreuves :\n - Le samedi 12 décembre
  2020\n - Codex épreuve BMVF0011\n - Sprint\n - Catégorie(s) : U15 (Filles)
 \n - Le samedi 12 décembre 2020\n - Codex épreuve BMVM0011\n - Sprint\n - C
 atégorie(s) : U15 (Garçons)\n - Le samedi 12 décembre 2020\n - Codex épreuv
 e BMVF0012\n - Sprint\n - Catégorie(s) : U17 (Filles)\n - Le samedi 12 déce
 mbre 2020\n - Codex épreuve BMVM0012\n - Sprint\n - Catégorie(s) : U17 (Gar
 çons)\n - Le samedi 12 décembre 2020\n - Codex épreuve BMVF0013\n - Sprint\
 n - Catégorie(s) : U19 a SEN (Dames)\n - Le samedi 12 décembre 2020\n - Cod
 ex épreuve BMVM0013\n - Sprint\n - Catégorie(s) : U19 a SEN (Hommes)\n - Vo
 ir les informations dans l'agenda... (/index.php?option=com_jevents&amp;tas
 k=icalevent.detail&amp;evid=1523&amp;Itemid=6283) Cet évènement a été impor
 té depuis :https://skivosges.net/agenda/export-synchronisation/detailevenem
 ent/1528/-/biathlon-regional-course-open-n-1?tmpl=component
X-ALT-DESC;FMTTYPE=text/html:<!-- #gskiepreuve code généré par le plugin jevents pour GskiEpreuves. Ne p
 as modifier cette ligne, ni tout le contenu suivant  #gskiepreuve --><div c
 lass="gski-evenement_infos"><div class="gski-evenement-nom">BIATHLON REGION
 AL COURSE OPEN N°1</div><div class="gski-evenement-report"></div><ul class=
 "gski-evenement-liste-infos"><li>Codex évenement BMVT0010</li><li>Station :
  LA BRESSE</li><li>Organisateur : 14486 BASSE SUR LE RUPT SKI NORDIQUE</li>
 <li>Courriel : <!-- Cette adresse électronique est protégée contre les robo
 ts spammeurs. --><span class="cloaked_email ep_f90cda7a"><span data-ep-b="&
 #114;" data-ep-a="&#103;&#105;&#108;&#108;e"><span data-ep-a="c&#104;r&#105
 ;&#115;" data-ep-b="&#110;g&#101;.&#102;"><span data-ep-a="cla&#117;&#100;"
  data-ep-b="&#101;&#64;&#111;r&#97;"></span></span></span></span><script>Re
 gularLabs.EmailProtector.unCloak("ep_f90cda7a");</script></li><li>Téléphone
  : 07 86 12 42 23</li><li><span class="gski-evenement-obs">Délégué Techniqu
 e : HABRAN THIERRY</span></li></ul><div class="gski-evenement-infos-2"><div
  class="gski-evenement-info-inscriptions"><div class="gski-evenement-inscri
 ptions-periodes">Période d'inscription à l'evènement du samedi 05 décembre 
 2020 à 01:00 au jeudi 10 décembre 2020 à 13:00 <span class="gski-evenement-
 inscriptions-impossibles">(Inscriptions impossibles).</span><div class="gsk
 i-evenement-inscriptions-types-titres">Inscriptions ouvertes aux detenteurs
  des titres Fédéraux valides suivants : Licenciés Compétiteurs</div></div><
 /div><div class="gskiepreuves-links"><ul><li><a href="https://skivosges.net
 /index.php?option=com_jevents&task=icalevent.detail&evid=1523&Itemid=6283">
 Voir les informations dans l'agenda...</a></li></ul></div><div class="gski-
 evenement-epreuves"><div class="gski-evenement-epreuves-titres">Epreuves :<
 /div><ul class="gski-evenement-epreuves-list"><li><div class="gski-epreuve-
 date">Le samedi 12 décembre 2020</div><ul class="gski-epreuve-liste-infos">
 <li>Codex épreuve BMVF0011</li><li>Sprint</li><li>Catégorie(s) : U15 (Fille
 s)</li></ul></li><li><div class="gski-epreuve-date">Le samedi 12 décembre 2
 020</div><ul class="gski-epreuve-liste-infos"><li>Codex épreuve BMVM0011</l
 i><li>Sprint</li><li>Catégorie(s) : U15 (Garçons)</li></ul></li><li><div cl
 ass="gski-epreuve-date">Le samedi 12 décembre 2020</div><ul class="gski-epr
 euve-liste-infos"><li>Codex épreuve BMVF0012</li><li>Sprint</li><li>Catégor
 ie(s) : U17 (Filles)</li></ul></li><li><div class="gski-epreuve-date">Le sa
 medi 12 décembre 2020</div><ul class="gski-epreuve-liste-infos"><li>Codex é
 preuve BMVM0012</li><li>Sprint</li><li>Catégorie(s) : U17 (Garçons)</li></u
 l></li><li><div class="gski-epreuve-date">Le samedi 12 décembre 2020</div><
 ul class="gski-epreuve-liste-infos"><li>Codex épreuve BMVF0013</li><li>Spri
 nt</li><li>Catégorie(s) : U19 a SEN (Dames)</li></ul></li><li><div class="g
 ski-epreuve-date">Le samedi 12 décembre 2020</div><ul class="gski-epreuve-l
 iste-infos"><li>Codex épreuve BMVM0013</li><li>Sprint</li><li>Catégorie(s) 
 : U19 a SEN (Hommes)</li></ul></li></ul></div><div class="gskiepreuves-link
 s"><ul><li><a href="https://skivosges.net/index.php?option=com_jevents&task
 =icalevent.detail&evid=1523&Itemid=6283">Voir les informations dans l'agend
 a...</a></li></ul></div></div"><!-- #/gskiepreuve fin du dode généré par le
  plugin jevents pour GskiEpreuves. . Ne pas modifier cette ligne, ni tout l
 e contenu précedant.  #/gskiepreuve --> <a href="https://skivosges.net/agen
 da/export-synchronisation/detailevenement/1528/-/biathlon-regional-course-o
 pen-n-1?tmpl=component">Cet évènement a été importé depuis :https://skivosg
 es.net/agenda/export-synchronisation/detailevenement/1528/-/biathlon-region
 al-course-open-n-1?tmpl=component</a>DTSTAMP:20260420T145757
DTSTART;TZID=Europe/Paris;VALUE=DATE:20201212
DTEND;TZID=Europe/Paris;VALUE=DATE:20201213
SEQUENCE:0
TRANSP:OPAQUE
END:VEVENT
END:VCALENDAR