BEGIN:VCALENDAR
VERSION:2.0
PRODID:-//jEvents 2.0 for Joomla//EN
CALSCALE:GREGORIAN
METHOD:PUBLISH
BEGIN:VTIMEZONE
TZID:Europe/Paris
BEGIN:STANDARD
DTSTART:20200205T000000
RDATE:20200329T030000
TZOFFSETFROM:+0200
TZOFFSETTO:+0100
TZNAME:Europe/Paris CET
END:STANDARD
BEGIN:STANDARD
DTSTART:20201025T020000
RDATE:20210328T030000
TZOFFSETFROM:+0200
TZOFFSETTO:+0100
TZNAME:Europe/Paris CET
END:STANDARD
BEGIN:STANDARD
DTSTART:20211031T020000
RDATE:20220327T030000
TZOFFSETFROM:+0200
TZOFFSETTO:+0100
TZNAME:Europe/Paris CET
END:STANDARD
BEGIN:STANDARD
DTSTART:20221030T020000
RDATE:20230326T030000
TZOFFSETFROM:+0200
TZOFFSETTO:+0100
TZNAME:Europe/Paris CET
END:STANDARD
BEGIN:STANDARD
DTSTART:20231029T020000
RDATE:20240331T030000
TZOFFSETFROM:+0200
TZOFFSETTO:+0100
TZNAME:Europe/Paris CET
END:STANDARD
BEGIN:STANDARD
DTSTART:20241027T020000
RDATE:20250330T030000
TZOFFSETFROM:+0200
TZOFFSETTO:+0100
TZNAME:Europe/Paris CET
END:STANDARD
BEGIN:STANDARD
DTSTART:20251026T020000
RDATE:20260329T030000
TZOFFSETFROM:+0200
TZOFFSETTO:+0100
TZNAME:Europe/Paris CET
END:STANDARD
BEGIN:STANDARD
DTSTART:20261025T020000
RDATE:20270328T030000
TZOFFSETFROM:+0200
TZOFFSETTO:+0100
TZNAME:Europe/Paris CET
END:STANDARD
BEGIN:DAYLIGHT
DTSTART:20200329T030000
RDATE:20201025T020000
TZOFFSETFROM:+0100
TZOFFSETTO:+0200
TZNAME:Europe/Paris CEST
END:DAYLIGHT
BEGIN:DAYLIGHT
DTSTART:20210328T030000
RDATE:20211031T020000
TZOFFSETFROM:+0100
TZOFFSETTO:+0200
TZNAME:Europe/Paris CEST
END:DAYLIGHT
BEGIN:DAYLIGHT
DTSTART:20220327T030000
RDATE:20221030T020000
TZOFFSETFROM:+0100
TZOFFSETTO:+0200
TZNAME:Europe/Paris CEST
END:DAYLIGHT
BEGIN:DAYLIGHT
DTSTART:20230326T030000
RDATE:20231029T020000
TZOFFSETFROM:+0100
TZOFFSETTO:+0200
TZNAME:Europe/Paris CEST
END:DAYLIGHT
BEGIN:DAYLIGHT
DTSTART:20240331T030000
RDATE:20241027T020000
TZOFFSETFROM:+0100
TZOFFSETTO:+0200
TZNAME:Europe/Paris CEST
END:DAYLIGHT
BEGIN:DAYLIGHT
DTSTART:20250330T030000
RDATE:20251026T020000
TZOFFSETFROM:+0100
TZOFFSETTO:+0200
TZNAME:Europe/Paris CEST
END:DAYLIGHT
BEGIN:DAYLIGHT
DTSTART:20260329T030000
RDATE:20261025T020000
TZOFFSETFROM:+0100
TZOFFSETTO:+0200
TZNAME:Europe/Paris CEST
END:DAYLIGHT
END:VTIMEZONE
BEGIN:VEVENT
UID:1a241a218424a917f18b7c12a4c3ecab
CATEGORIES:Circuit Massif Masters (alpin)
CREATED:20201221T154357
SUMMARY:CMM  Esprit Racing
URL;VALUE=URI:https://skivosges.net/agenda/export-synchronisation/detailevenement/1590/-/
 cmm-esprit-racing?tmpl=component
DESCRIPTION:<!-- #gskiepreuve code généré par le plugin jevents pour GskiEpreuves. Ne p
 as modifier cette ligne, ni tout le contenu suivant  #gskiepreuve --><div c
 lass="gski-evenement_infos"><div class="gski-evenement-nom">CMM  Esprit Rac
 ing</div><div class="gski-evenement-report"></div><ul class="gski-evenement
 -liste-infos"><li>Codex évenement AMVT0340</li><li>Station : MARKSTEIN</li>
 <li>Organisateur : 14145 SKI CLUB KRUTH</li><li><span class="gski-evenement
 -obs">Délégué Technique : BANZET RICHARD</span></li></ul><div class="gski-e
 venement-infos-2"><div class="gski-evenement-info-inscriptions"><div class=
 "gski-evenement-inscriptions-periodes">Période d'inscription à l'evènement 
 du vendredi 29 janvier 2021 à 01:00 au mercredi 03 février 2021 à 13:00 <sp
 an class="gski-evenement-inscriptions-impossibles">(Inscriptions impossible
 s).</span><div class="gski-evenement-inscriptions-types-titres">Inscription
 s ouvertes aux detenteurs des titres Fédéraux valides suivants : Licenciés 
 Compétiteurs</div></div></div><div class="gskiepreuves-links"><ul><li><a hr
 ef="/index.php?option=com_jevents&task=icalevent.detail&evid=1585&Itemid=62
 83">Voir les informations dans l'agenda...</a></li></ul></div><div class="g
 ski-evenement-epreuves"><div class="gski-evenement-epreuves-titres">Epreuve
 s :</div><ul class="gski-evenement-epreuves-list"><li><div class="gski-epre
 uve-date">Le vendredi 05 février 2021</div><ul class="gski-epreuve-liste-in
 fos"><li>Codex épreuve AMVM0341</li><li>Slalom</li><li>Catégorie(s) : Tous 
 les Masters+U21+U30 Hommes (Hommes)</li></ul></li><li><div class="gski-epre
 uve-date">Le vendredi 05 février 2021</div><ul class="gski-epreuve-liste-in
 fos"><li>Codex épreuve AMVF0341</li><li>Slalom</li><li>Catégorie(s) : Tous 
 les Masters+U21+U30 Dames (Dames)</li></ul></li></ul></div><div class="gski
 epreuves-links"><ul><li><a href="/index.php?option=com_jevents&task=icaleve
 nt.detail&evid=1585&Itemid=6283">Voir les informations dans l'agenda...</a>
 </li></ul></div></div"><!-- #/gskiepreuve fin du dode généré par le plugin 
 jevents pour GskiEpreuves. . Ne pas modifier cette ligne, ni tout le conten
 u précedant.  #/gskiepreuve --> <a href="https://skivosges.net/agenda/expor
 t-synchronisation/detailevenement/1590/-/cmm-esprit-racing?tmpl=component">
 Cet évènement a été importé depuis :https://skivosges.net/agenda/export-syn
 chronisation/detailevenement/1590/-/cmm-esprit-racing?tmpl=component</a>
X-ALT-DESC;FMTTYPE=text/html:<!-- #gskiepreuve code généré par le plugin jevents pour GskiEpreuves. Ne p
 as modifier cette ligne, ni tout le contenu suivant  #gskiepreuve --><div c
 lass="gski-evenement_infos"><div class="gski-evenement-nom">CMM  Esprit Rac
 ing</div><div class="gski-evenement-report"></div><ul class="gski-evenement
 -liste-infos"><li>Codex évenement AMVT0340</li><li>Station : MARKSTEIN</li>
 <li>Organisateur : 14145 SKI CLUB KRUTH</li><li><span class="gski-evenement
 -obs">Délégué Technique : BANZET RICHARD</span></li></ul><div class="gski-e
 venement-infos-2"><div class="gski-evenement-info-inscriptions"><div class=
 "gski-evenement-inscriptions-periodes">Période d'inscription à l'evènement 
 du vendredi 29 janvier 2021 à 01:00 au mercredi 03 février 2021 à 13:00 <sp
 an class="gski-evenement-inscriptions-impossibles">(Inscriptions impossible
 s).</span><div class="gski-evenement-inscriptions-types-titres">Inscription
 s ouvertes aux detenteurs des titres Fédéraux valides suivants : Licenciés 
 Compétiteurs</div></div></div><div class="gskiepreuves-links"><ul><li><a hr
 ef="https://skivosges.net/index.php?option=com_jevents&task=icalevent.detai
 l&evid=1585&Itemid=6283">Voir les informations dans l'agenda...</a></li></u
 l></div><div class="gski-evenement-epreuves"><div class="gski-evenement-epr
 euves-titres">Epreuves :</div><ul class="gski-evenement-epreuves-list"><li>
 <div class="gski-epreuve-date">Le vendredi 05 février 2021</div><ul class="
 gski-epreuve-liste-infos"><li>Codex épreuve AMVM0341</li><li>Slalom</li><li
 >Catégorie(s) : Tous les Masters+U21+U30 Hommes (Hommes)</li></ul></li><li>
 <div class="gski-epreuve-date">Le vendredi 05 février 2021</div><ul class="
 gski-epreuve-liste-infos"><li>Codex épreuve AMVF0341</li><li>Slalom</li><li
 >Catégorie(s) : Tous les Masters+U21+U30 Dames (Dames)</li></ul></li></ul><
 /div><div class="gskiepreuves-links"><ul><li><a href="https://skivosges.net
 /index.php?option=com_jevents&task=icalevent.detail&evid=1585&Itemid=6283">
 Voir les informations dans l'agenda...</a></li></ul></div></div"><!-- #/gsk
 iepreuve fin du dode généré par le plugin jevents pour GskiEpreuves. . Ne p
 as modifier cette ligne, ni tout le contenu précedant.  #/gskiepreuve --> <
 a href="https://skivosges.net/agenda/export-synchronisation/detailevenement
 /1590/-/cmm-esprit-racing?tmpl=component">Cet évènement a été importé depui
 s :https://skivosges.net/agenda/export-synchronisation/detailevenement/1590
 /-/cmm-esprit-racing?tmpl=component</a>DTSTAMP:20260420T100354
DTSTART;TZID=Europe/Paris;VALUE=DATE:20210205
DTEND;TZID=Europe/Paris;VALUE=DATE:20210206
SEQUENCE:0
TRANSP:OPAQUE
END:VEVENT
END:VCALENDAR