BEGIN:VCALENDAR
VERSION:2.0
PRODID:-//jEvents 2.0 for Joomla//EN
CALSCALE:GREGORIAN
METHOD:PUBLISH
BEGIN:VTIMEZONE
TZID:Europe/Paris
BEGIN:STANDARD
DTSTART:20200221T000000
RDATE:20200329T030000
TZOFFSETFROM:+0200
TZOFFSETTO:+0100
TZNAME:Europe/Paris CET
END:STANDARD
BEGIN:STANDARD
DTSTART:20201025T020000
RDATE:20210328T030000
TZOFFSETFROM:+0200
TZOFFSETTO:+0100
TZNAME:Europe/Paris CET
END:STANDARD
BEGIN:STANDARD
DTSTART:20211031T020000
RDATE:20220327T030000
TZOFFSETFROM:+0200
TZOFFSETTO:+0100
TZNAME:Europe/Paris CET
END:STANDARD
BEGIN:STANDARD
DTSTART:20221030T020000
RDATE:20230326T030000
TZOFFSETFROM:+0200
TZOFFSETTO:+0100
TZNAME:Europe/Paris CET
END:STANDARD
BEGIN:STANDARD
DTSTART:20231029T020000
RDATE:20240331T030000
TZOFFSETFROM:+0200
TZOFFSETTO:+0100
TZNAME:Europe/Paris CET
END:STANDARD
BEGIN:STANDARD
DTSTART:20241027T020000
RDATE:20250330T030000
TZOFFSETFROM:+0200
TZOFFSETTO:+0100
TZNAME:Europe/Paris CET
END:STANDARD
BEGIN:STANDARD
DTSTART:20251026T020000
RDATE:20260329T030000
TZOFFSETFROM:+0200
TZOFFSETTO:+0100
TZNAME:Europe/Paris CET
END:STANDARD
BEGIN:STANDARD
DTSTART:20261025T020000
RDATE:20270328T030000
TZOFFSETFROM:+0200
TZOFFSETTO:+0100
TZNAME:Europe/Paris CET
END:STANDARD
BEGIN:DAYLIGHT
DTSTART:20200329T030000
RDATE:20201025T020000
TZOFFSETFROM:+0100
TZOFFSETTO:+0200
TZNAME:Europe/Paris CEST
END:DAYLIGHT
BEGIN:DAYLIGHT
DTSTART:20210328T030000
RDATE:20211031T020000
TZOFFSETFROM:+0100
TZOFFSETTO:+0200
TZNAME:Europe/Paris CEST
END:DAYLIGHT
BEGIN:DAYLIGHT
DTSTART:20220327T030000
RDATE:20221030T020000
TZOFFSETFROM:+0100
TZOFFSETTO:+0200
TZNAME:Europe/Paris CEST
END:DAYLIGHT
BEGIN:DAYLIGHT
DTSTART:20230326T030000
RDATE:20231029T020000
TZOFFSETFROM:+0100
TZOFFSETTO:+0200
TZNAME:Europe/Paris CEST
END:DAYLIGHT
BEGIN:DAYLIGHT
DTSTART:20240331T030000
RDATE:20241027T020000
TZOFFSETFROM:+0100
TZOFFSETTO:+0200
TZNAME:Europe/Paris CEST
END:DAYLIGHT
BEGIN:DAYLIGHT
DTSTART:20250330T030000
RDATE:20251026T020000
TZOFFSETFROM:+0100
TZOFFSETTO:+0200
TZNAME:Europe/Paris CEST
END:DAYLIGHT
BEGIN:DAYLIGHT
DTSTART:20260329T030000
RDATE:20261025T020000
TZOFFSETFROM:+0100
TZOFFSETTO:+0200
TZNAME:Europe/Paris CEST
END:DAYLIGHT
END:VTIMEZONE
BEGIN:VEVENT
UID:8a1eeb74b972d2c420be0170fe4e08aa
CATEGORIES:Circuit Lorraine Jeunes (alpin)
CREATED:20201221T154454
SUMMARY:CJL Coupe de Bronze Pris de la Confiserie Bressaude
URL;VALUE=URI:https://skivosges.net/agenda/export-synchronisation/detailevenement/1612/-/
 cjl-coupe-de-bronze-pris-de-la-confiserie-bressaude?tmpl=component
DESCRIPTION:CJL Coupe de Bronze Pris de la Confiserie Bressaude\n - Codex évenement AMV
 T0480\n - Station : ROUGE GAZON\n - Organisateur : 14063 SKIEURS DE ST MAUR
 ICE/MOSELLE\n - Courriel : RegularLabs.EmailProtector.unCloak("ep_c990ca02"
 );\n - Délégué Technique : FUCHS MICHELPériode d'inscription à l'evènement 
 du dimanche 14 février 2021 à 01:00 au vendredi 19 février 2021 à 13:00 (In
 scriptions impossibles).Inscriptions ouvertes aux detenteurs des titres Féd
 éraux valides suivants : Licenciés Compétiteurs\n - Voir les informations d
 ans l'agenda... (/index.php?option=com_jevents&amp;task=icalevent.detail&am
 p;evid=1607&amp;Itemid=6283)Epreuves :\n - Le dimanche 21 février 2021\n - 
 Codex épreuve AMVM0481\n - Slalom Geant\n - Catégorie(s) : U8/U10 (Garçons)
 \n - Le dimanche 21 février 2021\n - Codex épreuve AMVF0481\n - Slalom Gean
 t\n - Catégorie(s) : U8/U10 (Filles)\n - Le dimanche 21 février 2021\n - Co
 dex épreuve AMVM0482\n - Slalom Geant\n - Catégorie(s) : U12/U14 (Garçons)\
 n - Le dimanche 21 février 2021\n - Codex épreuve AMVF0482\n - Slalom Geant
 \n - Catégorie(s) : U12/U14 (Filles)\n - Voir les informations dans l'agend
 a... (/index.php?option=com_jevents&amp;task=icalevent.detail&amp;evid=1607
 &amp;Itemid=6283) Cet évènement a été importé depuis :https://skivosges.net
 /agenda/export-synchronisation/detailevenement/1612/-/cjl-coupe-de-bronze-p
 ris-de-la-confiserie-bressaude?tmpl=component
X-ALT-DESC;FMTTYPE=text/html:<!-- #gskiepreuve code généré par le plugin jevents pour GskiEpreuves. Ne p
 as modifier cette ligne, ni tout le contenu suivant  #gskiepreuve --><div c
 lass="gski-evenement_infos"><div class="gski-evenement-nom">CJL Coupe de Br
 onze Pris de la Confiserie Bressaude</div><div class="gski-evenement-report
 "></div><ul class="gski-evenement-liste-infos"><li>Codex évenement AMVT0480
 </li><li>Station : ROUGE GAZON</li><li>Organisateur : 14063 SKIEURS DE ST M
 AURICE/MOSELLE</li><li>Courriel : <!-- Cette adresse électronique est proté
 gée contre les robots spammeurs. --><span class="cloaked_email ep_c990ca02"
 ><span data-ep-b="" data-ep-a="&#100;a&#110;i"><span data-ep-b="&#114;&#46;
 &#102;r" data-ep-a="&#101;&#108;.m"><span data-ep-a="&#111;&#114;&#101;&#10
 8;" data-ep-b="&#53;&#64;s&#102;"></span></span></span></span><script>Regul
 arLabs.EmailProtector.unCloak("ep_c990ca02");</script></li><li><span class=
 "gski-evenement-obs">Délégué Technique : FUCHS MICHEL</span></li></ul><div 
 class="gski-evenement-infos-2"><div class="gski-evenement-info-inscriptions
 "><div class="gski-evenement-inscriptions-periodes">Période d'inscription à
  l'evènement du dimanche 14 février 2021 à 01:00 au vendredi 19 février 202
 1 à 13:00 <span class="gski-evenement-inscriptions-impossibles">(Inscriptio
 ns impossibles).</span><div class="gski-evenement-inscriptions-types-titres
 ">Inscriptions ouvertes aux detenteurs des titres Fédéraux valides suivants
  : Licenciés Compétiteurs</div></div></div><div class="gskiepreuves-links">
 <ul><li><a href="https://skivosges.net/index.php?option=com_jevents&task=ic
 alevent.detail&evid=1607&Itemid=6283">Voir les informations dans l'agenda..
 .</a></li></ul></div><div class="gski-evenement-epreuves"><div class="gski-
 evenement-epreuves-titres">Epreuves :</div><ul class="gski-evenement-epreuv
 es-list"><li><div class="gski-epreuve-date">Le dimanche 21 février 2021</di
 v><ul class="gski-epreuve-liste-infos"><li>Codex épreuve AMVM0481</li><li>S
 lalom Geant</li><li>Catégorie(s) : U8/U10 (Garçons)</li></ul></li><li><div 
 class="gski-epreuve-date">Le dimanche 21 février 2021</div><ul class="gski-
 epreuve-liste-infos"><li>Codex épreuve AMVF0481</li><li>Slalom Geant</li><l
 i>Catégorie(s) : U8/U10 (Filles)</li></ul></li><li><div class="gski-epreuve
 -date">Le dimanche 21 février 2021</div><ul class="gski-epreuve-liste-infos
 "><li>Codex épreuve AMVM0482</li><li>Slalom Geant</li><li>Catégorie(s) : U1
 2/U14 (Garçons)</li></ul></li><li><div class="gski-epreuve-date">Le dimanch
 e 21 février 2021</div><ul class="gski-epreuve-liste-infos"><li>Codex épreu
 ve AMVF0482</li><li>Slalom Geant</li><li>Catégorie(s) : U12/U14 (Filles)</l
 i></ul></li></ul></div><div class="gskiepreuves-links"><ul><li><a href="htt
 ps://skivosges.net/index.php?option=com_jevents&task=icalevent.detail&evid=
 1607&Itemid=6283">Voir les informations dans l'agenda...</a></li></ul></div
 ></div"><!-- #/gskiepreuve fin du dode généré par le plugin jevents pour Gs
 kiEpreuves. . Ne pas modifier cette ligne, ni tout le contenu précedant.  #
 /gskiepreuve --> <a href="https://skivosges.net/agenda/export-synchronisati
 on/detailevenement/1612/-/cjl-coupe-de-bronze-pris-de-la-confiserie-bressau
 de?tmpl=component">Cet évènement a été importé depuis :https://skivosges.ne
 t/agenda/export-synchronisation/detailevenement/1612/-/cjl-coupe-de-bronze-
 pris-de-la-confiserie-bressaude?tmpl=component</a>DTSTAMP:20260420T141210
DTSTART;TZID=Europe/Paris;VALUE=DATE:20210221
DTEND;TZID=Europe/Paris;VALUE=DATE:20210222
SEQUENCE:0
TRANSP:OPAQUE
END:VEVENT
END:VCALENDAR