BEGIN:VCALENDAR
VERSION:2.0
PRODID:-//jEvents 2.0 for Joomla//EN
CALSCALE:GREGORIAN
METHOD:PUBLISH
BEGIN:VTIMEZONE
TZID:Europe/Paris
BEGIN:STANDARD
DTSTART:20200313T000000
RDATE:20200329T030000
TZOFFSETFROM:+0200
TZOFFSETTO:+0100
TZNAME:Europe/Paris CET
END:STANDARD
BEGIN:STANDARD
DTSTART:20201025T020000
RDATE:20210328T030000
TZOFFSETFROM:+0200
TZOFFSETTO:+0100
TZNAME:Europe/Paris CET
END:STANDARD
BEGIN:STANDARD
DTSTART:20211031T020000
RDATE:20220327T030000
TZOFFSETFROM:+0200
TZOFFSETTO:+0100
TZNAME:Europe/Paris CET
END:STANDARD
BEGIN:STANDARD
DTSTART:20221030T020000
RDATE:20230326T030000
TZOFFSETFROM:+0200
TZOFFSETTO:+0100
TZNAME:Europe/Paris CET
END:STANDARD
BEGIN:STANDARD
DTSTART:20231029T020000
RDATE:20240331T030000
TZOFFSETFROM:+0200
TZOFFSETTO:+0100
TZNAME:Europe/Paris CET
END:STANDARD
BEGIN:STANDARD
DTSTART:20241027T020000
RDATE:20250330T030000
TZOFFSETFROM:+0200
TZOFFSETTO:+0100
TZNAME:Europe/Paris CET
END:STANDARD
BEGIN:STANDARD
DTSTART:20251026T020000
RDATE:20260329T030000
TZOFFSETFROM:+0200
TZOFFSETTO:+0100
TZNAME:Europe/Paris CET
END:STANDARD
BEGIN:STANDARD
DTSTART:20261025T020000
RDATE:20270328T030000
TZOFFSETFROM:+0200
TZOFFSETTO:+0100
TZNAME:Europe/Paris CET
END:STANDARD
BEGIN:DAYLIGHT
DTSTART:20200329T030000
RDATE:20201025T020000
TZOFFSETFROM:+0100
TZOFFSETTO:+0200
TZNAME:Europe/Paris CEST
END:DAYLIGHT
BEGIN:DAYLIGHT
DTSTART:20210328T030000
RDATE:20211031T020000
TZOFFSETFROM:+0100
TZOFFSETTO:+0200
TZNAME:Europe/Paris CEST
END:DAYLIGHT
BEGIN:DAYLIGHT
DTSTART:20220327T030000
RDATE:20221030T020000
TZOFFSETFROM:+0100
TZOFFSETTO:+0200
TZNAME:Europe/Paris CEST
END:DAYLIGHT
BEGIN:DAYLIGHT
DTSTART:20230326T030000
RDATE:20231029T020000
TZOFFSETFROM:+0100
TZOFFSETTO:+0200
TZNAME:Europe/Paris CEST
END:DAYLIGHT
BEGIN:DAYLIGHT
DTSTART:20240331T030000
RDATE:20241027T020000
TZOFFSETFROM:+0100
TZOFFSETTO:+0200
TZNAME:Europe/Paris CEST
END:DAYLIGHT
BEGIN:DAYLIGHT
DTSTART:20250330T030000
RDATE:20251026T020000
TZOFFSETFROM:+0100
TZOFFSETTO:+0200
TZNAME:Europe/Paris CEST
END:DAYLIGHT
BEGIN:DAYLIGHT
DTSTART:20260329T030000
RDATE:20261025T020000
TZOFFSETFROM:+0100
TZOFFSETTO:+0200
TZNAME:Europe/Paris CEST
END:DAYLIGHT
END:VTIMEZONE
BEGIN:VEVENT
UID:4bb47021ea88aae7c473112a231862f0
CATEGORIES:Circuit Massif D2 (alpin)
CREATED:20201221T155321
SUMMARY:CD2 Prix Labellemontagne
URL;VALUE=URI:https://skivosges.net/agenda/export-synchronisation/detailevenement/1642/-/
 cd2-prix-labellemontagne?tmpl=component
DESCRIPTION:<!-- #gskiepreuve code généré par le plugin jevents pour GskiEpreuves. Ne p
 as modifier cette ligne, ni tout le contenu suivant  #gskiepreuve --><div c
 lass="gski-evenement_infos"><div class="gski-evenement-nom">CD2 Prix Labell
 emontagne</div><div class="gski-evenement-report"></div><ul class="gski-eve
 nement-liste-infos"><li>Codex évenement AMVT0670</li><li>Station : LA BRESS
 E</li><li>Organisateur : 14024 LA BRESSAUDE SECTION SKI</li><li>Courriel : 
 <!-- Cette adresse électronique est protégée contre les robots spammeurs. -
 -><span class="cloaked_email ep_c4c2a190"><span data-ep-b="&#102;&#114;" da
 ta-ep-a="o&#100;il&#101;"><span data-ep-a=".m&#117;&#110;&#115;" data-ep-b=
 "&#97;&#110;&#103;&#101;."><span data-ep-b="&#108;&#98;&#64;o&#114;" data-e
 p-a="ch.&#115;&#99;"></span></span></span></span><script>RegularLabs.EmailP
 rotector.unCloak("ep_c4c2a190");</script></li><li>Téléphone : 0608855252</l
 i><li><span class="gski-evenement-obs">Délégué Technique : LEPAGE REMI</spa
 n></li></ul><div class="gski-evenement-infos-2"><div class="gski-evenement-
 info-inscriptions"><div class="gski-evenement-inscriptions-periodes">Périod
 e d'inscription à l'evènement du dimanche 07 mars 2021 à 01:00 au vendredi 
 12 mars 2021 à 13:00 <span class="gski-evenement-inscriptions-impossibles">
 (Inscriptions impossibles).</span><div class="gski-evenement-inscriptions-t
 ypes-titres">Inscriptions ouvertes aux detenteurs des titres Fédéraux valid
 es suivants : Licenciés Compétiteurs</div></div></div><div class="gskiepreu
 ves-links"><ul><li><a href="/index.php?option=com_jevents&task=icalevent.de
 tail&evid=1637&Itemid=6283">Voir les informations dans l'agenda...</a></li>
 </ul></div><div class="gski-evenement-epreuves"><div class="gski-evenement-
 epreuves-titres">Epreuves :</div><ul class="gski-evenement-epreuves-list"><
 li><div class="gski-epreuve-date">Le dimanche 14 mars 2021</div><ul class="
 gski-epreuve-liste-infos"><li>Codex épreuve AMVM0671</li><li>Slalom Geant</
 li><li>Catégorie(s) : U16 (Garçons)</li></ul></li><li><div class="gski-epre
 uve-date">Le dimanche 14 mars 2021</div><ul class="gski-epreuve-liste-infos
 "><li>Codex épreuve AMVF0671</li><li>Slalom Geant</li><li>Catégorie(s) : U1
 6 (Filles)</li></ul></li><li><div class="gski-epreuve-date">Le dimanche 14 
 mars 2021</div><ul class="gski-epreuve-liste-infos"><li>Codex épreuve AMVF0
 672</li><li>Slalom Geant</li><li>Catégorie(s) : U18 a Masters (Dames)</li><
 /ul></li><li><div class="gski-epreuve-date">Le dimanche 14 mars 2021</div><
 ul class="gski-epreuve-liste-infos"><li>Codex épreuve AMVM0672</li><li>Slal
 om Geant</li><li>Catégorie(s) : U18 a Masters (Hommes)</li></ul></li></ul><
 /div><div class="gskiepreuves-links"><ul><li><a href="/index.php?option=com
 _jevents&task=icalevent.detail&evid=1637&Itemid=6283">Voir les informations
  dans l'agenda...</a></li></ul></div></div"><!-- #/gskiepreuve fin du dode 
 généré par le plugin jevents pour GskiEpreuves. . Ne pas modifier cette lig
 ne, ni tout le contenu précedant.  #/gskiepreuve --> <a href="https://skivo
 sges.net/agenda/export-synchronisation/detailevenement/1642/-/cd2-prix-labe
 llemontagne?tmpl=component">Cet évènement a été importé depuis :https://ski
 vosges.net/agenda/export-synchronisation/detailevenement/1642/-/cd2-prix-la
 bellemontagne?tmpl=component</a>
X-ALT-DESC;FMTTYPE=text/html:<!-- #gskiepreuve code généré par le plugin jevents pour GskiEpreuves. Ne p
 as modifier cette ligne, ni tout le contenu suivant  #gskiepreuve --><div c
 lass="gski-evenement_infos"><div class="gski-evenement-nom">CD2 Prix Labell
 emontagne</div><div class="gski-evenement-report"></div><ul class="gski-eve
 nement-liste-infos"><li>Codex évenement AMVT0670</li><li>Station : LA BRESS
 E</li><li>Organisateur : 14024 LA BRESSAUDE SECTION SKI</li><li>Courriel : 
 <!-- Cette adresse électronique est protégée contre les robots spammeurs. -
 -><span class="cloaked_email ep_c4c2a190"><span data-ep-b="&#102;&#114;" da
 ta-ep-a="o&#100;il&#101;"><span data-ep-a=".m&#117;&#110;&#115;" data-ep-b=
 "&#97;&#110;&#103;&#101;."><span data-ep-b="&#108;&#98;&#64;o&#114;" data-e
 p-a="ch.&#115;&#99;"></span></span></span></span><script>RegularLabs.EmailP
 rotector.unCloak("ep_c4c2a190");</script></li><li>Téléphone : 0608855252</l
 i><li><span class="gski-evenement-obs">Délégué Technique : LEPAGE REMI</spa
 n></li></ul><div class="gski-evenement-infos-2"><div class="gski-evenement-
 info-inscriptions"><div class="gski-evenement-inscriptions-periodes">Périod
 e d'inscription à l'evènement du dimanche 07 mars 2021 à 01:00 au vendredi 
 12 mars 2021 à 13:00 <span class="gski-evenement-inscriptions-impossibles">
 (Inscriptions impossibles).</span><div class="gski-evenement-inscriptions-t
 ypes-titres">Inscriptions ouvertes aux detenteurs des titres Fédéraux valid
 es suivants : Licenciés Compétiteurs</div></div></div><div class="gskiepreu
 ves-links"><ul><li><a href="https://skivosges.net/index.php?option=com_jeve
 nts&task=icalevent.detail&evid=1637&Itemid=6283">Voir les informations dans
  l'agenda...</a></li></ul></div><div class="gski-evenement-epreuves"><div c
 lass="gski-evenement-epreuves-titres">Epreuves :</div><ul class="gski-evene
 ment-epreuves-list"><li><div class="gski-epreuve-date">Le dimanche 14 mars 
 2021</div><ul class="gski-epreuve-liste-infos"><li>Codex épreuve AMVM0671</
 li><li>Slalom Geant</li><li>Catégorie(s) : U16 (Garçons)</li></ul></li><li>
 <div class="gski-epreuve-date">Le dimanche 14 mars 2021</div><ul class="gsk
 i-epreuve-liste-infos"><li>Codex épreuve AMVF0671</li><li>Slalom Geant</li>
 <li>Catégorie(s) : U16 (Filles)</li></ul></li><li><div class="gski-epreuve-
 date">Le dimanche 14 mars 2021</div><ul class="gski-epreuve-liste-infos"><l
 i>Codex épreuve AMVF0672</li><li>Slalom Geant</li><li>Catégorie(s) : U18 a 
 Masters (Dames)</li></ul></li><li><div class="gski-epreuve-date">Le dimanch
 e 14 mars 2021</div><ul class="gski-epreuve-liste-infos"><li>Codex épreuve 
 AMVM0672</li><li>Slalom Geant</li><li>Catégorie(s) : U18 a Masters (Hommes)
 </li></ul></li></ul></div><div class="gskiepreuves-links"><ul><li><a href="
 https://skivosges.net/index.php?option=com_jevents&task=icalevent.detail&ev
 id=1637&Itemid=6283">Voir les informations dans l'agenda...</a></li></ul></
 div></div"><!-- #/gskiepreuve fin du dode généré par le plugin jevents pour
  GskiEpreuves. . Ne pas modifier cette ligne, ni tout le contenu précedant.
   #/gskiepreuve --> <a href="https://skivosges.net/agenda/export-synchronis
 ation/detailevenement/1642/-/cd2-prix-labellemontagne?tmpl=component">Cet é
 vènement a été importé depuis :https://skivosges.net/agenda/export-synchron
 isation/detailevenement/1642/-/cd2-prix-labellemontagne?tmpl=component</a>DTSTAMP:20260420T141150
DTSTART;TZID=Europe/Paris;VALUE=DATE:20210314
DTEND;TZID=Europe/Paris;VALUE=DATE:20210315
SEQUENCE:0
TRANSP:OPAQUE
END:VEVENT
END:VCALENDAR