BEGIN:VCALENDAR
VERSION:2.0
PRODID:-//jEvents 2.0 for Joomla//EN
CALSCALE:GREGORIAN
METHOD:PUBLISH
BEGIN:VTIMEZONE
TZID:Europe/Paris
BEGIN:STANDARD
DTSTART:20210205T000000
RDATE:20210328T030000
TZOFFSETFROM:+0200
TZOFFSETTO:+0100
TZNAME:Europe/Paris CET
END:STANDARD
BEGIN:STANDARD
DTSTART:20211031T020000
RDATE:20220327T030000
TZOFFSETFROM:+0200
TZOFFSETTO:+0100
TZNAME:Europe/Paris CET
END:STANDARD
BEGIN:STANDARD
DTSTART:20221030T020000
RDATE:20230326T030000
TZOFFSETFROM:+0200
TZOFFSETTO:+0100
TZNAME:Europe/Paris CET
END:STANDARD
BEGIN:STANDARD
DTSTART:20231029T020000
RDATE:20240331T030000
TZOFFSETFROM:+0200
TZOFFSETTO:+0100
TZNAME:Europe/Paris CET
END:STANDARD
BEGIN:STANDARD
DTSTART:20241027T020000
RDATE:20250330T030000
TZOFFSETFROM:+0200
TZOFFSETTO:+0100
TZNAME:Europe/Paris CET
END:STANDARD
BEGIN:STANDARD
DTSTART:20251026T020000
RDATE:20260329T030000
TZOFFSETFROM:+0200
TZOFFSETTO:+0100
TZNAME:Europe/Paris CET
END:STANDARD
BEGIN:STANDARD
DTSTART:20261025T020000
RDATE:20270328T030000
TZOFFSETFROM:+0200
TZOFFSETTO:+0100
TZNAME:Europe/Paris CET
END:STANDARD
BEGIN:DAYLIGHT
DTSTART:20210328T030000
RDATE:20211031T020000
TZOFFSETFROM:+0100
TZOFFSETTO:+0200
TZNAME:Europe/Paris CEST
END:DAYLIGHT
BEGIN:DAYLIGHT
DTSTART:20220327T030000
RDATE:20221030T020000
TZOFFSETFROM:+0100
TZOFFSETTO:+0200
TZNAME:Europe/Paris CEST
END:DAYLIGHT
BEGIN:DAYLIGHT
DTSTART:20230326T030000
RDATE:20231029T020000
TZOFFSETFROM:+0100
TZOFFSETTO:+0200
TZNAME:Europe/Paris CEST
END:DAYLIGHT
BEGIN:DAYLIGHT
DTSTART:20240331T030000
RDATE:20241027T020000
TZOFFSETFROM:+0100
TZOFFSETTO:+0200
TZNAME:Europe/Paris CEST
END:DAYLIGHT
BEGIN:DAYLIGHT
DTSTART:20250330T030000
RDATE:20251026T020000
TZOFFSETFROM:+0100
TZOFFSETTO:+0200
TZNAME:Europe/Paris CEST
END:DAYLIGHT
BEGIN:DAYLIGHT
DTSTART:20260329T030000
RDATE:20261025T020000
TZOFFSETFROM:+0100
TZOFFSETTO:+0200
TZNAME:Europe/Paris CEST
END:DAYLIGHT
END:VTIMEZONE
BEGIN:VEVENT
UID:59e64e0ea818188fadadc3ea66e3df63
CATEGORIES:Compétition Biathlon
CREATED:20211117T190002
SUMMARY:Biathlon régional - Sélection Arçon
URL;VALUE=URI:https://skivosges.net/agenda/export-synchronisation/detailevenement/1779/-/
 biathlon-regional-selection-arcon?tmpl=component
DESCRIPTION:Biathlon régional - Sélection Arçon\n - Codex évenement BMVT0050\n - Statio
 n : LA BRESSE\n - Organisateur : 14486 BASSE SUR LE RUPT SKI NORDIQUE\n - C
 ourriel : RegularLabs.EmailProtector.unCloak("ep_1eafc4cf");\n - Téléphone 
 : 07 86 12 42 23\n - Délégué Technique : HUMBERTCLAUDE JULIENPériode d'insc
 ription à l'evènement du dimanche 30 janvier 2022 à 00:00 au vendredi 04 fé
 vrier 2022 à 12:00Inscriptions ouvertes aux detenteurs des titres Fédéraux 
 valides suivants : Licenciés Compétiteurs\n - Voir les informations dans l'
 agenda... (/index.php?option=com_jevents&amp;task=icalevent.detail&amp;evid
 =1774&amp;Itemid=6283)Epreuves :\n - Le dimanche 06 février 2022\n - Codex 
 épreuve BMVF0051\n - Sprint\n - Catégorie(s) : U15 (Filles)\n - Le dimanche
  06 février 2022\n - Codex épreuve BMVM0051\n - Sprint\n - Catégorie(s) : U
 15 (Garçons)\n - Le dimanche 06 février 2022\n - Codex épreuve BMVF0052\n -
  Sprint\n - Catégorie(s) : U17 (Dames)\n - Le dimanche 06 février 2022\n - 
 Codex épreuve BMVM0052\n - Sprint\n - Catégorie(s) : U17 (Hommes)\n - Le di
 manche 06 février 2022\n - Codex épreuve BMVF0053\n - Sprint\n - Catégorie(
 s) : U19 a SEN (Dames)\n - Le dimanche 06 février 2022\n - Codex épreuve BM
 VM0053\n - Sprint\n - Catégorie(s) : U19 a SEN (Hommes)\n - Voir les inform
 ations dans l'agenda... (/index.php?option=com_jevents&amp;task=icalevent.d
 etail&amp;evid=1774&amp;Itemid=6283) Cet évènement a été importé depuis :ht
 tps://skivosges.net/agenda/export-synchronisation/detailevenement/1779/-/bi
 athlon-regional-selection-arcon?tmpl=component
X-ALT-DESC;FMTTYPE=text/html:<!-- #gskiepreuve code généré par le plugin jevents pour GskiEpreuves. Ne p
 as modifier cette ligne, ni tout le contenu suivant  #gskiepreuve --><div c
 lass="gski-evenement_infos"><div class="gski-evenement-nom">Biathlon région
 al - Sélection Arçon</div><div class="gski-evenement-report"></div><ul clas
 s="gski-evenement-liste-infos"><li>Codex évenement BMVT0050</li><li>Station
  : LA BRESSE</li><li>Organisateur : 14486 BASSE SUR LE RUPT SKI NORDIQUE</l
 i><li>Courriel : <!-- Cette adresse électronique est protégée contre les ro
 bots spammeurs. --><span class="cloaked_email ep_1eafc4cf"><span data-ep-b=
 "&#114;" data-ep-a="&#103;&#105;&#108;&#108;e"><span data-ep-b="&#110;&#103
 ;e&#46;&#102;" data-ep-a="&#99;&#104;r&#105;&#115;"><span data-ep-b="&#101;
 &#64;o&#114;a" data-ep-a="&#99;&#108;au&#100;"></span></span></span></span>
 <script>RegularLabs.EmailProtector.unCloak("ep_1eafc4cf");</script></li><li
 >Téléphone : 07 86 12 42 23</li><li><span class="gski-evenement-obs">Délégu
 é Technique : HUMBERTCLAUDE JULIEN</span></li></ul><div class="gski-eveneme
 nt-infos-2"><div class="gski-evenement-info-inscriptions"><div class="gski-
 evenement-inscriptions-periodes">Période d'inscription à l'evènement du dim
 anche 30 janvier 2022 à 00:00 au vendredi 04 février 2022 à 12:00<div class
 ="gski-evenement-inscriptions-types-titres">Inscriptions ouvertes aux deten
 teurs des titres Fédéraux valides suivants : Licenciés Compétiteurs</div></
 div></div><div class="gskiepreuves-links"><ul><li><a href="https://skivosge
 s.net/index.php?option=com_jevents&task=icalevent.detail&evid=1774&Itemid=6
 283">Voir les informations dans l'agenda...</a></li></ul></div><div class="
 gski-evenement-epreuves"><div class="gski-evenement-epreuves-titres">Epreuv
 es :</div><ul class="gski-evenement-epreuves-list"><li><div class="gski-epr
 euve-date">Le dimanche 06 février 2022</div><ul class="gski-epreuve-liste-i
 nfos"><li>Codex épreuve BMVF0051</li><li>Sprint</li><li>Catégorie(s) : U15 
 (Filles)</li></ul></li><li><div class="gski-epreuve-date">Le dimanche 06 fé
 vrier 2022</div><ul class="gski-epreuve-liste-infos"><li>Codex épreuve BMVM
 0051</li><li>Sprint</li><li>Catégorie(s) : U15 (Garçons)</li></ul></li><li>
 <div class="gski-epreuve-date">Le dimanche 06 février 2022</div><ul class="
 gski-epreuve-liste-infos"><li>Codex épreuve BMVF0052</li><li>Sprint</li><li
 >Catégorie(s) : U17 (Dames)</li></ul></li><li><div class="gski-epreuve-date
 ">Le dimanche 06 février 2022</div><ul class="gski-epreuve-liste-infos"><li
 >Codex épreuve BMVM0052</li><li>Sprint</li><li>Catégorie(s) : U17 (Hommes)<
 /li></ul></li><li><div class="gski-epreuve-date">Le dimanche 06 février 202
 2</div><ul class="gski-epreuve-liste-infos"><li>Codex épreuve BMVF0053</li>
 <li>Sprint</li><li>Catégorie(s) : U19 a SEN (Dames)</li></ul></li><li><div 
 class="gski-epreuve-date">Le dimanche 06 février 2022</div><ul class="gski-
 epreuve-liste-infos"><li>Codex épreuve BMVM0053</li><li>Sprint</li><li>Caté
 gorie(s) : U19 a SEN (Hommes)</li></ul></li></ul></div><div class="gskiepre
 uves-links"><ul><li><a href="https://skivosges.net/index.php?option=com_jev
 ents&task=icalevent.detail&evid=1774&Itemid=6283">Voir les informations dan
 s l'agenda...</a></li></ul></div></div"><!-- #/gskiepreuve fin du dode géné
 ré par le plugin jevents pour GskiEpreuves. . Ne pas modifier cette ligne, 
 ni tout le contenu précedant.  #/gskiepreuve --> <a href="https://skivosges
 .net/agenda/export-synchronisation/detailevenement/1779/-/biathlon-regional
 -selection-arcon?tmpl=component">Cet évènement a été importé depuis :https:
 //skivosges.net/agenda/export-synchronisation/detailevenement/1779/-/biathl
 on-regional-selection-arcon?tmpl=component</a>DTSTAMP:20260423T142153
DTSTART;TZID=Europe/Paris;VALUE=DATE:20220206
DTEND;TZID=Europe/Paris;VALUE=DATE:20220207
SEQUENCE:0
TRANSP:OPAQUE
END:VEVENT
END:VCALENDAR