BEGIN:VCALENDAR
VERSION:2.0
PRODID:-//jEvents 2.0 for Joomla//EN
CALSCALE:GREGORIAN
METHOD:PUBLISH
BEGIN:VTIMEZONE
TZID:Europe/Paris
BEGIN:STANDARD
DTSTART:20210226T000000
RDATE:20210328T030000
TZOFFSETFROM:+0200
TZOFFSETTO:+0100
TZNAME:Europe/Paris CET
END:STANDARD
BEGIN:STANDARD
DTSTART:20211031T020000
RDATE:20220327T030000
TZOFFSETFROM:+0200
TZOFFSETTO:+0100
TZNAME:Europe/Paris CET
END:STANDARD
BEGIN:STANDARD
DTSTART:20221030T020000
RDATE:20230326T030000
TZOFFSETFROM:+0200
TZOFFSETTO:+0100
TZNAME:Europe/Paris CET
END:STANDARD
BEGIN:STANDARD
DTSTART:20231029T020000
RDATE:20240331T030000
TZOFFSETFROM:+0200
TZOFFSETTO:+0100
TZNAME:Europe/Paris CET
END:STANDARD
BEGIN:STANDARD
DTSTART:20241027T020000
RDATE:20250330T030000
TZOFFSETFROM:+0200
TZOFFSETTO:+0100
TZNAME:Europe/Paris CET
END:STANDARD
BEGIN:STANDARD
DTSTART:20251026T020000
RDATE:20260329T030000
TZOFFSETFROM:+0200
TZOFFSETTO:+0100
TZNAME:Europe/Paris CET
END:STANDARD
BEGIN:STANDARD
DTSTART:20261025T020000
RDATE:20270328T030000
TZOFFSETFROM:+0200
TZOFFSETTO:+0100
TZNAME:Europe/Paris CET
END:STANDARD
BEGIN:DAYLIGHT
DTSTART:20210328T030000
RDATE:20211031T020000
TZOFFSETFROM:+0100
TZOFFSETTO:+0200
TZNAME:Europe/Paris CEST
END:DAYLIGHT
BEGIN:DAYLIGHT
DTSTART:20220327T030000
RDATE:20221030T020000
TZOFFSETFROM:+0100
TZOFFSETTO:+0200
TZNAME:Europe/Paris CEST
END:DAYLIGHT
BEGIN:DAYLIGHT
DTSTART:20230326T030000
RDATE:20231029T020000
TZOFFSETFROM:+0100
TZOFFSETTO:+0200
TZNAME:Europe/Paris CEST
END:DAYLIGHT
BEGIN:DAYLIGHT
DTSTART:20240331T030000
RDATE:20241027T020000
TZOFFSETFROM:+0100
TZOFFSETTO:+0200
TZNAME:Europe/Paris CEST
END:DAYLIGHT
BEGIN:DAYLIGHT
DTSTART:20250330T030000
RDATE:20251026T020000
TZOFFSETFROM:+0100
TZOFFSETTO:+0200
TZNAME:Europe/Paris CEST
END:DAYLIGHT
BEGIN:DAYLIGHT
DTSTART:20260329T030000
RDATE:20261025T020000
TZOFFSETFROM:+0100
TZOFFSETTO:+0200
TZNAME:Europe/Paris CEST
END:DAYLIGHT
END:VTIMEZONE
BEGIN:VEVENT
UID:c9d74e2f7f38b20fb5ae060a6496d91d
CATEGORIES:Circuit Massif Jeunes (alpin)
CREATED:20211117T190002
SUMMARY:CJM U16
URL;VALUE=URI:https://skivosges.net/agenda/export-synchronisation/detailevenement/1802/-/
 cjm-u16?tmpl=component
DESCRIPTION:CJM U16\n - Codex évenement AMVT0510\n - Station : MARKSTEIN\n - Organisate
 ur : 14077 SKIEURS DE STRASBOURG\n - Courriel : RegularLabs.EmailProtector.
 unCloak("ep_3c1b4cf0");\n - Téléphone : +33672007798\n - Délégué Technique 
 : KOENIG DANIELPériode d'inscription à l'evènement du dimanche 20 février 2
 022 à 00:00 au vendredi 25 février 2022 à 12:00Inscriptions ouvertes aux de
 tenteurs des titres Fédéraux valides suivants : Licenciés Compétiteurs\n - 
 Voir les informations dans l'agenda... (/index.php?option=com_jevents&amp;t
 ask=icalevent.detail&amp;evid=1797&amp;Itemid=6283)\n - Vers les résultats.
 .. (/index.php?option=com_gskiepreuves&amp;view=afficheresultats&amp;format
 _option=tous&amp;filter[search]=AMVT0510&amp;filter[date_debut]=27-02-2022&
 amp;filter[date_fin]=27-02-2022&amp;code_activite=ALP&amp;Itemid=6283)Epreu
 ves :\n - Le dimanche 27 février 2022 à 10:00\n - Codex épreuve AMVM0511\n 
 - Slalom\n - Catégorie(s) : U16 (Garçons)\n - Le dimanche 27 février 2022 à
  10:00\n - Codex épreuve AMVF0511\n - Slalom\n - Catégorie(s) : U16 (Filles
 )\n - Voir les informations dans l'agenda... (/index.php?option=com_jevents
 &amp;task=icalevent.detail&amp;evid=1797&amp;Itemid=6283)\n - Vers les résu
 ltats... (/index.php?option=com_gskiepreuves&amp;view=afficheresultats&amp;
 format_option=tous&amp;filter[search]=AMVT0510&amp;filter[date_debut]=27-02
 -2022&amp;filter[date_fin]=27-02-2022&amp;code_activite=ALP&amp;Itemid=6283
 ) Cet évènement a été importé depuis :https://skivosges.net/agenda/export-s
 ynchronisation/detailevenement/1802/-/cjm-u16?tmpl=component
X-ALT-DESC;FMTTYPE=text/html:<!-- #gskiepreuve code généré par le plugin jevents pour GskiEpreuves. Ne p
 as modifier cette ligne, ni tout le contenu suivant  #gskiepreuve --><div c
 lass="gski-evenement_infos"><div class="gski-evenement-nom">CJM U16</div><d
 iv class="gski-evenement-report"></div><ul class="gski-evenement-liste-info
 s"><li>Codex évenement AMVT0510</li><li>Station : MARKSTEIN</li><li>Organis
 ateur : 14077 SKIEURS DE STRASBOURG</li><li>Courriel : <!-- Cette adresse é
 lectronique est protégée contre les robots spammeurs. --><span class="cloak
 ed_email ep_3c1b4cf0"><span data-ep-b="" data-ep-a="&#119;&#105;&#101;s&#46
 ;"><span data-ep-b="&#108;&#46;&#99;om" data-ep-a="c&#104;r&#105;s"><span d
 ata-ep-a="&#116;&#111;&#112;h&#101;" data-ep-b="&#64;gm&#97;i"></span></spa
 n></span></span><script>RegularLabs.EmailProtector.unCloak("ep_3c1b4cf0");<
 /script></li><li>Téléphone : +33672007798</li><li><span class="gski-eveneme
 nt-obs">Délégué Technique : KOENIG DANIEL</span></li></ul><div class="gski-
 evenement-infos-2"><div class="gski-evenement-info-inscriptions"><div class
 ="gski-evenement-inscriptions-periodes">Période d'inscription à l'evènement
  du dimanche 20 février 2022 à 00:00 au vendredi 25 février 2022 à 12:00<di
 v class="gski-evenement-inscriptions-types-titres">Inscriptions ouvertes au
 x detenteurs des titres Fédéraux valides suivants : Licenciés Compétiteurs<
 /div></div></div><div class="gskiepreuves-links"><ul><li><a href="https://s
 kivosges.net/index.php?option=com_jevents&task=icalevent.detail&evid=1797&I
 temid=6283">Voir les informations dans l'agenda...</a></li><li><a href="htt
 ps://skivosges.net/index.php?option=com_gskiepreuves&view=afficheresultats&
 format_option=tous&filter[search]=AMVT0510&filter[date_debut]=27-02-2022&fi
 lter[date_fin]=27-02-2022&code_activite=ALP&Itemid=6283">Vers les résultats
 ...</a></li></ul></div><div class="gski-evenement-epreuves"><div class="gsk
 i-evenement-epreuves-titres">Epreuves :</div><ul class="gski-evenement-epre
 uves-list"><li><div class="gski-epreuve-date">Le dimanche 27 février 2022 à
  10:00</div><ul class="gski-epreuve-liste-infos"><li>Codex épreuve AMVM0511
 </li><li>Slalom</li><li>Catégorie(s) : U16 (Garçons)</li></ul></li><li><div
  class="gski-epreuve-date">Le dimanche 27 février 2022 à 10:00</div><ul cla
 ss="gski-epreuve-liste-infos"><li>Codex épreuve AMVF0511</li><li>Slalom</li
 ><li>Catégorie(s) : U16 (Filles)</li></ul></li></ul></div><div class="gskie
 preuves-links"><ul><li><a href="https://skivosges.net/index.php?option=com_
 jevents&task=icalevent.detail&evid=1797&Itemid=6283">Voir les informations 
 dans l'agenda...</a></li><li><a href="https://skivosges.net/index.php?optio
 n=com_gskiepreuves&view=afficheresultats&format_option=tous&filter[search]=
 AMVT0510&filter[date_debut]=27-02-2022&filter[date_fin]=27-02-2022&code_act
 ivite=ALP&Itemid=6283">Vers les résultats...</a></li></ul></div></div"><!--
  #/gskiepreuve fin du dode généré par le plugin jevents pour GskiEpreuves. 
 . Ne pas modifier cette ligne, ni tout le contenu précedant.  #/gskiepreuve
  --> <a href="https://skivosges.net/agenda/export-synchronisation/detaileve
 nement/1802/-/cjm-u16?tmpl=component">Cet évènement a été importé depuis :h
 ttps://skivosges.net/agenda/export-synchronisation/detailevenement/1802/-/c
 jm-u16?tmpl=component</a>DTSTAMP:20260420T081520
DTSTART;TZID=Europe/Paris;VALUE=DATE:20220227
DTEND;TZID=Europe/Paris;VALUE=DATE:20220228
SEQUENCE:0
TRANSP:OPAQUE
END:VEVENT
END:VCALENDAR