BEGIN:VCALENDAR
VERSION:2.0
PRODID:-//jEvents 2.0 for Joomla//EN
CALSCALE:GREGORIAN
METHOD:PUBLISH
BEGIN:VTIMEZONE
TZID:Europe/Paris
BEGIN:STANDARD
DTSTART:20210305T000000
RDATE:20210328T030000
TZOFFSETFROM:+0200
TZOFFSETTO:+0100
TZNAME:Europe/Paris CET
END:STANDARD
BEGIN:STANDARD
DTSTART:20211031T020000
RDATE:20220327T030000
TZOFFSETFROM:+0200
TZOFFSETTO:+0100
TZNAME:Europe/Paris CET
END:STANDARD
BEGIN:STANDARD
DTSTART:20221030T020000
RDATE:20230326T030000
TZOFFSETFROM:+0200
TZOFFSETTO:+0100
TZNAME:Europe/Paris CET
END:STANDARD
BEGIN:STANDARD
DTSTART:20231029T020000
RDATE:20240331T030000
TZOFFSETFROM:+0200
TZOFFSETTO:+0100
TZNAME:Europe/Paris CET
END:STANDARD
BEGIN:STANDARD
DTSTART:20241027T020000
RDATE:20250330T030000
TZOFFSETFROM:+0200
TZOFFSETTO:+0100
TZNAME:Europe/Paris CET
END:STANDARD
BEGIN:STANDARD
DTSTART:20251026T020000
RDATE:20260329T030000
TZOFFSETFROM:+0200
TZOFFSETTO:+0100
TZNAME:Europe/Paris CET
END:STANDARD
BEGIN:STANDARD
DTSTART:20261025T020000
RDATE:20270328T030000
TZOFFSETFROM:+0200
TZOFFSETTO:+0100
TZNAME:Europe/Paris CET
END:STANDARD
BEGIN:DAYLIGHT
DTSTART:20210328T030000
RDATE:20211031T020000
TZOFFSETFROM:+0100
TZOFFSETTO:+0200
TZNAME:Europe/Paris CEST
END:DAYLIGHT
BEGIN:DAYLIGHT
DTSTART:20220327T030000
RDATE:20221030T020000
TZOFFSETFROM:+0100
TZOFFSETTO:+0200
TZNAME:Europe/Paris CEST
END:DAYLIGHT
BEGIN:DAYLIGHT
DTSTART:20230326T030000
RDATE:20231029T020000
TZOFFSETFROM:+0100
TZOFFSETTO:+0200
TZNAME:Europe/Paris CEST
END:DAYLIGHT
BEGIN:DAYLIGHT
DTSTART:20240331T030000
RDATE:20241027T020000
TZOFFSETFROM:+0100
TZOFFSETTO:+0200
TZNAME:Europe/Paris CEST
END:DAYLIGHT
BEGIN:DAYLIGHT
DTSTART:20250330T030000
RDATE:20251026T020000
TZOFFSETFROM:+0100
TZOFFSETTO:+0200
TZNAME:Europe/Paris CEST
END:DAYLIGHT
BEGIN:DAYLIGHT
DTSTART:20260329T030000
RDATE:20261025T020000
TZOFFSETFROM:+0100
TZOFFSETTO:+0200
TZNAME:Europe/Paris CEST
END:DAYLIGHT
END:VTIMEZONE
BEGIN:VEVENT
UID:2a6b285d8b30814e3cc7627fe137c3fe
CATEGORIES:Circuit Massif Jeunes (alpin)
CREATED:20211117T190002
SUMMARY:CJM MICRO COUPE Confiserie Gérômoise
URL;VALUE=URI:https://skivosges.net/agenda/export-synchronisation/detailevenement/1813/-/
 cjm-micro-coupe-confiserie-geromoise?tmpl=component
DESCRIPTION:<!-- #gskiepreuve code généré par le plugin jevents pour GskiEpreuves. Ne p
 as modifier cette ligne, ni tout le contenu suivant  #gskiepreuve --><div c
 lass="gski-evenement_infos"><div class="gski-evenement-nom">CJM MICRO COUPE
  Confiserie Gérômoise</div><div class="gski-evenement-report"></div><ul cla
 ss="gski-evenement-liste-infos"><li>Codex évenement AMVT0600</li><li>Lieu :
  LA MAUSELAINE</li><li>Station : GERARDMER</li><li>Piste : LE STADE</li><li
 >Organisateur : 14089 GERARDMER SKI ALPIN</li><li>Courriel : <!-- Cette adr
 esse électronique est protégée contre les robots spammeurs. --><span class=
 "cloaked_email ep_2106aa4a"><span data-ep-a="g&#101;rar" data-ep-b="&#101;&
 #46;&#102;&#114;"><span data-ep-b="&#111;&#114;&#97;&#110;&#103;" data-ep-a
 ="&#100;&#109;e&#114;-"><span data-ep-b="&#108;&#112;&#105;n&#64;" data-ep-
 a="&#115;k&#105;&#45;a"></span></span></span></span><script>RegularLabs.Ema
 ilProtector.unCloak("ep_2106aa4a");</script></li><li>Téléphone : 03 29 60 9
 8 04</li><li><span class="gski-evenement-obs">Délégué Technique : TURRI TIZ
 IANO</span></li></ul><div class="gski-evenement-infos-2"><div class="gski-e
 venement-info-inscriptions"><div class="gski-evenement-inscriptions-periode
 s">Période d'inscription à l'evènement du dimanche 27 février 2022 à 00:00 
 au samedi 05 mars 2022 à 11:50<div class="gski-evenement-inscriptions-types
 -titres">Inscriptions ouvertes aux detenteurs des titres Fédéraux valides s
 uivants : Licenciés Compétiteurs</div></div></div><div class="gski-evenemen
 t-info-live">L'épreuve sera chronométrée en direct sur https://skivosges.ne
 t/live</div><div class="gskiepreuves-links"><ul><li><a href="/index.php?opt
 ion=com_jevents&task=icalevent.detail&evid=1808&Itemid=6283">Voir les infor
 mations dans l'agenda...</a></li><li><a href="/index.php?option=com_gskiepr
 euves&view=afficheresultats&format_option=tous&filter[search]=AMVT0600&filt
 er[date_debut]=06-03-2022&filter[date_fin]=06-03-2022&code_activite=ALP&Ite
 mid=6283">Vers les résultats...</a></li><li>Publications concernant cet évè
 nement :<ul><li><a href="/index.php?option=com_content&view=article&id=7685
 &Itemid=6283">Dimanche 6 Mars 2022 à 12:09 : Le 06/03/2022 GERARDMER Résult
 ats</a></li></ul></li></ul></div><div class="gski-evenement-epreuves"><div 
 class="gski-evenement-epreuves-titres">Epreuves :</div><ul class="gski-even
 ement-epreuves-list"><li><div class="gski-epreuve-date">Le dimanche 06 mars
  2022 à 10:00</div><ul class="gski-epreuve-liste-infos"><li>Codex épreuve A
 MVM0601</li><li>Combine Race</li><li>Catégorie(s) : U8/U10 (Garçons)</li></
 ul></li><li><div class="gski-epreuve-date">Le dimanche 06 mars 2022</div><u
 l class="gski-epreuve-liste-infos"><li>Codex épreuve AMVF0601</li><li>Combi
 ne Race</li><li>Catégorie(s) : U8/U10 (Filles)</li></ul></li></ul></div><di
 v class="gskiepreuves-links"><ul><li><a href="/index.php?option=com_jevents
 &task=icalevent.detail&evid=1808&Itemid=6283">Voir les informations dans l'
 agenda...</a></li><li><a href="/index.php?option=com_gskiepreuves&view=affi
 cheresultats&format_option=tous&filter[search]=AMVT0600&filter[date_debut]=
 06-03-2022&filter[date_fin]=06-03-2022&code_activite=ALP&Itemid=6283">Vers 
 les résultats...</a></li><li>Publications concernant cet évènement :<ul><li
 ><a href="/index.php?option=com_content&view=article&id=7685&Itemid=6283">D
 imanche 6 Mars 2022 à 12:09 : Le 06/03/2022 GERARDMER Résultats</a></li></u
 l></li></ul></div></div"><!-- #/gskiepreuve fin du dode généré par le plugi
 n jevents pour GskiEpreuves. . Ne pas modifier cette ligne, ni tout le cont
 enu précedant.  #/gskiepreuve --> <a href="https://skivosges.net/agenda/exp
 ort-synchronisation/detailevenement/1813/-/cjm-micro-coupe-confiserie-gerom
 oise?tmpl=component">Cet évènement a été importé depuis :https://skivosges.
 net/agenda/export-synchronisation/detailevenement/1813/-/cjm-micro-coupe-co
 nfiserie-geromoise?tmpl=component</a>
X-ALT-DESC;FMTTYPE=text/html:<!-- #gskiepreuve code généré par le plugin jevents pour GskiEpreuves. Ne p
 as modifier cette ligne, ni tout le contenu suivant  #gskiepreuve --><div c
 lass="gski-evenement_infos"><div class="gski-evenement-nom">CJM MICRO COUPE
  Confiserie Gérômoise</div><div class="gski-evenement-report"></div><ul cla
 ss="gski-evenement-liste-infos"><li>Codex évenement AMVT0600</li><li>Lieu :
  LA MAUSELAINE</li><li>Station : GERARDMER</li><li>Piste : LE STADE</li><li
 >Organisateur : 14089 GERARDMER SKI ALPIN</li><li>Courriel : <!-- Cette adr
 esse électronique est protégée contre les robots spammeurs. --><span class=
 "cloaked_email ep_2106aa4a"><span data-ep-a="g&#101;rar" data-ep-b="&#101;&
 #46;&#102;&#114;"><span data-ep-b="&#111;&#114;&#97;&#110;&#103;" data-ep-a
 ="&#100;&#109;e&#114;-"><span data-ep-b="&#108;&#112;&#105;n&#64;" data-ep-
 a="&#115;k&#105;&#45;a"></span></span></span></span><script>RegularLabs.Ema
 ilProtector.unCloak("ep_2106aa4a");</script></li><li>Téléphone : 03 29 60 9
 8 04</li><li><span class="gski-evenement-obs">Délégué Technique : TURRI TIZ
 IANO</span></li></ul><div class="gski-evenement-infos-2"><div class="gski-e
 venement-info-inscriptions"><div class="gski-evenement-inscriptions-periode
 s">Période d'inscription à l'evènement du dimanche 27 février 2022 à 00:00 
 au samedi 05 mars 2022 à 11:50<div class="gski-evenement-inscriptions-types
 -titres">Inscriptions ouvertes aux detenteurs des titres Fédéraux valides s
 uivants : Licenciés Compétiteurs</div></div></div><div class="gski-evenemen
 t-info-live">L'épreuve sera chronométrée en direct sur https://skivosges.ne
 t/live</div><div class="gskiepreuves-links"><ul><li><a href="https://skivos
 ges.net/index.php?option=com_jevents&task=icalevent.detail&evid=1808&Itemid
 =6283">Voir les informations dans l'agenda...</a></li><li><a href="https://
 skivosges.net/index.php?option=com_gskiepreuves&view=afficheresultats&forma
 t_option=tous&filter[search]=AMVT0600&filter[date_debut]=06-03-2022&filter[
 date_fin]=06-03-2022&code_activite=ALP&Itemid=6283">Vers les résultats...</
 a></li><li>Publications concernant cet évènement :<ul><li><a href="https://
 skivosges.net/index.php?option=com_content&view=article&id=7685&Itemid=6283
 ">Dimanche 6 Mars 2022 à 12:09 : Le 06/03/2022 GERARDMER Résultats</a></li>
 </ul></li></ul></div><div class="gski-evenement-epreuves"><div class="gski-
 evenement-epreuves-titres">Epreuves :</div><ul class="gski-evenement-epreuv
 es-list"><li><div class="gski-epreuve-date">Le dimanche 06 mars 2022 à 10:0
 0</div><ul class="gski-epreuve-liste-infos"><li>Codex épreuve AMVM0601</li>
 <li>Combine Race</li><li>Catégorie(s) : U8/U10 (Garçons)</li></ul></li><li>
 <div class="gski-epreuve-date">Le dimanche 06 mars 2022</div><ul class="gsk
 i-epreuve-liste-infos"><li>Codex épreuve AMVF0601</li><li>Combine Race</li>
 <li>Catégorie(s) : U8/U10 (Filles)</li></ul></li></ul></div><div class="gsk
 iepreuves-links"><ul><li><a href="https://skivosges.net/index.php?option=co
 m_jevents&task=icalevent.detail&evid=1808&Itemid=6283">Voir les information
 s dans l'agenda...</a></li><li><a href="https://skivosges.net/index.php?opt
 ion=com_gskiepreuves&view=afficheresultats&format_option=tous&filter[search
 ]=AMVT0600&filter[date_debut]=06-03-2022&filter[date_fin]=06-03-2022&code_a
 ctivite=ALP&Itemid=6283">Vers les résultats...</a></li><li>Publications con
 cernant cet évènement :<ul><li><a href="https://skivosges.net/index.php?opt
 ion=com_content&view=article&id=7685&Itemid=6283">Dimanche 6 Mars 2022 à 12
 :09 : Le 06/03/2022 GERARDMER Résultats</a></li></ul></li></ul></div></div"
 ><!-- #/gskiepreuve fin du dode généré par le plugin jevents pour GskiEpreu
 ves. . Ne pas modifier cette ligne, ni tout le contenu précedant.  #/gskiep
 reuve --> <a href="https://skivosges.net/agenda/export-synchronisation/deta
 ilevenement/1813/-/cjm-micro-coupe-confiserie-geromoise?tmpl=component">Cet
  évènement a été importé depuis :https://skivosges.net/agenda/export-synchr
 onisation/detailevenement/1813/-/cjm-micro-coupe-confiserie-geromoise?tmpl=
 component</a>DTSTAMP:20260420T112611
DTSTART;TZID=Europe/Paris;VALUE=DATE:20220306
DTEND;TZID=Europe/Paris;VALUE=DATE:20220307
SEQUENCE:0
TRANSP:OPAQUE
END:VEVENT
END:VCALENDAR