BEGIN:VCALENDAR
VERSION:2.0
PRODID:-//jEvents 2.0 for Joomla//EN
CALSCALE:GREGORIAN
METHOD:PUBLISH
BEGIN:VTIMEZONE
TZID:Europe/Paris
BEGIN:STANDARD
DTSTART:20210312T000000
RDATE:20210328T030000
TZOFFSETFROM:+0200
TZOFFSETTO:+0100
TZNAME:Europe/Paris CET
END:STANDARD
BEGIN:STANDARD
DTSTART:20211031T020000
RDATE:20220327T030000
TZOFFSETFROM:+0200
TZOFFSETTO:+0100
TZNAME:Europe/Paris CET
END:STANDARD
BEGIN:STANDARD
DTSTART:20221030T020000
RDATE:20230326T030000
TZOFFSETFROM:+0200
TZOFFSETTO:+0100
TZNAME:Europe/Paris CET
END:STANDARD
BEGIN:STANDARD
DTSTART:20231029T020000
RDATE:20240331T030000
TZOFFSETFROM:+0200
TZOFFSETTO:+0100
TZNAME:Europe/Paris CET
END:STANDARD
BEGIN:STANDARD
DTSTART:20241027T020000
RDATE:20250330T030000
TZOFFSETFROM:+0200
TZOFFSETTO:+0100
TZNAME:Europe/Paris CET
END:STANDARD
BEGIN:STANDARD
DTSTART:20251026T020000
RDATE:20260329T030000
TZOFFSETFROM:+0200
TZOFFSETTO:+0100
TZNAME:Europe/Paris CET
END:STANDARD
BEGIN:STANDARD
DTSTART:20261025T020000
RDATE:20270328T030000
TZOFFSETFROM:+0200
TZOFFSETTO:+0100
TZNAME:Europe/Paris CET
END:STANDARD
BEGIN:DAYLIGHT
DTSTART:20210328T030000
RDATE:20211031T020000
TZOFFSETFROM:+0100
TZOFFSETTO:+0200
TZNAME:Europe/Paris CEST
END:DAYLIGHT
BEGIN:DAYLIGHT
DTSTART:20220327T030000
RDATE:20221030T020000
TZOFFSETFROM:+0100
TZOFFSETTO:+0200
TZNAME:Europe/Paris CEST
END:DAYLIGHT
BEGIN:DAYLIGHT
DTSTART:20230326T030000
RDATE:20231029T020000
TZOFFSETFROM:+0100
TZOFFSETTO:+0200
TZNAME:Europe/Paris CEST
END:DAYLIGHT
BEGIN:DAYLIGHT
DTSTART:20240331T030000
RDATE:20241027T020000
TZOFFSETFROM:+0100
TZOFFSETTO:+0200
TZNAME:Europe/Paris CEST
END:DAYLIGHT
BEGIN:DAYLIGHT
DTSTART:20250330T030000
RDATE:20251026T020000
TZOFFSETFROM:+0100
TZOFFSETTO:+0200
TZNAME:Europe/Paris CEST
END:DAYLIGHT
BEGIN:DAYLIGHT
DTSTART:20260329T030000
RDATE:20261025T020000
TZOFFSETFROM:+0100
TZOFFSETTO:+0200
TZNAME:Europe/Paris CEST
END:DAYLIGHT
END:VTIMEZONE
BEGIN:VEVENT
UID:149a99b4a48f2d1a5f56913c79bb8f6c
CATEGORIES:Circuit Massif Jeunes (alpin)
CREATED:20211117T190002
SUMMARY:CJM U16 "Trot top"
URL;VALUE=URI:https://skivosges.net/agenda/export-synchronisation/detailevenement/1821/-/
 cjm-u16-trot-top?tmpl=component
DESCRIPTION:<!-- #gskiepreuve code généré par le plugin jevents pour GskiEpreuves. Ne p
 as modifier cette ligne, ni tout le contenu suivant  #gskiepreuve --><div c
 lass="gski-evenement_infos"><div class="gski-evenement-nom">CJM U16 "Trot t
 op"</div><div class="gski-evenement-report"></div><ul class="gski-evenement
 -liste-infos"><li>Codex évenement AMVT0680</li><li>Station : GERARDMER</li>
 <li>Organisateur : 14089 GERARDMER SKI ALPIN</li><li>Courriel : <!-- Cette 
 adresse électronique est protégée contre les robots spammeurs. --><span cla
 ss="cloaked_email ep_a8c8c6ee"><span data-ep-b="&#101;&#46;&#102;r" data-ep
 -a="&#103;&#101;&#114;a&#114;"><span data-ep-b="&#111;&#114;&#97;n&#103;" d
 ata-ep-a="&#100;&#109;&#101;&#114;&#45;"><span data-ep-b="&#108;&#112;&#105
 ;n&#64;" data-ep-a="&#115;k&#105;&#45;&#97;"></span></span></span></span><s
 cript>RegularLabs.EmailProtector.unCloak("ep_a8c8c6ee");</script></li><li>T
 éléphone : 03 29 60 98 04</li><li><span class="gski-evenement-obs">Délégué 
 Technique : FUCHS MICHEL</span></li></ul><div class="gski-evenement-infos-2
 "><div class="gski-evenement-info-inscriptions"><div class="gski-evenement-
 inscriptions-periodes">Période d'inscription à l'evènement du dimanche 06 m
 ars 2022 à 00:00 au vendredi 11 mars 2022 à 14:00<div class="gski-evenement
 -inscriptions-types-titres">Inscriptions ouvertes aux detenteurs des titres
  Fédéraux valides suivants : Licenciés Compétiteurs</div></div></div><div c
 lass="gski-evenement-info-live">L'épreuve sera chronométrée en direct sur h
 ttps://skivosges.net/live</div><div class="gskiepreuves-links"><ul><li><a h
 ref="/index.php?option=com_jevents&task=icalevent.detail&evid=1816&Itemid=6
 283">Voir les informations dans l'agenda...</a></li><li><a href="/index.php
 ?option=com_gskiepreuves&view=afficheresultats&format_option=tous&filter[se
 arch]=AMVT0680&filter[date_debut]=13-03-2022&filter[date_fin]=13-03-2022&co
 de_activite=ALP&Itemid=6283">Vers les résultats...</a></li><li>Publications
  concernant cet évènement :<ul><li><a href="/index.php?option=com_content&v
 iew=article&id=7712&Itemid=6283">Dimanche 13 Mars 2022 à 11:58 : Le 13/03/2
 022 GERARDMER Résultats</a></li></ul></li></ul></div><div class="gski-evene
 ment-epreuves"><div class="gski-evenement-epreuves-titres">Epreuves :</div>
 <ul class="gski-evenement-epreuves-list"><li><div class="gski-epreuve-date"
 >Le dimanche 13 mars 2022 à 10:00</div><ul class="gski-epreuve-liste-infos"
 ><li>Codex épreuve AMVM0681</li><li>Slalom Geant</li><li>Catégorie(s) : U16
  (Garçons)</li></ul></li><li><div class="gski-epreuve-date">Le dimanche 13 
 mars 2022 à 10:00</div><ul class="gski-epreuve-liste-infos"><li>Codex épreu
 ve AMVF0681</li><li>Slalom Geant</li><li>Catégorie(s) : U16 (Filles)</li></
 ul></li></ul></div><div class="gskiepreuves-links"><ul><li><a href="/index.
 php?option=com_jevents&task=icalevent.detail&evid=1816&Itemid=6283">Voir le
 s informations dans l'agenda...</a></li><li><a href="/index.php?option=com_
 gskiepreuves&view=afficheresultats&format_option=tous&filter[search]=AMVT06
 80&filter[date_debut]=13-03-2022&filter[date_fin]=13-03-2022&code_activite=
 ALP&Itemid=6283">Vers les résultats...</a></li><li>Publications concernant 
 cet évènement :<ul><li><a href="/index.php?option=com_content&view=article&
 id=7712&Itemid=6283">Dimanche 13 Mars 2022 à 11:58 : Le 13/03/2022 GERARDME
 R Résultats</a></li></ul></li></ul></div></div"><!-- #/gskiepreuve fin du d
 ode généré par le plugin jevents pour GskiEpreuves. . Ne pas modifier cette
  ligne, ni tout le contenu précedant.  #/gskiepreuve --> <a href="https://s
 kivosges.net/agenda/export-synchronisation/detailevenement/1821/-/cjm-u16-t
 rot-top?tmpl=component">Cet évènement a été importé depuis :https://skivosg
 es.net/agenda/export-synchronisation/detailevenement/1821/-/cjm-u16-trot-to
 p?tmpl=component</a>
X-ALT-DESC;FMTTYPE=text/html:<!-- #gskiepreuve code généré par le plugin jevents pour GskiEpreuves. Ne p
 as modifier cette ligne, ni tout le contenu suivant  #gskiepreuve --><div c
 lass="gski-evenement_infos"><div class="gski-evenement-nom">CJM U16 "Trot t
 op"</div><div class="gski-evenement-report"></div><ul class="gski-evenement
 -liste-infos"><li>Codex évenement AMVT0680</li><li>Station : GERARDMER</li>
 <li>Organisateur : 14089 GERARDMER SKI ALPIN</li><li>Courriel : <!-- Cette 
 adresse électronique est protégée contre les robots spammeurs. --><span cla
 ss="cloaked_email ep_a8c8c6ee"><span data-ep-b="&#101;&#46;&#102;r" data-ep
 -a="&#103;&#101;&#114;a&#114;"><span data-ep-b="&#111;&#114;&#97;n&#103;" d
 ata-ep-a="&#100;&#109;&#101;&#114;&#45;"><span data-ep-b="&#108;&#112;&#105
 ;n&#64;" data-ep-a="&#115;k&#105;&#45;&#97;"></span></span></span></span><s
 cript>RegularLabs.EmailProtector.unCloak("ep_a8c8c6ee");</script></li><li>T
 éléphone : 03 29 60 98 04</li><li><span class="gski-evenement-obs">Délégué 
 Technique : FUCHS MICHEL</span></li></ul><div class="gski-evenement-infos-2
 "><div class="gski-evenement-info-inscriptions"><div class="gski-evenement-
 inscriptions-periodes">Période d'inscription à l'evènement du dimanche 06 m
 ars 2022 à 00:00 au vendredi 11 mars 2022 à 14:00<div class="gski-evenement
 -inscriptions-types-titres">Inscriptions ouvertes aux detenteurs des titres
  Fédéraux valides suivants : Licenciés Compétiteurs</div></div></div><div c
 lass="gski-evenement-info-live">L'épreuve sera chronométrée en direct sur h
 ttps://skivosges.net/live</div><div class="gskiepreuves-links"><ul><li><a h
 ref="https://skivosges.net/index.php?option=com_jevents&task=icalevent.deta
 il&evid=1816&Itemid=6283">Voir les informations dans l'agenda...</a></li><l
 i><a href="https://skivosges.net/index.php?option=com_gskiepreuves&view=aff
 icheresultats&format_option=tous&filter[search]=AMVT0680&filter[date_debut]
 =13-03-2022&filter[date_fin]=13-03-2022&code_activite=ALP&Itemid=6283">Vers
  les résultats...</a></li><li>Publications concernant cet évènement :<ul><l
 i><a href="https://skivosges.net/index.php?option=com_content&view=article&
 id=7712&Itemid=6283">Dimanche 13 Mars 2022 à 11:58 : Le 13/03/2022 GERARDME
 R Résultats</a></li></ul></li></ul></div><div class="gski-evenement-epreuve
 s"><div class="gski-evenement-epreuves-titres">Epreuves :</div><ul class="g
 ski-evenement-epreuves-list"><li><div class="gski-epreuve-date">Le dimanche
  13 mars 2022 à 10:00</div><ul class="gski-epreuve-liste-infos"><li>Codex é
 preuve AMVM0681</li><li>Slalom Geant</li><li>Catégorie(s) : U16 (Garçons)</
 li></ul></li><li><div class="gski-epreuve-date">Le dimanche 13 mars 2022 à 
 10:00</div><ul class="gski-epreuve-liste-infos"><li>Codex épreuve AMVF0681<
 /li><li>Slalom Geant</li><li>Catégorie(s) : U16 (Filles)</li></ul></li></ul
 ></div><div class="gskiepreuves-links"><ul><li><a href="https://skivosges.n
 et/index.php?option=com_jevents&task=icalevent.detail&evid=1816&Itemid=6283
 ">Voir les informations dans l'agenda...</a></li><li><a href="https://skivo
 sges.net/index.php?option=com_gskiepreuves&view=afficheresultats&format_opt
 ion=tous&filter[search]=AMVT0680&filter[date_debut]=13-03-2022&filter[date_
 fin]=13-03-2022&code_activite=ALP&Itemid=6283">Vers les résultats...</a></l
 i><li>Publications concernant cet évènement :<ul><li><a href="https://skivo
 sges.net/index.php?option=com_content&view=article&id=7712&Itemid=6283">Dim
 anche 13 Mars 2022 à 11:58 : Le 13/03/2022 GERARDMER Résultats</a></li></ul
 ></li></ul></div></div"><!-- #/gskiepreuve fin du dode généré par le plugin
  jevents pour GskiEpreuves. . Ne pas modifier cette ligne, ni tout le conte
 nu précedant.  #/gskiepreuve --> <a href="https://skivosges.net/agenda/expo
 rt-synchronisation/detailevenement/1821/-/cjm-u16-trot-top?tmpl=component">
 Cet évènement a été importé depuis :https://skivosges.net/agenda/export-syn
 chronisation/detailevenement/1821/-/cjm-u16-trot-top?tmpl=component</a>DTSTAMP:20260420T112532
DTSTART;TZID=Europe/Paris;VALUE=DATE:20220313
DTEND;TZID=Europe/Paris;VALUE=DATE:20220314
SEQUENCE:0
TRANSP:OPAQUE
END:VEVENT
END:VCALENDAR