BEGIN:VCALENDAR
VERSION:2.0
PRODID:-//jEvents 2.0 for Joomla//EN
CALSCALE:GREGORIAN
METHOD:PUBLISH
BEGIN:VTIMEZONE
TZID:Europe/Paris
BEGIN:STANDARD
DTSTART:20210312T000000
RDATE:20210328T030000
TZOFFSETFROM:+0200
TZOFFSETTO:+0100
TZNAME:Europe/Paris CET
END:STANDARD
BEGIN:STANDARD
DTSTART:20211031T020000
RDATE:20220327T030000
TZOFFSETFROM:+0200
TZOFFSETTO:+0100
TZNAME:Europe/Paris CET
END:STANDARD
BEGIN:STANDARD
DTSTART:20221030T020000
RDATE:20230326T030000
TZOFFSETFROM:+0200
TZOFFSETTO:+0100
TZNAME:Europe/Paris CET
END:STANDARD
BEGIN:STANDARD
DTSTART:20231029T020000
RDATE:20240331T030000
TZOFFSETFROM:+0200
TZOFFSETTO:+0100
TZNAME:Europe/Paris CET
END:STANDARD
BEGIN:STANDARD
DTSTART:20241027T020000
RDATE:20250330T030000
TZOFFSETFROM:+0200
TZOFFSETTO:+0100
TZNAME:Europe/Paris CET
END:STANDARD
BEGIN:STANDARD
DTSTART:20251026T020000
RDATE:20260329T030000
TZOFFSETFROM:+0200
TZOFFSETTO:+0100
TZNAME:Europe/Paris CET
END:STANDARD
BEGIN:STANDARD
DTSTART:20261025T020000
RDATE:20270328T030000
TZOFFSETFROM:+0200
TZOFFSETTO:+0100
TZNAME:Europe/Paris CET
END:STANDARD
BEGIN:DAYLIGHT
DTSTART:20210328T030000
RDATE:20211031T020000
TZOFFSETFROM:+0100
TZOFFSETTO:+0200
TZNAME:Europe/Paris CEST
END:DAYLIGHT
BEGIN:DAYLIGHT
DTSTART:20220327T030000
RDATE:20221030T020000
TZOFFSETFROM:+0100
TZOFFSETTO:+0200
TZNAME:Europe/Paris CEST
END:DAYLIGHT
BEGIN:DAYLIGHT
DTSTART:20230326T030000
RDATE:20231029T020000
TZOFFSETFROM:+0100
TZOFFSETTO:+0200
TZNAME:Europe/Paris CEST
END:DAYLIGHT
BEGIN:DAYLIGHT
DTSTART:20240331T030000
RDATE:20241027T020000
TZOFFSETFROM:+0100
TZOFFSETTO:+0200
TZNAME:Europe/Paris CEST
END:DAYLIGHT
BEGIN:DAYLIGHT
DTSTART:20250330T030000
RDATE:20251026T020000
TZOFFSETFROM:+0100
TZOFFSETTO:+0200
TZNAME:Europe/Paris CEST
END:DAYLIGHT
BEGIN:DAYLIGHT
DTSTART:20260329T030000
RDATE:20261025T020000
TZOFFSETFROM:+0100
TZOFFSETTO:+0200
TZNAME:Europe/Paris CEST
END:DAYLIGHT
END:VTIMEZONE
BEGIN:VEVENT
UID:a52d58b9dec3d4f459a3cefc777bfab8
CATEGORIES:Circuit Massif Jeunes (alpin)
CREATED:20211117T190002
SUMMARY:CJM U12 Prix de la Ville de Saint Dié des Vosges
URL;VALUE=URI:https://skivosges.net/agenda/export-synchronisation/detailevenement/1822/-/
 cjm-u12-prix-de-la-ville-de-saint-die-des-vosges?tmpl=component
DESCRIPTION:CJM U12 Prix de la Ville de Saint Dié des Vosges\n - Codex évenement AMVT06
 70\n - Lieu : LA BRESSE HOHNECK\n - Station : LA BRESSE\n - Piste : STADE D
 E SLALOM\n - Organisateur : 14454 SKI RACING DEODATIEN\n - Courriel : Regul
 arLabs.EmailProtector.unCloak("ep_30c0d736");\n - Téléphone : 0608855252\n 
 - Délégué Technique : HABERER BERNARDPériode d'inscription à l'evènement du
  dimanche 06 mars 2022 à 00:00 au vendredi 11 mars 2022 à 18:00Inscriptions
  ouvertes aux detenteurs des titres Fédéraux valides suivants : Licenciés C
 ompétiteurs\n - Voir les informations dans l'agenda... (/index.php?option=c
 om_jevents&amp;task=icalevent.detail&amp;evid=1817&amp;Itemid=6283)\n - Ver
 s les résultats... (/index.php?option=com_gskiepreuves&amp;view=afficheresu
 ltats&amp;format_option=tous&amp;filter[search]=AMVT0670&amp;filter[date_de
 but]=13-03-2022&amp;filter[date_fin]=13-03-2022&amp;code_activite=ALP&amp;I
 temid=6283)Epreuves :\n - Le dimanche 13 mars 2022 à 10:00\n - Codex épreuv
 e AMVM0671\n - Slalom Geant\n - Catégorie(s) : U12 (Garçons)\n - Le dimanch
 e 13 mars 2022 à 10:00\n - Codex épreuve AMVF0671\n - Slalom Geant\n - Caté
 gorie(s) : U12 (Filles)\n - Voir les informations dans l'agenda... (/index.
 php?option=com_jevents&amp;task=icalevent.detail&amp;evid=1817&amp;Itemid=6
 283)\n - Vers les résultats... (/index.php?option=com_gskiepreuves&amp;view
 =afficheresultats&amp;format_option=tous&amp;filter[search]=AMVT0670&amp;fi
 lter[date_debut]=13-03-2022&amp;filter[date_fin]=13-03-2022&amp;code_activi
 te=ALP&amp;Itemid=6283) Cet évènement a été importé depuis :https://skivosg
 es.net/agenda/export-synchronisation/detailevenement/1822/-/cjm-u12-prix-de
 -la-ville-de-saint-die-des-vosges?tmpl=component
X-ALT-DESC;FMTTYPE=text/html:<!-- #gskiepreuve code généré par le plugin jevents pour GskiEpreuves. Ne p
 as modifier cette ligne, ni tout le contenu suivant  #gskiepreuve --><div c
 lass="gski-evenement_infos"><div class="gski-evenement-nom">CJM U12 Prix de
  la Ville de Saint Dié des Vosges</div><div class="gski-evenement-report"><
 /div><ul class="gski-evenement-liste-infos"><li>Codex évenement AMVT0670</l
 i><li>Lieu : LA BRESSE HOHNECK</li><li>Station : LA BRESSE</li><li>Piste : 
 STADE DE SLALOM</li><li>Organisateur : 14454 SKI RACING DEODATIEN</li><li>C
 ourriel : <!-- Cette adresse électronique est protégée contre les robots sp
 ammeurs. --><span class="cloaked_email ep_30c0d736"><span data-ep-a="&#111;
 &#100;&#105;le" data-ep-b="&#102;&#114;"><span data-ep-a="&#46;mu&#110;&#11
 5;" data-ep-b="a&#110;&#103;e&#46;"><span data-ep-b="lb&#64;&#111;&#114;" d
 ata-ep-a="&#99;&#104;&#46;s&#99;"></span></span></span></span><script>Regul
 arLabs.EmailProtector.unCloak("ep_30c0d736");</script></li><li>Téléphone : 
 0608855252</li><li><span class="gski-evenement-obs">Délégué Technique : HAB
 ERER BERNARD</span></li></ul><div class="gski-evenement-infos-2"><div class
 ="gski-evenement-info-inscriptions"><div class="gski-evenement-inscriptions
 -periodes">Période d'inscription à l'evènement du dimanche 06 mars 2022 à 0
 0:00 au vendredi 11 mars 2022 à 18:00<div class="gski-evenement-inscription
 s-types-titres">Inscriptions ouvertes aux detenteurs des titres Fédéraux va
 lides suivants : Licenciés Compétiteurs</div></div></div><div class="gskiep
 reuves-links"><ul><li><a href="https://skivosges.net/index.php?option=com_j
 events&task=icalevent.detail&evid=1817&Itemid=6283">Voir les informations d
 ans l'agenda...</a></li><li><a href="https://skivosges.net/index.php?option
 =com_gskiepreuves&view=afficheresultats&format_option=tous&filter[search]=A
 MVT0670&filter[date_debut]=13-03-2022&filter[date_fin]=13-03-2022&code_acti
 vite=ALP&Itemid=6283">Vers les résultats...</a></li></ul></div><div class="
 gski-evenement-epreuves"><div class="gski-evenement-epreuves-titres">Epreuv
 es :</div><ul class="gski-evenement-epreuves-list"><li><div class="gski-epr
 euve-date">Le dimanche 13 mars 2022 à 10:00</div><ul class="gski-epreuve-li
 ste-infos"><li>Codex épreuve AMVM0671</li><li>Slalom Geant</li><li>Catégori
 e(s) : U12 (Garçons)</li></ul></li><li><div class="gski-epreuve-date">Le di
 manche 13 mars 2022 à 10:00</div><ul class="gski-epreuve-liste-infos"><li>C
 odex épreuve AMVF0671</li><li>Slalom Geant</li><li>Catégorie(s) : U12 (Fill
 es)</li></ul></li></ul></div><div class="gskiepreuves-links"><ul><li><a hre
 f="https://skivosges.net/index.php?option=com_jevents&task=icalevent.detail
 &evid=1817&Itemid=6283">Voir les informations dans l'agenda...</a></li><li>
 <a href="https://skivosges.net/index.php?option=com_gskiepreuves&view=affic
 heresultats&format_option=tous&filter[search]=AMVT0670&filter[date_debut]=1
 3-03-2022&filter[date_fin]=13-03-2022&code_activite=ALP&Itemid=6283">Vers l
 es résultats...</a></li></ul></div></div"><!-- #/gskiepreuve fin du dode gé
 néré par le plugin jevents pour GskiEpreuves. . Ne pas modifier cette ligne
 , ni tout le contenu précedant.  #/gskiepreuve --> <a href="https://skivosg
 es.net/agenda/export-synchronisation/detailevenement/1822/-/cjm-u12-prix-de
 -la-ville-de-saint-die-des-vosges?tmpl=component">Cet évènement a été impor
 té depuis :https://skivosges.net/agenda/export-synchronisation/detailevenem
 ent/1822/-/cjm-u12-prix-de-la-ville-de-saint-die-des-vosges?tmpl=component<
 /a>DTSTAMP:20260420T111919
DTSTART;TZID=Europe/Paris;VALUE=DATE:20220313
DTEND;TZID=Europe/Paris;VALUE=DATE:20220314
SEQUENCE:0
TRANSP:OPAQUE
END:VEVENT
END:VCALENDAR