BEGIN:VCALENDAR
VERSION:2.0
PRODID:-//jEvents 2.0 for Joomla//EN
CALSCALE:GREGORIAN
METHOD:PUBLISH
BEGIN:VTIMEZONE
TZID:Europe/Paris
BEGIN:STANDARD
DTSTART:20130320T080000
RDATE:20130331T030000
TZOFFSETFROM:+0200
TZOFFSETTO:+0100
TZNAME:Europe/Paris CET
END:STANDARD
BEGIN:STANDARD
DTSTART:20131027T020000
RDATE:20140330T030000
TZOFFSETFROM:+0200
TZOFFSETTO:+0100
TZNAME:Europe/Paris CET
END:STANDARD
BEGIN:STANDARD
DTSTART:20141026T020000
RDATE:20150329T030000
TZOFFSETFROM:+0200
TZOFFSETTO:+0100
TZNAME:Europe/Paris CET
END:STANDARD
BEGIN:STANDARD
DTSTART:20151025T020000
RDATE:20160327T030000
TZOFFSETFROM:+0200
TZOFFSETTO:+0100
TZNAME:Europe/Paris CET
END:STANDARD
BEGIN:STANDARD
DTSTART:20161030T020000
RDATE:20170326T030000
TZOFFSETFROM:+0200
TZOFFSETTO:+0100
TZNAME:Europe/Paris CET
END:STANDARD
BEGIN:STANDARD
DTSTART:20171029T020000
RDATE:20180325T030000
TZOFFSETFROM:+0200
TZOFFSETTO:+0100
TZNAME:Europe/Paris CET
END:STANDARD
BEGIN:STANDARD
DTSTART:20181028T020000
RDATE:20190331T030000
TZOFFSETFROM:+0200
TZOFFSETTO:+0100
TZNAME:Europe/Paris CET
END:STANDARD
BEGIN:STANDARD
DTSTART:20191027T020000
RDATE:20200329T030000
TZOFFSETFROM:+0200
TZOFFSETTO:+0100
TZNAME:Europe/Paris CET
END:STANDARD
BEGIN:STANDARD
DTSTART:20201025T020000
RDATE:20210328T030000
TZOFFSETFROM:+0200
TZOFFSETTO:+0100
TZNAME:Europe/Paris CET
END:STANDARD
BEGIN:STANDARD
DTSTART:20211031T020000
RDATE:20220327T030000
TZOFFSETFROM:+0200
TZOFFSETTO:+0100
TZNAME:Europe/Paris CET
END:STANDARD
BEGIN:STANDARD
DTSTART:20221030T020000
RDATE:20230326T030000
TZOFFSETFROM:+0200
TZOFFSETTO:+0100
TZNAME:Europe/Paris CET
END:STANDARD
BEGIN:STANDARD
DTSTART:20231029T020000
RDATE:20240331T030000
TZOFFSETFROM:+0200
TZOFFSETTO:+0100
TZNAME:Europe/Paris CET
END:STANDARD
BEGIN:STANDARD
DTSTART:20241027T020000
RDATE:20250330T030000
TZOFFSETFROM:+0200
TZOFFSETTO:+0100
TZNAME:Europe/Paris CET
END:STANDARD
BEGIN:STANDARD
DTSTART:20251026T020000
RDATE:20260329T030000
TZOFFSETFROM:+0200
TZOFFSETTO:+0100
TZNAME:Europe/Paris CET
END:STANDARD
BEGIN:STANDARD
DTSTART:20261025T020000
RDATE:20270328T030000
TZOFFSETFROM:+0200
TZOFFSETTO:+0100
TZNAME:Europe/Paris CET
END:STANDARD
BEGIN:DAYLIGHT
DTSTART:20130331T030000
RDATE:20131027T020000
TZOFFSETFROM:+0100
TZOFFSETTO:+0200
TZNAME:Europe/Paris CEST
END:DAYLIGHT
BEGIN:DAYLIGHT
DTSTART:20140330T030000
RDATE:20141026T020000
TZOFFSETFROM:+0100
TZOFFSETTO:+0200
TZNAME:Europe/Paris CEST
END:DAYLIGHT
BEGIN:DAYLIGHT
DTSTART:20150329T030000
RDATE:20151025T020000
TZOFFSETFROM:+0100
TZOFFSETTO:+0200
TZNAME:Europe/Paris CEST
END:DAYLIGHT
BEGIN:DAYLIGHT
DTSTART:20160327T030000
RDATE:20161030T020000
TZOFFSETFROM:+0100
TZOFFSETTO:+0200
TZNAME:Europe/Paris CEST
END:DAYLIGHT
BEGIN:DAYLIGHT
DTSTART:20170326T030000
RDATE:20171029T020000
TZOFFSETFROM:+0100
TZOFFSETTO:+0200
TZNAME:Europe/Paris CEST
END:DAYLIGHT
BEGIN:DAYLIGHT
DTSTART:20180325T030000
RDATE:20181028T020000
TZOFFSETFROM:+0100
TZOFFSETTO:+0200
TZNAME:Europe/Paris CEST
END:DAYLIGHT
BEGIN:DAYLIGHT
DTSTART:20190331T030000
RDATE:20191027T020000
TZOFFSETFROM:+0100
TZOFFSETTO:+0200
TZNAME:Europe/Paris CEST
END:DAYLIGHT
BEGIN:DAYLIGHT
DTSTART:20200329T030000
RDATE:20201025T020000
TZOFFSETFROM:+0100
TZOFFSETTO:+0200
TZNAME:Europe/Paris CEST
END:DAYLIGHT
BEGIN:DAYLIGHT
DTSTART:20210328T030000
RDATE:20211031T020000
TZOFFSETFROM:+0100
TZOFFSETTO:+0200
TZNAME:Europe/Paris CEST
END:DAYLIGHT
BEGIN:DAYLIGHT
DTSTART:20220327T030000
RDATE:20221030T020000
TZOFFSETFROM:+0100
TZOFFSETTO:+0200
TZNAME:Europe/Paris CEST
END:DAYLIGHT
BEGIN:DAYLIGHT
DTSTART:20230326T030000
RDATE:20231029T020000
TZOFFSETFROM:+0100
TZOFFSETTO:+0200
TZNAME:Europe/Paris CEST
END:DAYLIGHT
BEGIN:DAYLIGHT
DTSTART:20240331T030000
RDATE:20241027T020000
TZOFFSETFROM:+0100
TZOFFSETTO:+0200
TZNAME:Europe/Paris CEST
END:DAYLIGHT
BEGIN:DAYLIGHT
DTSTART:20250330T030000
RDATE:20251026T020000
TZOFFSETFROM:+0100
TZOFFSETTO:+0200
TZNAME:Europe/Paris CEST
END:DAYLIGHT
BEGIN:DAYLIGHT
DTSTART:20260329T030000
RDATE:20261025T020000
TZOFFSETFROM:+0100
TZOFFSETTO:+0200
TZNAME:Europe/Paris CEST
END:DAYLIGHT
END:VTIMEZONE
BEGIN:VEVENT
UID:d28853330b85552ea1caf383aab7dae2
CATEGORIES:Circuit Massif Masters (alpin)
CREATED:20131203T122100
SUMMARY:GPM        GP Challenge Jean Paul Jaegle *** ANNULE(E) ***
URL;VALUE=URI:https://skivosges.net/agenda/export-synchronisation/detailevenement/186/-/g
 pm-gp-challenge-jean-paul-jaegle-annule-e?tmpl=component
DESCRIPTION:GPM        GP Challenge Jean Paul Jaegle (Epreuve annulée) \n(Grand Prix Ma
 sters)\n\nLieu : LAC BLANC \nOrganisateur : SKI TEAM AVENIR VALLEE DE WEISS
   (14343 SKI TEAM AVENIR VALLEE DE WEISS)\nEmail : RegularLabs.EmailProtect
 or.unCloak("ep_49401685");\nTelecopie : 03 89 78 23 01\n\nInscriptions en c
 ours sur ce site\n  Organisateur:SKI TEAM AVENIR VALLEE DE WEIS\n - AMVF082
 1  Slalom Geant (Courses Masters) Tous les Masters Dames Dames\n  GPM      
   GP Challenge Jean Paul Jaegle\n  Organisateur:SKI TEAM AVENIR VALLEE DE W
 EIS\n - AMVM0821  Slalom Geant (Courses Masters) Tous les Masters Hommes Ho
 mmes\n  GPM        GP Challenge Jean Paul Jaegle Cet évènement a été import
 é depuis :https://skivosges.net/agenda/export-synchronisation/detaileveneme
 nt/186/-/gpm-gp-challenge-jean-paul-jaegle-annule-e?tmpl=component
X-ALT-DESC;FMTTYPE=text/html:<strong>GPM        GP Challenge Jean Paul Jaegle</strong> <font class="atte
 ntion4">(Epreuve annulée)</font> <br /><i>(Grand Prix Masters)</i><br /><br
  />Lieu : LAC BLANC <br />Organisateur : SKI TEAM AVENIR VALLEE DE WEISS  <
 small>(14343 SKI TEAM AVENIR VALLEE DE WEISS)</small><br />Email : <!-- Cet
 te adresse électronique est protégée contre les robots spammeurs. --><span 
 class="cloaked_email ep_49401685"><span data-ep-b="&#114;" data-ep-a="&#115
 ;t&#97;"><span data-ep-a="v&#119;&#64;" data-ep-b="&#111;&#46;f"><span data
 -ep-b="&#97;&#100;&#111;" data-ep-a="w&#97;&#110;"></span></span></span></s
 pan><script>RegularLabs.EmailProtector.unCloak("ep_49401685");</script><br 
 />Telecopie : 03 89 78 23 01<br /><br />Inscriptions en cours sur ce site<u
 l type="disc"><br />&nbsp;&nbsp;Organisateur:SKI TEAM AVENIR VALLEE DE WEIS
 <li>AMVF0821  Slalom Geant <nobr><i>(Courses Masters)</i></nobr> <nobr>Tous
  les Masters Dames</nobr> Dames<br />&nbsp;&nbsp;GPM        GP Challenge Je
 an Paul Jaegle</li><br />&nbsp;&nbsp;Organisateur:SKI TEAM AVENIR VALLEE DE
  WEIS<li>AMVM0821  Slalom Geant <nobr><i>(Courses Masters)</i></nobr> <nobr
 >Tous les Masters Hommes</nobr> Hommes<br />&nbsp;&nbsp;GPM        GP Chall
 enge Jean Paul Jaegle</li></ul> <a href="https://skivosges.net/agenda/expor
 t-synchronisation/detailevenement/186/-/gpm-gp-challenge-jean-paul-jaegle-a
 nnule-e?tmpl=component">Cet évènement a été importé depuis :https://skivosg
 es.net/agenda/export-synchronisation/detailevenement/186/-/gpm-gp-challenge
 -jean-paul-jaegle-annule-e?tmpl=component</a>DTSTAMP:20260421T050712
DTSTART;TZID=Europe/Paris:20140321T080000
DTEND;TZID=Europe/Paris:20140321T170000
SEQUENCE:0
TRANSP:OPAQUE
END:VEVENT
END:VCALENDAR