BEGIN:VCALENDAR
VERSION:2.0
PRODID:-//jEvents 2.0 for Joomla//EN
CALSCALE:GREGORIAN
METHOD:PUBLISH
BEGIN:VTIMEZONE
TZID:Europe/Paris
BEGIN:STANDARD
DTSTART:20130321T080000
RDATE:20130331T030000
TZOFFSETFROM:+0200
TZOFFSETTO:+0100
TZNAME:Europe/Paris CET
END:STANDARD
BEGIN:STANDARD
DTSTART:20131027T020000
RDATE:20140330T030000
TZOFFSETFROM:+0200
TZOFFSETTO:+0100
TZNAME:Europe/Paris CET
END:STANDARD
BEGIN:STANDARD
DTSTART:20141026T020000
RDATE:20150329T030000
TZOFFSETFROM:+0200
TZOFFSETTO:+0100
TZNAME:Europe/Paris CET
END:STANDARD
BEGIN:STANDARD
DTSTART:20151025T020000
RDATE:20160327T030000
TZOFFSETFROM:+0200
TZOFFSETTO:+0100
TZNAME:Europe/Paris CET
END:STANDARD
BEGIN:STANDARD
DTSTART:20161030T020000
RDATE:20170326T030000
TZOFFSETFROM:+0200
TZOFFSETTO:+0100
TZNAME:Europe/Paris CET
END:STANDARD
BEGIN:STANDARD
DTSTART:20171029T020000
RDATE:20180325T030000
TZOFFSETFROM:+0200
TZOFFSETTO:+0100
TZNAME:Europe/Paris CET
END:STANDARD
BEGIN:STANDARD
DTSTART:20181028T020000
RDATE:20190331T030000
TZOFFSETFROM:+0200
TZOFFSETTO:+0100
TZNAME:Europe/Paris CET
END:STANDARD
BEGIN:STANDARD
DTSTART:20191027T020000
RDATE:20200329T030000
TZOFFSETFROM:+0200
TZOFFSETTO:+0100
TZNAME:Europe/Paris CET
END:STANDARD
BEGIN:STANDARD
DTSTART:20201025T020000
RDATE:20210328T030000
TZOFFSETFROM:+0200
TZOFFSETTO:+0100
TZNAME:Europe/Paris CET
END:STANDARD
BEGIN:STANDARD
DTSTART:20211031T020000
RDATE:20220327T030000
TZOFFSETFROM:+0200
TZOFFSETTO:+0100
TZNAME:Europe/Paris CET
END:STANDARD
BEGIN:STANDARD
DTSTART:20221030T020000
RDATE:20230326T030000
TZOFFSETFROM:+0200
TZOFFSETTO:+0100
TZNAME:Europe/Paris CET
END:STANDARD
BEGIN:STANDARD
DTSTART:20231029T020000
RDATE:20240331T030000
TZOFFSETFROM:+0200
TZOFFSETTO:+0100
TZNAME:Europe/Paris CET
END:STANDARD
BEGIN:STANDARD
DTSTART:20241027T020000
RDATE:20250330T030000
TZOFFSETFROM:+0200
TZOFFSETTO:+0100
TZNAME:Europe/Paris CET
END:STANDARD
BEGIN:STANDARD
DTSTART:20251026T020000
RDATE:20260329T030000
TZOFFSETFROM:+0200
TZOFFSETTO:+0100
TZNAME:Europe/Paris CET
END:STANDARD
BEGIN:STANDARD
DTSTART:20261025T020000
RDATE:20270328T030000
TZOFFSETFROM:+0200
TZOFFSETTO:+0100
TZNAME:Europe/Paris CET
END:STANDARD
BEGIN:DAYLIGHT
DTSTART:20130331T030000
RDATE:20131027T020000
TZOFFSETFROM:+0100
TZOFFSETTO:+0200
TZNAME:Europe/Paris CEST
END:DAYLIGHT
BEGIN:DAYLIGHT
DTSTART:20140330T030000
RDATE:20141026T020000
TZOFFSETFROM:+0100
TZOFFSETTO:+0200
TZNAME:Europe/Paris CEST
END:DAYLIGHT
BEGIN:DAYLIGHT
DTSTART:20150329T030000
RDATE:20151025T020000
TZOFFSETFROM:+0100
TZOFFSETTO:+0200
TZNAME:Europe/Paris CEST
END:DAYLIGHT
BEGIN:DAYLIGHT
DTSTART:20160327T030000
RDATE:20161030T020000
TZOFFSETFROM:+0100
TZOFFSETTO:+0200
TZNAME:Europe/Paris CEST
END:DAYLIGHT
BEGIN:DAYLIGHT
DTSTART:20170326T030000
RDATE:20171029T020000
TZOFFSETFROM:+0100
TZOFFSETTO:+0200
TZNAME:Europe/Paris CEST
END:DAYLIGHT
BEGIN:DAYLIGHT
DTSTART:20180325T030000
RDATE:20181028T020000
TZOFFSETFROM:+0100
TZOFFSETTO:+0200
TZNAME:Europe/Paris CEST
END:DAYLIGHT
BEGIN:DAYLIGHT
DTSTART:20190331T030000
RDATE:20191027T020000
TZOFFSETFROM:+0100
TZOFFSETTO:+0200
TZNAME:Europe/Paris CEST
END:DAYLIGHT
BEGIN:DAYLIGHT
DTSTART:20200329T030000
RDATE:20201025T020000
TZOFFSETFROM:+0100
TZOFFSETTO:+0200
TZNAME:Europe/Paris CEST
END:DAYLIGHT
BEGIN:DAYLIGHT
DTSTART:20210328T030000
RDATE:20211031T020000
TZOFFSETFROM:+0100
TZOFFSETTO:+0200
TZNAME:Europe/Paris CEST
END:DAYLIGHT
BEGIN:DAYLIGHT
DTSTART:20220327T030000
RDATE:20221030T020000
TZOFFSETFROM:+0100
TZOFFSETTO:+0200
TZNAME:Europe/Paris CEST
END:DAYLIGHT
BEGIN:DAYLIGHT
DTSTART:20230326T030000
RDATE:20231029T020000
TZOFFSETFROM:+0100
TZOFFSETTO:+0200
TZNAME:Europe/Paris CEST
END:DAYLIGHT
BEGIN:DAYLIGHT
DTSTART:20240331T030000
RDATE:20241027T020000
TZOFFSETFROM:+0100
TZOFFSETTO:+0200
TZNAME:Europe/Paris CEST
END:DAYLIGHT
BEGIN:DAYLIGHT
DTSTART:20250330T030000
RDATE:20251026T020000
TZOFFSETFROM:+0100
TZOFFSETTO:+0200
TZNAME:Europe/Paris CEST
END:DAYLIGHT
BEGIN:DAYLIGHT
DTSTART:20260329T030000
RDATE:20261025T020000
TZOFFSETFROM:+0100
TZOFFSETTO:+0200
TZNAME:Europe/Paris CEST
END:DAYLIGHT
END:VTIMEZONE
BEGIN:VEVENT
UID:8e8b1bb0810aef4bae3afaef44a8f65d
CATEGORIES:Circuit Massif Masters (alpin)
CREATED:20131203T122100
SUMMARY:GPM        GP Scotts Fertiligène **REPORTE**
URL;VALUE=URI:https://skivosges.net/agenda/export-synchronisation/detailevenement/187/-/g
 pm-gp-scotts-fertiligene-reporte?tmpl=component
DESCRIPTION:GPM        GP Scotts Fertiligène (Epreuve reportée, date à determiner) \n(G
 rand Prix Masters)\n\nLieu : GERARDMER \nOrganisateur : A.S DU VALTIN  (144
 09 A.S DU VALTIN)\nEmail : RegularLabs.EmailProtector.unCloak("ep_ad6afe59"
 );\nTelecopie : 03 29 60 98 04\nTelecopie : 03 29 60 98 04\n - AMVF0831  Sl
 alom Geant (Courses Masters) Tous les Masters Dames Dames\n  GPM        GP 
 Scotts Fertiligène\n - AMVM0831  Slalom Geant (Courses Masters) Tous les Ma
 sters Hommes Hommes\n  GPM        GP Scotts Fertiligène Cet évènement a été
  importé depuis :https://skivosges.net/agenda/export-synchronisation/detail
 evenement/187/-/gpm-gp-scotts-fertiligene-reporte?tmpl=component
X-ALT-DESC;FMTTYPE=text/html:<strong>GPM        GP Scotts Fertiligène</strong> <font class="attention4">
 (Epreuve reportée, date à determiner)</font> <br /><i>(Grand Prix Masters)<
 /i><br /><br />Lieu : GERARDMER <br />Organisateur : A.S DU VALTIN  <small>
 (14409 A.S DU VALTIN)</small><br />Email : <!-- Cette adresse électronique 
 est protégée contre les robots spammeurs. --><span class="cloaked_email ep_
 ad6afe59"><span data-ep-a="&#103;era&#114;" data-ep-b="e&#46;&#102;r"><span
  data-ep-a="d&#109;&#101;r-" data-ep-b="&#111;&#114;&#97;&#110;g"><span dat
 a-ep-a="&#115;ki&#45;&#97;" data-ep-b="&#108;&#112;i&#110;&#64;"></span></s
 pan></span></span><script>RegularLabs.EmailProtector.unCloak("ep_ad6afe59")
 ;</script><br />Telecopie : 03 29 60 98 04<br />Telecopie : 03 29 60 98 04<
 ul type="disc"><li>AMVF0831  Slalom Geant <nobr><i>(Courses Masters)</i></n
 obr> <nobr>Tous les Masters Dames</nobr> Dames<br />&nbsp;&nbsp;GPM        
 GP Scotts Fertiligène</li><li>AMVM0831  Slalom Geant <nobr><i>(Courses Mast
 ers)</i></nobr> <nobr>Tous les Masters Hommes</nobr> Hommes<br />&nbsp;&nbs
 p;GPM        GP Scotts Fertiligène</li></ul> <a href="https://skivosges.net
 /agenda/export-synchronisation/detailevenement/187/-/gpm-gp-scotts-fertilig
 ene-reporte?tmpl=component">Cet évènement a été importé depuis :https://ski
 vosges.net/agenda/export-synchronisation/detailevenement/187/-/gpm-gp-scott
 s-fertiligene-reporte?tmpl=component</a>DTSTAMP:20260421T050646
DTSTART;TZID=Europe/Paris:20140322T080000
DTEND;TZID=Europe/Paris:20140322T170000
SEQUENCE:0
TRANSP:OPAQUE
END:VEVENT
END:VCALENDAR