BEGIN:VCALENDAR
VERSION:2.0
PRODID:-//jEvents 2.0 for Joomla//EN
CALSCALE:GREGORIAN
METHOD:PUBLISH
BEGIN:VTIMEZONE
TZID:Europe/Paris
BEGIN:STANDARD
DTSTART:20211031T020000
RDATE:20220327T030000
TZOFFSETFROM:+0200
TZOFFSETTO:+0100
TZNAME:Europe/Paris CET
END:STANDARD
BEGIN:STANDARD
DTSTART:20221030T020000
RDATE:20230326T030000
TZOFFSETFROM:+0200
TZOFFSETTO:+0100
TZNAME:Europe/Paris CET
END:STANDARD
BEGIN:STANDARD
DTSTART:20231029T020000
RDATE:20240331T030000
TZOFFSETFROM:+0200
TZOFFSETTO:+0100
TZNAME:Europe/Paris CET
END:STANDARD
BEGIN:STANDARD
DTSTART:20241027T020000
RDATE:20250330T030000
TZOFFSETFROM:+0200
TZOFFSETTO:+0100
TZNAME:Europe/Paris CET
END:STANDARD
BEGIN:STANDARD
DTSTART:20251026T020000
RDATE:20260329T030000
TZOFFSETFROM:+0200
TZOFFSETTO:+0100
TZNAME:Europe/Paris CET
END:STANDARD
BEGIN:STANDARD
DTSTART:20261025T020000
RDATE:20270328T030000
TZOFFSETFROM:+0200
TZOFFSETTO:+0100
TZNAME:Europe/Paris CET
END:STANDARD
BEGIN:DAYLIGHT
DTSTART:20211013T000000
RDATE:20211031T020000
TZOFFSETFROM:+0100
TZOFFSETTO:+0200
TZNAME:Europe/Paris CEST
END:DAYLIGHT
BEGIN:DAYLIGHT
DTSTART:20220327T030000
RDATE:20221030T020000
TZOFFSETFROM:+0100
TZOFFSETTO:+0200
TZNAME:Europe/Paris CEST
END:DAYLIGHT
BEGIN:DAYLIGHT
DTSTART:20230326T030000
RDATE:20231029T020000
TZOFFSETFROM:+0100
TZOFFSETTO:+0200
TZNAME:Europe/Paris CEST
END:DAYLIGHT
BEGIN:DAYLIGHT
DTSTART:20240331T030000
RDATE:20241027T020000
TZOFFSETFROM:+0100
TZOFFSETTO:+0200
TZNAME:Europe/Paris CEST
END:DAYLIGHT
BEGIN:DAYLIGHT
DTSTART:20250330T030000
RDATE:20251026T020000
TZOFFSETFROM:+0100
TZOFFSETTO:+0200
TZNAME:Europe/Paris CEST
END:DAYLIGHT
BEGIN:DAYLIGHT
DTSTART:20260329T030000
RDATE:20261025T020000
TZOFFSETFROM:+0100
TZOFFSETTO:+0200
TZNAME:Europe/Paris CEST
END:DAYLIGHT
END:VTIMEZONE
BEGIN:VEVENT
UID:5a9d5503e079d5de2f51cee5c22b46d5
CATEGORIES:Compétition Saut
CREATED:20220906T120449
SUMMARY:Coupe des Vosges Crédit Mutuel étape 3
URL;VALUE=URI:https://skivosges.net/agenda/export-synchronisation/detailevenement/1921/-/
 coupe-des-vosges-credit-mutuel-etape-3?tmpl=component
DESCRIPTION:<!-- #gskiepreuve code généré par le plugin jevents pour GskiEpreuves. Ne p
 as modifier cette ligne, ni tout le contenu suivant  #gskiepreuve --><div c
 lass="gski-evenement_infos"><div class="gski-evenement-nom">Coupe des Vosge
 s Crédit Mutuel étape 3</div><div class="gski-evenement-report"></div><ul c
 lass="gski-evenement-liste-infos"><li>Codex évenement TMVT0140</li><li>Lieu
  : TREMPLIN LISPACH</li><li>Organisateur : 14024 LA BRESSAUDE SECTION SKI</
 li><li>Courriel : <!-- Cette adresse électronique est protégée contre les r
 obots spammeurs. --><span class="cloaked_email ep_21681566"><span data-ep-a
 ="&#107;&#97;r&#105;&#110;" data-ep-b="r"><span data-ep-b="&#100;&#111;&#11
 1;&#46;f" data-ep-a="&#101;&#46;&#102;&#111;u"><span data-ep-a="r&#114;&#97
 ;g&#101;" data-ep-b="&#64;&#119;&#97;&#110;&#97;"></span></span></span></sp
 an><script>RegularLabs.EmailProtector.unCloak("ep_21681566");</script></li>
 </ul><div class="gski-evenement-infos-2"><div class="gski-evenement-info-in
 scriptions"><div class="gski-evenement-inscriptions-periodes">Période d'ins
 cription à l'evènement du vendredi 07 octobre 2022 à 00:00 au mercredi 12 o
 ctobre 2022 à 12:00<div class="gski-evenement-inscriptions-types-titres">In
 scriptions ouvertes aux detenteurs des titres Fédéraux valides suivants : L
 icenciés Compétiteurs et Titres Loisirs et Dirigeants</div></div></div><div
  class="gskiepreuves-links"><ul><li><a href="/index.php?option=com_jevents&
 task=icalevent.detail&evid=1916&Itemid=6283">Voir les informations dans l'a
 genda...</a></li></ul></div><div class="gski-evenement-epreuves"><div class
 ="gski-evenement-epreuves-titres">Epreuves :</div><ul class="gski-evenement
 -epreuves-list"><li><div class="gski-epreuve-date">Le vendredi 14 octobre 2
 022</div><ul class="gski-epreuve-liste-infos"><li>Codex épreuve TMVM0141</l
 i><li>Saut Special</li><li>Catégorie(s) : Toutes les Categories (Garçons)</
 li></ul></li><li><div class="gski-epreuve-date">Le vendredi 14 octobre 2022
 </div><ul class="gski-epreuve-liste-infos"><li>Codex épreuve TMVF0141</li><
 li>Saut Special</li><li>Catégorie(s) : Toutes les Categories (Filles)</li><
 /ul></li><li><div class="gski-epreuve-date">Le vendredi 14 octobre 2022</di
 v><ul class="gski-epreuve-liste-infos"><li>Codex épreuve TMVF0142</li><li>S
 aut Special</li><li>Catégorie(s) : Toutes les Categories (Filles)</li></ul>
 </li><li><div class="gski-epreuve-date">Le vendredi 14 octobre 2022</div><u
 l class="gski-epreuve-liste-infos"><li>Codex épreuve TMVM0142</li><li>Saut 
 Special</li><li>Catégorie(s) : Toutes les Categories (Garçons)</li></ul></l
 i></ul></div><div class="gskiepreuves-links"><ul><li><a href="/index.php?op
 tion=com_jevents&task=icalevent.detail&evid=1916&Itemid=6283">Voir les info
 rmations dans l'agenda...</a></li></ul></div></div"><!-- #/gskiepreuve fin 
 du dode généré par le plugin jevents pour GskiEpreuves. . Ne pas modifier c
 ette ligne, ni tout le contenu précedant.  #/gskiepreuve --> <a href="https
 ://skivosges.net/agenda/export-synchronisation/detailevenement/1921/-/coupe
 -des-vosges-credit-mutuel-etape-3?tmpl=component">Cet évènement a été impor
 té depuis :https://skivosges.net/agenda/export-synchronisation/detailevenem
 ent/1921/-/coupe-des-vosges-credit-mutuel-etape-3?tmpl=component</a>
X-ALT-DESC;FMTTYPE=text/html:<!-- #gskiepreuve code généré par le plugin jevents pour GskiEpreuves. Ne p
 as modifier cette ligne, ni tout le contenu suivant  #gskiepreuve --><div c
 lass="gski-evenement_infos"><div class="gski-evenement-nom">Coupe des Vosge
 s Crédit Mutuel étape 3</div><div class="gski-evenement-report"></div><ul c
 lass="gski-evenement-liste-infos"><li>Codex évenement TMVT0140</li><li>Lieu
  : TREMPLIN LISPACH</li><li>Organisateur : 14024 LA BRESSAUDE SECTION SKI</
 li><li>Courriel : <!-- Cette adresse électronique est protégée contre les r
 obots spammeurs. --><span class="cloaked_email ep_21681566"><span data-ep-a
 ="&#107;&#97;r&#105;&#110;" data-ep-b="r"><span data-ep-b="&#100;&#111;&#11
 1;&#46;f" data-ep-a="&#101;&#46;&#102;&#111;u"><span data-ep-a="r&#114;&#97
 ;g&#101;" data-ep-b="&#64;&#119;&#97;&#110;&#97;"></span></span></span></sp
 an><script>RegularLabs.EmailProtector.unCloak("ep_21681566");</script></li>
 </ul><div class="gski-evenement-infos-2"><div class="gski-evenement-info-in
 scriptions"><div class="gski-evenement-inscriptions-periodes">Période d'ins
 cription à l'evènement du vendredi 07 octobre 2022 à 00:00 au mercredi 12 o
 ctobre 2022 à 12:00<div class="gski-evenement-inscriptions-types-titres">In
 scriptions ouvertes aux detenteurs des titres Fédéraux valides suivants : L
 icenciés Compétiteurs et Titres Loisirs et Dirigeants</div></div></div><div
  class="gskiepreuves-links"><ul><li><a href="https://skivosges.net/index.ph
 p?option=com_jevents&task=icalevent.detail&evid=1916&Itemid=6283">Voir les 
 informations dans l'agenda...</a></li></ul></div><div class="gski-evenement
 -epreuves"><div class="gski-evenement-epreuves-titres">Epreuves :</div><ul 
 class="gski-evenement-epreuves-list"><li><div class="gski-epreuve-date">Le 
 vendredi 14 octobre 2022</div><ul class="gski-epreuve-liste-infos"><li>Code
 x épreuve TMVM0141</li><li>Saut Special</li><li>Catégorie(s) : Toutes les C
 ategories (Garçons)</li></ul></li><li><div class="gski-epreuve-date">Le ven
 dredi 14 octobre 2022</div><ul class="gski-epreuve-liste-infos"><li>Codex é
 preuve TMVF0141</li><li>Saut Special</li><li>Catégorie(s) : Toutes les Cate
 gories (Filles)</li></ul></li><li><div class="gski-epreuve-date">Le vendred
 i 14 octobre 2022</div><ul class="gski-epreuve-liste-infos"><li>Codex épreu
 ve TMVF0142</li><li>Saut Special</li><li>Catégorie(s) : Toutes les Categori
 es (Filles)</li></ul></li><li><div class="gski-epreuve-date">Le vendredi 14
  octobre 2022</div><ul class="gski-epreuve-liste-infos"><li>Codex épreuve T
 MVM0142</li><li>Saut Special</li><li>Catégorie(s) : Toutes les Categories (
 Garçons)</li></ul></li></ul></div><div class="gskiepreuves-links"><ul><li><
 a href="https://skivosges.net/index.php?option=com_jevents&task=icalevent.d
 etail&evid=1916&Itemid=6283">Voir les informations dans l'agenda...</a></li
 ></ul></div></div"><!-- #/gskiepreuve fin du dode généré par le plugin jeve
 nts pour GskiEpreuves. . Ne pas modifier cette ligne, ni tout le contenu pr
 écedant.  #/gskiepreuve --> <a href="https://skivosges.net/agenda/export-sy
 nchronisation/detailevenement/1921/-/coupe-des-vosges-credit-mutuel-etape-3
 ?tmpl=component">Cet évènement a été importé depuis :https://skivosges.net/
 agenda/export-synchronisation/detailevenement/1921/-/coupe-des-vosges-credi
 t-mutuel-etape-3?tmpl=component</a>DTSTAMP:20260420T112511
DTSTART;TZID=Europe/Paris;VALUE=DATE:20221014
DTEND;TZID=Europe/Paris;VALUE=DATE:20221015
SEQUENCE:0
TRANSP:OPAQUE
END:VEVENT
END:VCALENDAR