BEGIN:VCALENDAR
VERSION:2.0
PRODID:-//jEvents 2.0 for Joomla//EN
CALSCALE:GREGORIAN
METHOD:PUBLISH
BEGIN:VTIMEZONE
TZID:Europe/Paris
BEGIN:STANDARD
DTSTART:20211031T020000
RDATE:20220327T030000
TZOFFSETFROM:+0200
TZOFFSETTO:+0100
TZNAME:Europe/Paris CET
END:STANDARD
BEGIN:STANDARD
DTSTART:20221030T020000
RDATE:20230326T030000
TZOFFSETFROM:+0200
TZOFFSETTO:+0100
TZNAME:Europe/Paris CET
END:STANDARD
BEGIN:STANDARD
DTSTART:20231029T020000
RDATE:20240331T030000
TZOFFSETFROM:+0200
TZOFFSETTO:+0100
TZNAME:Europe/Paris CET
END:STANDARD
BEGIN:STANDARD
DTSTART:20241027T020000
RDATE:20250330T030000
TZOFFSETFROM:+0200
TZOFFSETTO:+0100
TZNAME:Europe/Paris CET
END:STANDARD
BEGIN:STANDARD
DTSTART:20251026T020000
RDATE:20260329T030000
TZOFFSETFROM:+0200
TZOFFSETTO:+0100
TZNAME:Europe/Paris CET
END:STANDARD
BEGIN:STANDARD
DTSTART:20261025T020000
RDATE:20270328T030000
TZOFFSETFROM:+0200
TZOFFSETTO:+0100
TZNAME:Europe/Paris CET
END:STANDARD
BEGIN:DAYLIGHT
DTSTART:20211014T000000
RDATE:20211031T020000
TZOFFSETFROM:+0100
TZOFFSETTO:+0200
TZNAME:Europe/Paris CEST
END:DAYLIGHT
BEGIN:DAYLIGHT
DTSTART:20220327T030000
RDATE:20221030T020000
TZOFFSETFROM:+0100
TZOFFSETTO:+0200
TZNAME:Europe/Paris CEST
END:DAYLIGHT
BEGIN:DAYLIGHT
DTSTART:20230326T030000
RDATE:20231029T020000
TZOFFSETFROM:+0100
TZOFFSETTO:+0200
TZNAME:Europe/Paris CEST
END:DAYLIGHT
BEGIN:DAYLIGHT
DTSTART:20240331T030000
RDATE:20241027T020000
TZOFFSETFROM:+0100
TZOFFSETTO:+0200
TZNAME:Europe/Paris CEST
END:DAYLIGHT
BEGIN:DAYLIGHT
DTSTART:20250330T030000
RDATE:20251026T020000
TZOFFSETFROM:+0100
TZOFFSETTO:+0200
TZNAME:Europe/Paris CEST
END:DAYLIGHT
BEGIN:DAYLIGHT
DTSTART:20260329T030000
RDATE:20261025T020000
TZOFFSETFROM:+0100
TZOFFSETTO:+0200
TZNAME:Europe/Paris CEST
END:DAYLIGHT
END:VTIMEZONE
BEGIN:VEVENT
UID:4fad6c69ded01fc11ed6852bab41f24f
CATEGORIES:Compétition Ski de Fond
CREATED:20221118T190002
SUMMARY:A définir
URL;VALUE=URI:https://skivosges.net/agenda/export-synchronisation/detailevenement/1965/-/
 a-definir?tmpl=component
DESCRIPTION:<!-- #gskiepreuve code généré par le plugin jevents pour GskiEpreuves. Ne p
 as modifier cette ligne, ni tout le contenu suivant  #gskiepreuve --><div c
 lass="gski-evenement_infos"><div class="gski-evenement-nom">A définir</div>
 <div class="gski-evenement-report"></div><ul class="gski-evenement-liste-in
 fos"><li>Codex évenement FMVT0090</li><li>Organisateur : </li></ul><div cla
 ss="gski-evenement-infos-2"><div class="gski-evenement-info-inscriptions"><
 div class="gski-evenement-inscriptions-periodes">Période d'inscription à l'
 evènement du Samedi 08 Octobre 2022 à 00:00 au Jeudi 13 Octobre 2022 à 12:0
 0<div class="gski-evenement-inscriptions-types-titres">Inscriptions ouverte
 s aux detenteurs des titres Fédéraux valides suivants : Licenciés Compétite
 urs</div></div></div><div class="gskiepreuves-links"><ul><li><a href="/inde
 x.php?option=com_jevents&task=icalevent.detail&evid=1960&Itemid=6283">Voir 
 les informations dans l'agenda...</a></li></ul></div><div class="gski-evene
 ment-epreuves"><div class="gski-evenement-epreuves-titres">Epreuves :</div>
 <ul class="gski-evenement-epreuves-list"><li><div class="gski-epreuve-date"
 >Le Samedi 15 Octobre 2022</div><ul class="gski-epreuve-liste-infos"><li>Co
 dex épreuve FMVM0091</li><li>Fond Populaire (depart en ligne)</li><li>Catég
 orie(s) : U18 (Hommes)</li></ul></li><li><div class="gski-epreuve-date">Le 
 Samedi 15 Octobre 2022</div><ul class="gski-epreuve-liste-infos"><li>Codex 
 épreuve FMVF0092</li><li>Fond Populaire (depart en ligne)</li><li>Catégorie
 (s) : U20 a M12 (Dames)</li></ul></li><li><div class="gski-epreuve-date">Le
  Samedi 15 Octobre 2022</div><ul class="gski-epreuve-liste-infos"><li>Codex
  épreuve FMVM0092</li><li>Fond Populaire (depart en ligne)</li><li>Catégori
 e(s) : U20 a M12 (Hommes)</li></ul></li></ul></div><div class="gskiepreuves
 -links"><ul><li><a href="/index.php?option=com_jevents&task=icalevent.detai
 l&evid=1960&Itemid=6283">Voir les informations dans l'agenda...</a></li></u
 l></div></div"><!-- #/gskiepreuve fin du dode généré par le plugin jevents 
 pour GskiEpreuves. . Ne pas modifier cette ligne, ni tout le contenu préced
 ant.  #/gskiepreuve --> <a href="https://skivosges.net/agenda/export-synchr
 onisation/detailevenement/1965/-/a-definir?tmpl=component">Cet évènement a 
 été importé depuis :https://skivosges.net/agenda/export-synchronisation/det
 ailevenement/1965/-/a-definir?tmpl=component</a>
X-ALT-DESC;FMTTYPE=text/html:<!-- #gskiepreuve code généré par le plugin jevents pour GskiEpreuves. Ne p
 as modifier cette ligne, ni tout le contenu suivant  #gskiepreuve --><div c
 lass="gski-evenement_infos"><div class="gski-evenement-nom">A définir</div>
 <div class="gski-evenement-report"></div><ul class="gski-evenement-liste-in
 fos"><li>Codex évenement FMVT0090</li><li>Organisateur : </li></ul><div cla
 ss="gski-evenement-infos-2"><div class="gski-evenement-info-inscriptions"><
 div class="gski-evenement-inscriptions-periodes">Période d'inscription à l'
 evènement du Samedi 08 Octobre 2022 à 00:00 au Jeudi 13 Octobre 2022 à 12:0
 0<div class="gski-evenement-inscriptions-types-titres">Inscriptions ouverte
 s aux detenteurs des titres Fédéraux valides suivants : Licenciés Compétite
 urs</div></div></div><div class="gskiepreuves-links"><ul><li><a href="https
 ://skivosges.net/index.php?option=com_jevents&task=icalevent.detail&evid=19
 60&Itemid=6283">Voir les informations dans l'agenda...</a></li></ul></div><
 div class="gski-evenement-epreuves"><div class="gski-evenement-epreuves-tit
 res">Epreuves :</div><ul class="gski-evenement-epreuves-list"><li><div clas
 s="gski-epreuve-date">Le Samedi 15 Octobre 2022</div><ul class="gski-epreuv
 e-liste-infos"><li>Codex épreuve FMVM0091</li><li>Fond Populaire (depart en
  ligne)</li><li>Catégorie(s) : U18 (Hommes)</li></ul></li><li><div class="g
 ski-epreuve-date">Le Samedi 15 Octobre 2022</div><ul class="gski-epreuve-li
 ste-infos"><li>Codex épreuve FMVF0092</li><li>Fond Populaire (depart en lig
 ne)</li><li>Catégorie(s) : U20 a M12 (Dames)</li></ul></li><li><div class="
 gski-epreuve-date">Le Samedi 15 Octobre 2022</div><ul class="gski-epreuve-l
 iste-infos"><li>Codex épreuve FMVM0092</li><li>Fond Populaire (depart en li
 gne)</li><li>Catégorie(s) : U20 a M12 (Hommes)</li></ul></li></ul></div><di
 v class="gskiepreuves-links"><ul><li><a href="https://skivosges.net/index.p
 hp?option=com_jevents&task=icalevent.detail&evid=1960&Itemid=6283">Voir les
  informations dans l'agenda...</a></li></ul></div></div"><!-- #/gskiepreuve
  fin du dode généré par le plugin jevents pour GskiEpreuves. . Ne pas modif
 ier cette ligne, ni tout le contenu précedant.  #/gskiepreuve --> <a href="
 https://skivosges.net/agenda/export-synchronisation/detailevenement/1965/-/
 a-definir?tmpl=component">Cet évènement a été importé depuis :https://skivo
 sges.net/agenda/export-synchronisation/detailevenement/1965/-/a-definir?tmp
 l=component</a>DTSTAMP:20260420T131916
DTSTART;TZID=Europe/Paris;VALUE=DATE:20221015
DTEND;TZID=Europe/Paris;VALUE=DATE:20221016
SEQUENCE:0
TRANSP:OPAQUE
END:VEVENT
END:VCALENDAR