BEGIN:VCALENDAR
VERSION:2.0
PRODID:-//jEvents 2.0 for Joomla//EN
CALSCALE:GREGORIAN
METHOD:PUBLISH
BEGIN:VTIMEZONE
TZID:Europe/Paris
BEGIN:STANDARD
DTSTART:20211031T020000
RDATE:20220327T030000
TZOFFSETFROM:+0200
TZOFFSETTO:+0100
TZNAME:Europe/Paris CET
END:STANDARD
BEGIN:STANDARD
DTSTART:20221030T020000
RDATE:20230326T030000
TZOFFSETFROM:+0200
TZOFFSETTO:+0100
TZNAME:Europe/Paris CET
END:STANDARD
BEGIN:STANDARD
DTSTART:20231029T020000
RDATE:20240331T030000
TZOFFSETFROM:+0200
TZOFFSETTO:+0100
TZNAME:Europe/Paris CET
END:STANDARD
BEGIN:STANDARD
DTSTART:20241027T020000
RDATE:20250330T030000
TZOFFSETFROM:+0200
TZOFFSETTO:+0100
TZNAME:Europe/Paris CET
END:STANDARD
BEGIN:STANDARD
DTSTART:20251026T020000
RDATE:20260329T030000
TZOFFSETFROM:+0200
TZOFFSETTO:+0100
TZNAME:Europe/Paris CET
END:STANDARD
BEGIN:STANDARD
DTSTART:20261025T020000
RDATE:20270328T030000
TZOFFSETFROM:+0200
TZOFFSETTO:+0100
TZNAME:Europe/Paris CET
END:STANDARD
BEGIN:DAYLIGHT
DTSTART:20211014T000000
RDATE:20211031T020000
TZOFFSETFROM:+0100
TZOFFSETTO:+0200
TZNAME:Europe/Paris CEST
END:DAYLIGHT
BEGIN:DAYLIGHT
DTSTART:20220327T030000
RDATE:20221030T020000
TZOFFSETFROM:+0100
TZOFFSETTO:+0200
TZNAME:Europe/Paris CEST
END:DAYLIGHT
BEGIN:DAYLIGHT
DTSTART:20230326T030000
RDATE:20231029T020000
TZOFFSETFROM:+0100
TZOFFSETTO:+0200
TZNAME:Europe/Paris CEST
END:DAYLIGHT
BEGIN:DAYLIGHT
DTSTART:20240331T030000
RDATE:20241027T020000
TZOFFSETFROM:+0100
TZOFFSETTO:+0200
TZNAME:Europe/Paris CEST
END:DAYLIGHT
BEGIN:DAYLIGHT
DTSTART:20250330T030000
RDATE:20251026T020000
TZOFFSETFROM:+0100
TZOFFSETTO:+0200
TZNAME:Europe/Paris CEST
END:DAYLIGHT
BEGIN:DAYLIGHT
DTSTART:20260329T030000
RDATE:20261025T020000
TZOFFSETFROM:+0100
TZOFFSETTO:+0200
TZNAME:Europe/Paris CEST
END:DAYLIGHT
END:VTIMEZONE
BEGIN:VEVENT
UID:93fbd138b8ac84f9e873d77db2243abd
CATEGORIES:Compétition Ski de Fond
CREATED:20221118T190002
SUMMARY:A DEFINIR
URL;VALUE=URI:https://skivosges.net/agenda/export-synchronisation/detailevenement/1992/-/
 a-definir?tmpl=component
DESCRIPTION:<!-- #gskiepreuve code généré par le plugin jevents pour GskiEpreuves. Ne p
 as modifier cette ligne, ni tout le contenu suivant  #gskiepreuve --><div c
 lass="gski-evenement_infos"><div class="gski-evenement-nom">A DEFINIR</div>
 <div class="gski-evenement-report"></div><ul class="gski-evenement-liste-in
 fos"><li>Codex évenement FMVT0150</li><li>Organisateur : </li></ul><div cla
 ss="gski-evenement-infos-2"><div class="gski-evenement-info-inscriptions"><
 div class="gski-evenement-inscriptions-periodes">Période d'inscription à l'
 evènement du Samedi 08 Octobre 2022 à 00:00 au Jeudi 13 Octobre 2022 à 12:0
 0<div class="gski-evenement-inscriptions-types-titres">Inscriptions ouverte
 s aux detenteurs des titres Fédéraux valides suivants : Licenciés Compétite
 urs</div></div></div><div class="gskiepreuves-links"><ul><li><a href="/inde
 x.php?option=com_jevents&task=icalevent.detail&evid=1987&Itemid=6283">Voir 
 les informations dans l'agenda...</a></li></ul></div><div class="gski-evene
 ment-epreuves"><div class="gski-evenement-epreuves-titres">Epreuves :</div>
 <ul class="gski-evenement-epreuves-list"><li><div class="gski-epreuve-date"
 >Le Samedi 15 Octobre 2022</div><ul class="gski-epreuve-liste-infos"><li>Co
 dex épreuve FMVM0151</li><li>Mass Start (Depart ligne)</li><li>Catégorie(s)
  : U15 (Garçons)</li></ul></li><li><div class="gski-epreuve-date">Le Samedi
  15 Octobre 2022</div><ul class="gski-epreuve-liste-infos"><li>Codex épreuv
 e FMVF0152</li><li>Mass Start (Depart ligne)</li><li>Catégorie(s) : U16 (Da
 mes)</li></ul></li><li><div class="gski-epreuve-date">Le Samedi 15 Octobre 
 2022</div><ul class="gski-epreuve-liste-infos"><li>Codex épreuve FMVM0152</
 li><li>Mass Start (Depart ligne)</li><li>Catégorie(s) : U16 (Hommes)</li></
 ul></li><li><div class="gski-epreuve-date">Le Samedi 15 Octobre 2022</div><
 ul class="gski-epreuve-liste-infos"><li>Codex épreuve FMVF0153</li><li>Mass
  Start (Depart ligne)</li><li>Catégorie(s) : U18 (Dames)</li></ul></li><li>
 <div class="gski-epreuve-date">Le Samedi 15 Octobre 2022</div><ul class="gs
 ki-epreuve-liste-infos"><li>Codex épreuve FMVM0153</li><li>Mass Start (Depa
 rt ligne)</li><li>Catégorie(s) : U18 (Hommes)</li></ul></li></ul></div><div
  class="gskiepreuves-links"><ul><li><a href="/index.php?option=com_jevents&
 task=icalevent.detail&evid=1987&Itemid=6283">Voir les informations dans l'a
 genda...</a></li></ul></div></div"><!-- #/gskiepreuve fin du dode généré pa
 r le plugin jevents pour GskiEpreuves. . Ne pas modifier cette ligne, ni to
 ut le contenu précedant.  #/gskiepreuve --> <a href="https://skivosges.net/
 agenda/export-synchronisation/detailevenement/1992/-/a-definir?tmpl=compone
 nt">Cet évènement a été importé depuis :https://skivosges.net/agenda/export
 -synchronisation/detailevenement/1992/-/a-definir?tmpl=component</a>
X-ALT-DESC;FMTTYPE=text/html:<!-- #gskiepreuve code généré par le plugin jevents pour GskiEpreuves. Ne p
 as modifier cette ligne, ni tout le contenu suivant  #gskiepreuve --><div c
 lass="gski-evenement_infos"><div class="gski-evenement-nom">A DEFINIR</div>
 <div class="gski-evenement-report"></div><ul class="gski-evenement-liste-in
 fos"><li>Codex évenement FMVT0150</li><li>Organisateur : </li></ul><div cla
 ss="gski-evenement-infos-2"><div class="gski-evenement-info-inscriptions"><
 div class="gski-evenement-inscriptions-periodes">Période d'inscription à l'
 evènement du Samedi 08 Octobre 2022 à 00:00 au Jeudi 13 Octobre 2022 à 12:0
 0<div class="gski-evenement-inscriptions-types-titres">Inscriptions ouverte
 s aux detenteurs des titres Fédéraux valides suivants : Licenciés Compétite
 urs</div></div></div><div class="gskiepreuves-links"><ul><li><a href="https
 ://skivosges.net/index.php?option=com_jevents&task=icalevent.detail&evid=19
 87&Itemid=6283">Voir les informations dans l'agenda...</a></li></ul></div><
 div class="gski-evenement-epreuves"><div class="gski-evenement-epreuves-tit
 res">Epreuves :</div><ul class="gski-evenement-epreuves-list"><li><div clas
 s="gski-epreuve-date">Le Samedi 15 Octobre 2022</div><ul class="gski-epreuv
 e-liste-infos"><li>Codex épreuve FMVM0151</li><li>Mass Start (Depart ligne)
 </li><li>Catégorie(s) : U15 (Garçons)</li></ul></li><li><div class="gski-ep
 reuve-date">Le Samedi 15 Octobre 2022</div><ul class="gski-epreuve-liste-in
 fos"><li>Codex épreuve FMVF0152</li><li>Mass Start (Depart ligne)</li><li>C
 atégorie(s) : U16 (Dames)</li></ul></li><li><div class="gski-epreuve-date">
 Le Samedi 15 Octobre 2022</div><ul class="gski-epreuve-liste-infos"><li>Cod
 ex épreuve FMVM0152</li><li>Mass Start (Depart ligne)</li><li>Catégorie(s) 
 : U16 (Hommes)</li></ul></li><li><div class="gski-epreuve-date">Le Samedi 1
 5 Octobre 2022</div><ul class="gski-epreuve-liste-infos"><li>Codex épreuve 
 FMVF0153</li><li>Mass Start (Depart ligne)</li><li>Catégorie(s) : U18 (Dame
 s)</li></ul></li><li><div class="gski-epreuve-date">Le Samedi 15 Octobre 20
 22</div><ul class="gski-epreuve-liste-infos"><li>Codex épreuve FMVM0153</li
 ><li>Mass Start (Depart ligne)</li><li>Catégorie(s) : U18 (Hommes)</li></ul
 ></li></ul></div><div class="gskiepreuves-links"><ul><li><a href="https://s
 kivosges.net/index.php?option=com_jevents&task=icalevent.detail&evid=1987&I
 temid=6283">Voir les informations dans l'agenda...</a></li></ul></div></div
 "><!-- #/gskiepreuve fin du dode généré par le plugin jevents pour GskiEpre
 uves. . Ne pas modifier cette ligne, ni tout le contenu précedant.  #/gskie
 preuve --> <a href="https://skivosges.net/agenda/export-synchronisation/det
 ailevenement/1992/-/a-definir?tmpl=component">Cet évènement a été importé d
 epuis :https://skivosges.net/agenda/export-synchronisation/detailevenement/
 1992/-/a-definir?tmpl=component</a>DTSTAMP:20260420T151233
DTSTART;TZID=Europe/Paris;VALUE=DATE:20221015
DTEND;TZID=Europe/Paris;VALUE=DATE:20221016
SEQUENCE:0
TRANSP:OPAQUE
END:VEVENT
END:VCALENDAR