BEGIN:VCALENDAR
VERSION:2.0
PRODID:-//jEvents 2.0 for Joomla//EN
CALSCALE:GREGORIAN
METHOD:PUBLISH
BEGIN:VTIMEZONE
TZID:Europe/Paris
BEGIN:STANDARD
DTSTART:20211031T020000
RDATE:20220327T030000
TZOFFSETFROM:+0200
TZOFFSETTO:+0100
TZNAME:Europe/Paris CET
END:STANDARD
BEGIN:STANDARD
DTSTART:20221030T020000
RDATE:20230326T030000
TZOFFSETFROM:+0200
TZOFFSETTO:+0100
TZNAME:Europe/Paris CET
END:STANDARD
BEGIN:STANDARD
DTSTART:20231029T020000
RDATE:20240331T030000
TZOFFSETFROM:+0200
TZOFFSETTO:+0100
TZNAME:Europe/Paris CET
END:STANDARD
BEGIN:STANDARD
DTSTART:20241027T020000
RDATE:20250330T030000
TZOFFSETFROM:+0200
TZOFFSETTO:+0100
TZNAME:Europe/Paris CET
END:STANDARD
BEGIN:STANDARD
DTSTART:20251026T020000
RDATE:20260329T030000
TZOFFSETFROM:+0200
TZOFFSETTO:+0100
TZNAME:Europe/Paris CET
END:STANDARD
BEGIN:STANDARD
DTSTART:20261025T020000
RDATE:20270328T030000
TZOFFSETFROM:+0200
TZOFFSETTO:+0100
TZNAME:Europe/Paris CET
END:STANDARD
BEGIN:DAYLIGHT
DTSTART:20211014T000000
RDATE:20211031T020000
TZOFFSETFROM:+0100
TZOFFSETTO:+0200
TZNAME:Europe/Paris CEST
END:DAYLIGHT
BEGIN:DAYLIGHT
DTSTART:20220327T030000
RDATE:20221030T020000
TZOFFSETFROM:+0100
TZOFFSETTO:+0200
TZNAME:Europe/Paris CEST
END:DAYLIGHT
BEGIN:DAYLIGHT
DTSTART:20230326T030000
RDATE:20231029T020000
TZOFFSETFROM:+0100
TZOFFSETTO:+0200
TZNAME:Europe/Paris CEST
END:DAYLIGHT
BEGIN:DAYLIGHT
DTSTART:20240331T030000
RDATE:20241027T020000
TZOFFSETFROM:+0100
TZOFFSETTO:+0200
TZNAME:Europe/Paris CEST
END:DAYLIGHT
BEGIN:DAYLIGHT
DTSTART:20250330T030000
RDATE:20251026T020000
TZOFFSETFROM:+0100
TZOFFSETTO:+0200
TZNAME:Europe/Paris CEST
END:DAYLIGHT
BEGIN:DAYLIGHT
DTSTART:20260329T030000
RDATE:20261025T020000
TZOFFSETFROM:+0100
TZOFFSETTO:+0200
TZNAME:Europe/Paris CEST
END:DAYLIGHT
END:VTIMEZONE
BEGIN:VEVENT
UID:703c205b62bb65c7816b436d264880d2
CATEGORIES:Compétition Ski de Fond
CREATED:20221118T190002
SUMMARY:A DEFINR
URL;VALUE=URI:https://skivosges.net/agenda/export-synchronisation/detailevenement/2001/-/
 a-definr?tmpl=component
DESCRIPTION:<!-- #gskiepreuve code généré par le plugin jevents pour GskiEpreuves. Ne p
 as modifier cette ligne, ni tout le contenu suivant  #gskiepreuve --><div c
 lass="gski-evenement_infos"><div class="gski-evenement-nom">A DEFINR</div><
 div class="gski-evenement-report"></div><ul class="gski-evenement-liste-inf
 os"><li>Codex évenement FMVT0170</li><li>Organisateur : </li></ul><div clas
 s="gski-evenement-infos-2"><div class="gski-evenement-info-inscriptions"><d
 iv class="gski-evenement-inscriptions-periodes">Période d'inscription à l'e
 vènement du Samedi 08 Octobre 2022 à 00:00 au Jeudi 13 Octobre 2022 à 12:00
 <div class="gski-evenement-inscriptions-types-titres">Inscriptions ouvertes
  aux detenteurs des titres Fédéraux valides suivants : Licenciés Compétiteu
 rs et Titres Loisirs et Dirigeants</div></div></div><div class="gskiepreuve
 s-links"><ul><li><a href="/index.php?option=com_jevents&task=icalevent.deta
 il&evid=1996&Itemid=6283">Voir les informations dans l'agenda...</a></li></
 ul></div><div class="gski-evenement-epreuves"><div class="gski-evenement-ep
 reuves-titres">Epreuves :</div><ul class="gski-evenement-epreuves-list"><li
 ><div class="gski-epreuve-date">Le Samedi 15 Octobre 2022</div><ul class="g
 ski-epreuve-liste-infos"><li>Codex épreuve FMVM0171</li><li>Parcours Techni
 que</li><li>Catégorie(s) : U9 (Garçons)</li></ul></li><li><div class="gski-
 epreuve-date">Le Samedi 15 Octobre 2022</div><ul class="gski-epreuve-liste-
 infos"><li>Codex épreuve FMVF0172</li><li>Parcours Technique</li><li>Catégo
 rie(s) : U11 (Filles)</li></ul></li><li><div class="gski-epreuve-date">Le S
 amedi 15 Octobre 2022</div><ul class="gski-epreuve-liste-infos"><li>Codex é
 preuve FMVM0172</li><li>Parcours Technique</li><li>Catégorie(s) : U11 (Garç
 ons)</li></ul></li><li><div class="gski-epreuve-date">Le Samedi 15 Octobre 
 2022</div><ul class="gski-epreuve-liste-infos"><li>Codex épreuve FMVF0173</
 li><li>Parcours Technique</li><li>Catégorie(s) : U13 (Filles)</li></ul></li
 ><li><div class="gski-epreuve-date">Le Samedi 15 Octobre 2022</div><ul clas
 s="gski-epreuve-liste-infos"><li>Codex épreuve FMVF0174</li><li>Parcours Te
 chnique</li><li>Catégorie(s) : U13 (Filles)</li></ul></li></ul></div><div c
 lass="gskiepreuves-links"><ul><li><a href="/index.php?option=com_jevents&ta
 sk=icalevent.detail&evid=1996&Itemid=6283">Voir les informations dans l'age
 nda...</a></li></ul></div></div"><!-- #/gskiepreuve fin du dode généré par 
 le plugin jevents pour GskiEpreuves. . Ne pas modifier cette ligne, ni tout
  le contenu précedant.  #/gskiepreuve --> <a href="https://skivosges.net/ag
 enda/export-synchronisation/detailevenement/2001/-/a-definr?tmpl=component"
 >Cet évènement a été importé depuis :https://skivosges.net/agenda/export-sy
 nchronisation/detailevenement/2001/-/a-definr?tmpl=component</a>
X-ALT-DESC;FMTTYPE=text/html:<!-- #gskiepreuve code généré par le plugin jevents pour GskiEpreuves. Ne p
 as modifier cette ligne, ni tout le contenu suivant  #gskiepreuve --><div c
 lass="gski-evenement_infos"><div class="gski-evenement-nom">A DEFINR</div><
 div class="gski-evenement-report"></div><ul class="gski-evenement-liste-inf
 os"><li>Codex évenement FMVT0170</li><li>Organisateur : </li></ul><div clas
 s="gski-evenement-infos-2"><div class="gski-evenement-info-inscriptions"><d
 iv class="gski-evenement-inscriptions-periodes">Période d'inscription à l'e
 vènement du Samedi 08 Octobre 2022 à 00:00 au Jeudi 13 Octobre 2022 à 12:00
 <div class="gski-evenement-inscriptions-types-titres">Inscriptions ouvertes
  aux detenteurs des titres Fédéraux valides suivants : Licenciés Compétiteu
 rs et Titres Loisirs et Dirigeants</div></div></div><div class="gskiepreuve
 s-links"><ul><li><a href="https://skivosges.net/index.php?option=com_jevent
 s&task=icalevent.detail&evid=1996&Itemid=6283">Voir les informations dans l
 'agenda...</a></li></ul></div><div class="gski-evenement-epreuves"><div cla
 ss="gski-evenement-epreuves-titres">Epreuves :</div><ul class="gski-eveneme
 nt-epreuves-list"><li><div class="gski-epreuve-date">Le Samedi 15 Octobre 2
 022</div><ul class="gski-epreuve-liste-infos"><li>Codex épreuve FMVM0171</l
 i><li>Parcours Technique</li><li>Catégorie(s) : U9 (Garçons)</li></ul></li>
 <li><div class="gski-epreuve-date">Le Samedi 15 Octobre 2022</div><ul class
 ="gski-epreuve-liste-infos"><li>Codex épreuve FMVF0172</li><li>Parcours Tec
 hnique</li><li>Catégorie(s) : U11 (Filles)</li></ul></li><li><div class="gs
 ki-epreuve-date">Le Samedi 15 Octobre 2022</div><ul class="gski-epreuve-lis
 te-infos"><li>Codex épreuve FMVM0172</li><li>Parcours Technique</li><li>Cat
 égorie(s) : U11 (Garçons)</li></ul></li><li><div class="gski-epreuve-date">
 Le Samedi 15 Octobre 2022</div><ul class="gski-epreuve-liste-infos"><li>Cod
 ex épreuve FMVF0173</li><li>Parcours Technique</li><li>Catégorie(s) : U13 (
 Filles)</li></ul></li><li><div class="gski-epreuve-date">Le Samedi 15 Octob
 re 2022</div><ul class="gski-epreuve-liste-infos"><li>Codex épreuve FMVF017
 4</li><li>Parcours Technique</li><li>Catégorie(s) : U13 (Filles)</li></ul><
 /li></ul></div><div class="gskiepreuves-links"><ul><li><a href="https://ski
 vosges.net/index.php?option=com_jevents&task=icalevent.detail&evid=1996&Ite
 mid=6283">Voir les informations dans l'agenda...</a></li></ul></div></div">
 <!-- #/gskiepreuve fin du dode généré par le plugin jevents pour GskiEpreuv
 es. . Ne pas modifier cette ligne, ni tout le contenu précedant.  #/gskiepr
 euve --> <a href="https://skivosges.net/agenda/export-synchronisation/detai
 levenement/2001/-/a-definr?tmpl=component">Cet évènement a été importé depu
 is :https://skivosges.net/agenda/export-synchronisation/detailevenement/200
 1/-/a-definr?tmpl=component</a>DTSTAMP:20260420T131649
DTSTART;TZID=Europe/Paris;VALUE=DATE:20221015
DTEND;TZID=Europe/Paris;VALUE=DATE:20221016
SEQUENCE:0
TRANSP:OPAQUE
END:VEVENT
END:VCALENDAR