BEGIN:VCALENDAR
VERSION:2.0
PRODID:-//jEvents 2.0 for Joomla//EN
CALSCALE:GREGORIAN
METHOD:PUBLISH
BEGIN:VTIMEZONE
TZID:Europe/Paris
BEGIN:STANDARD
DTSTART:20130215T080000
RDATE:20130331T030000
TZOFFSETFROM:+0200
TZOFFSETTO:+0100
TZNAME:Europe/Paris CET
END:STANDARD
BEGIN:STANDARD
DTSTART:20131027T020000
RDATE:20140330T030000
TZOFFSETFROM:+0200
TZOFFSETTO:+0100
TZNAME:Europe/Paris CET
END:STANDARD
BEGIN:STANDARD
DTSTART:20141026T020000
RDATE:20150329T030000
TZOFFSETFROM:+0200
TZOFFSETTO:+0100
TZNAME:Europe/Paris CET
END:STANDARD
BEGIN:STANDARD
DTSTART:20151025T020000
RDATE:20160327T030000
TZOFFSETFROM:+0200
TZOFFSETTO:+0100
TZNAME:Europe/Paris CET
END:STANDARD
BEGIN:STANDARD
DTSTART:20161030T020000
RDATE:20170326T030000
TZOFFSETFROM:+0200
TZOFFSETTO:+0100
TZNAME:Europe/Paris CET
END:STANDARD
BEGIN:STANDARD
DTSTART:20171029T020000
RDATE:20180325T030000
TZOFFSETFROM:+0200
TZOFFSETTO:+0100
TZNAME:Europe/Paris CET
END:STANDARD
BEGIN:STANDARD
DTSTART:20181028T020000
RDATE:20190331T030000
TZOFFSETFROM:+0200
TZOFFSETTO:+0100
TZNAME:Europe/Paris CET
END:STANDARD
BEGIN:STANDARD
DTSTART:20191027T020000
RDATE:20200329T030000
TZOFFSETFROM:+0200
TZOFFSETTO:+0100
TZNAME:Europe/Paris CET
END:STANDARD
BEGIN:STANDARD
DTSTART:20201025T020000
RDATE:20210328T030000
TZOFFSETFROM:+0200
TZOFFSETTO:+0100
TZNAME:Europe/Paris CET
END:STANDARD
BEGIN:STANDARD
DTSTART:20211031T020000
RDATE:20220327T030000
TZOFFSETFROM:+0200
TZOFFSETTO:+0100
TZNAME:Europe/Paris CET
END:STANDARD
BEGIN:STANDARD
DTSTART:20221030T020000
RDATE:20230326T030000
TZOFFSETFROM:+0200
TZOFFSETTO:+0100
TZNAME:Europe/Paris CET
END:STANDARD
BEGIN:STANDARD
DTSTART:20231029T020000
RDATE:20240331T030000
TZOFFSETFROM:+0200
TZOFFSETTO:+0100
TZNAME:Europe/Paris CET
END:STANDARD
BEGIN:STANDARD
DTSTART:20241027T020000
RDATE:20250330T030000
TZOFFSETFROM:+0200
TZOFFSETTO:+0100
TZNAME:Europe/Paris CET
END:STANDARD
BEGIN:STANDARD
DTSTART:20251026T020000
RDATE:20260329T030000
TZOFFSETFROM:+0200
TZOFFSETTO:+0100
TZNAME:Europe/Paris CET
END:STANDARD
BEGIN:STANDARD
DTSTART:20261025T020000
RDATE:20270328T030000
TZOFFSETFROM:+0200
TZOFFSETTO:+0100
TZNAME:Europe/Paris CET
END:STANDARD
BEGIN:DAYLIGHT
DTSTART:20130331T030000
RDATE:20131027T020000
TZOFFSETFROM:+0100
TZOFFSETTO:+0200
TZNAME:Europe/Paris CEST
END:DAYLIGHT
BEGIN:DAYLIGHT
DTSTART:20140330T030000
RDATE:20141026T020000
TZOFFSETFROM:+0100
TZOFFSETTO:+0200
TZNAME:Europe/Paris CEST
END:DAYLIGHT
BEGIN:DAYLIGHT
DTSTART:20150329T030000
RDATE:20151025T020000
TZOFFSETFROM:+0100
TZOFFSETTO:+0200
TZNAME:Europe/Paris CEST
END:DAYLIGHT
BEGIN:DAYLIGHT
DTSTART:20160327T030000
RDATE:20161030T020000
TZOFFSETFROM:+0100
TZOFFSETTO:+0200
TZNAME:Europe/Paris CEST
END:DAYLIGHT
BEGIN:DAYLIGHT
DTSTART:20170326T030000
RDATE:20171029T020000
TZOFFSETFROM:+0100
TZOFFSETTO:+0200
TZNAME:Europe/Paris CEST
END:DAYLIGHT
BEGIN:DAYLIGHT
DTSTART:20180325T030000
RDATE:20181028T020000
TZOFFSETFROM:+0100
TZOFFSETTO:+0200
TZNAME:Europe/Paris CEST
END:DAYLIGHT
BEGIN:DAYLIGHT
DTSTART:20190331T030000
RDATE:20191027T020000
TZOFFSETFROM:+0100
TZOFFSETTO:+0200
TZNAME:Europe/Paris CEST
END:DAYLIGHT
BEGIN:DAYLIGHT
DTSTART:20200329T030000
RDATE:20201025T020000
TZOFFSETFROM:+0100
TZOFFSETTO:+0200
TZNAME:Europe/Paris CEST
END:DAYLIGHT
BEGIN:DAYLIGHT
DTSTART:20210328T030000
RDATE:20211031T020000
TZOFFSETFROM:+0100
TZOFFSETTO:+0200
TZNAME:Europe/Paris CEST
END:DAYLIGHT
BEGIN:DAYLIGHT
DTSTART:20220327T030000
RDATE:20221030T020000
TZOFFSETFROM:+0100
TZOFFSETTO:+0200
TZNAME:Europe/Paris CEST
END:DAYLIGHT
BEGIN:DAYLIGHT
DTSTART:20230326T030000
RDATE:20231029T020000
TZOFFSETFROM:+0100
TZOFFSETTO:+0200
TZNAME:Europe/Paris CEST
END:DAYLIGHT
BEGIN:DAYLIGHT
DTSTART:20240331T030000
RDATE:20241027T020000
TZOFFSETFROM:+0100
TZOFFSETTO:+0200
TZNAME:Europe/Paris CEST
END:DAYLIGHT
BEGIN:DAYLIGHT
DTSTART:20250330T030000
RDATE:20251026T020000
TZOFFSETFROM:+0100
TZOFFSETTO:+0200
TZNAME:Europe/Paris CEST
END:DAYLIGHT
BEGIN:DAYLIGHT
DTSTART:20260329T030000
RDATE:20261025T020000
TZOFFSETFROM:+0100
TZOFFSETTO:+0200
TZNAME:Europe/Paris CEST
END:DAYLIGHT
END:VTIMEZONE
BEGIN:VEVENT
UID:cffc7f744c88147840360439df53f22f
CATEGORIES:Circuit Alsace Jeunes (alpin)
CREATED:20131214T192823
SUMMARY:CAJ         Coupe du Markstein / Cp de Bronze 
URL;VALUE=URI:https://skivosges.net/agenda/export-synchronisation/detailevenement/213/-/c
 aj-coupe-du-markstein-cp-de-bronze?tmpl=component
DESCRIPTION:CAJ         Coupe du Markstein / Cp de Bronze  \n(Coupe d'Alsace Jeunes)\n\
 nLieu : MARKSTEIN \nOrganisateur : S.C VALLEE DE WESSERLING  (14186 S.C VAL
 LEE DE WESSERLING)\nEmail : RegularLabs.EmailProtector.unCloak("ep_c82e7ea6
 ");\n\nLes clubs de plus de 3 inscrits fourniront un juge de porte.\n\nInsc
 riptions en cours sur ce site\n - AMVF1031  Slalom (Coupe de Bronze) U10 Fi
 lles\n  CAJ         Coupe du Markstein / Cp de Bronze \n - AMVM1031  Slalom
  (Coupe de Bronze) U10 Garçons\n  CAJ         Coupe du Markstein / Cp de Br
 onze \n - AMVF1032  Slalom (Coupe de Bronze) U12 Filles\n  CAJ         Coup
 e du Markstein / Cp de Bronze \n - AMVM1032  Slalom (Coupe de Bronze) U12 G
 arçons\n  CAJ         Coupe du Markstein / Cp de Bronze \n - AMVF1033  Slal
 om (Coupe de Bronze) U14 Filles\n  CAJ         Coupe du Markstein / Cp de B
 ronze \n - AMVM1033  Slalom (Coupe de Bronze) U14 Garçons\n  CAJ         Co
 upe du Markstein / Cp de Bronze  Cet évènement a été importé depuis :https:
 //skivosges.net/agenda/export-synchronisation/detailevenement/213/-/caj-cou
 pe-du-markstein-cp-de-bronze?tmpl=component
X-ALT-DESC;FMTTYPE=text/html:<strong>CAJ         Coupe du Markstein / Cp de Bronze </strong> <br /><i>(C
 oupe d'Alsace Jeunes)</i><br /><br />Lieu : MARKSTEIN <br />Organisateur : 
 S.C VALLEE DE WESSERLING  <small>(14186 S.C VALLEE DE WESSERLING)</small><b
 r />Email : <!-- Cette adresse électronique est protégée contre les robots 
 spammeurs. --><span class="cloaked_email ep_c82e7ea6"><span data-ep-b="m" d
 ata-ep-a="&#115;&#99;&#118;&#119;"><span data-ep-a="e&#115;se" data-ep-b="&
 #108;.&#99;o"><span data-ep-a="&#114;&#108;i&#110;" data-ep-b="g&#64;&#97;&
 #111;"></span></span></span></span><script>RegularLabs.EmailProtector.unClo
 ak("ep_c82e7ea6");</script><br /><br />Les clubs de plus de 3 inscrits four
 niront un juge de porte.<br /><br />Inscriptions en cours sur ce site<ul ty
 pe="disc"><li>AMVF1031  Slalom <nobr><i>(Coupe de Bronze)</i></nobr> <nobr>
 U10</nobr> Filles<br />&nbsp;&nbsp;CAJ         Coupe du Markstein / Cp de B
 ronze </li><li>AMVM1031  Slalom <nobr><i>(Coupe de Bronze)</i></nobr> <nobr
 >U10</nobr> Garçons<br />&nbsp;&nbsp;CAJ         Coupe du Markstein / Cp de
  Bronze </li><li>AMVF1032  Slalom <nobr><i>(Coupe de Bronze)</i></nobr> <no
 br>U12</nobr> Filles<br />&nbsp;&nbsp;CAJ         Coupe du Markstein / Cp d
 e Bronze </li><li>AMVM1032  Slalom <nobr><i>(Coupe de Bronze)</i></nobr> <n
 obr>U12</nobr> Garçons<br />&nbsp;&nbsp;CAJ         Coupe du Markstein / Cp
  de Bronze </li><li>AMVF1033  Slalom <nobr><i>(Coupe de Bronze)</i></nobr> 
 <nobr>U14</nobr> Filles<br />&nbsp;&nbsp;CAJ         Coupe du Markstein / C
 p de Bronze </li><li>AMVM1033  Slalom <nobr><i>(Coupe de Bronze)</i></nobr>
  <nobr>U14</nobr> Garçons<br />&nbsp;&nbsp;CAJ         Coupe du Markstein /
  Cp de Bronze </li></ul> <a href="https://skivosges.net/agenda/export-synch
 ronisation/detailevenement/213/-/caj-coupe-du-markstein-cp-de-bronze?tmpl=c
 omponent">Cet évènement a été importé depuis :https://skivosges.net/agenda/
 export-synchronisation/detailevenement/213/-/caj-coupe-du-markstein-cp-de-b
 ronze?tmpl=component</a>DTSTAMP:20260421T050702
DTSTART;TZID=Europe/Paris:20140216T080000
DTEND;TZID=Europe/Paris:20140216T170000
SEQUENCE:0
TRANSP:OPAQUE
END:VEVENT
END:VCALENDAR