BEGIN:VCALENDAR
VERSION:2.0
PRODID:-//jEvents 2.0 for Joomla//EN
CALSCALE:GREGORIAN
METHOD:PUBLISH
BEGIN:VTIMEZONE
TZID:Europe/Paris
BEGIN:STANDARD
DTSTART:20221030T020000
RDATE:20230326T030000
TZOFFSETFROM:+0200
TZOFFSETTO:+0100
TZNAME:Europe/Paris CET
END:STANDARD
BEGIN:STANDARD
DTSTART:20231029T020000
RDATE:20240331T030000
TZOFFSETFROM:+0200
TZOFFSETTO:+0100
TZNAME:Europe/Paris CET
END:STANDARD
BEGIN:STANDARD
DTSTART:20241027T020000
RDATE:20250330T030000
TZOFFSETFROM:+0200
TZOFFSETTO:+0100
TZNAME:Europe/Paris CET
END:STANDARD
BEGIN:STANDARD
DTSTART:20251026T020000
RDATE:20260329T030000
TZOFFSETFROM:+0200
TZOFFSETTO:+0100
TZNAME:Europe/Paris CET
END:STANDARD
BEGIN:STANDARD
DTSTART:20261025T020000
RDATE:20270328T030000
TZOFFSETFROM:+0200
TZOFFSETTO:+0100
TZNAME:Europe/Paris CET
END:STANDARD
BEGIN:DAYLIGHT
DTSTART:20220807T000000
RDATE:20221030T020000
TZOFFSETFROM:+0100
TZOFFSETTO:+0200
TZNAME:Europe/Paris CEST
END:DAYLIGHT
BEGIN:DAYLIGHT
DTSTART:20230326T030000
RDATE:20231029T020000
TZOFFSETFROM:+0100
TZOFFSETTO:+0200
TZNAME:Europe/Paris CEST
END:DAYLIGHT
BEGIN:DAYLIGHT
DTSTART:20240331T030000
RDATE:20241027T020000
TZOFFSETFROM:+0100
TZOFFSETTO:+0200
TZNAME:Europe/Paris CEST
END:DAYLIGHT
BEGIN:DAYLIGHT
DTSTART:20250330T030000
RDATE:20251026T020000
TZOFFSETFROM:+0100
TZOFFSETTO:+0200
TZNAME:Europe/Paris CEST
END:DAYLIGHT
BEGIN:DAYLIGHT
DTSTART:20260329T030000
RDATE:20261025T020000
TZOFFSETFROM:+0100
TZOFFSETTO:+0200
TZNAME:Europe/Paris CEST
END:DAYLIGHT
END:VTIMEZONE
BEGIN:VEVENT
UID:4d53d9b5ae7357765f660caa9c4795c3
CATEGORIES:Compétition Saut
CREATED:20230726T140005
SUMMARY:Coupe des Vosges
URL;VALUE=URI:https://skivosges.net/agenda/export-synchronisation/detailevenement/2138/-/
 coupe-des-vosges?tmpl=component
DESCRIPTION:Coupe des Vosges\n - Codex évenement TMVT0130\n - Lieu : TREMPLIN BAS RUPT\
 n - Organisateur : 14089 GERARDMER SKI ALPIN\n - Courriel : RegularLabs.Ema
 ilProtector.unCloak("ep_9e05d49d");Période d'inscription à l'evènement du M
 ardi 01 Août 2023 à 00:00 au Dimanche 06 Août 2023 à 12:00Inscriptions ouve
 rtes aux detenteurs des titres Fédéraux valides suivants : Licenciés Compét
 iteurs\n - Voir les informations dans l'agenda... (/index.php?option=com_je
 vents&amp;task=icalevent.detail&amp;evid=2133&amp;Itemid=6283)Epreuves :\n 
 - Le Mardi 08 Août 2023\n - Codex épreuve TMVF0131\n - Saut Special\n - Cat
 égorie(s) : Toutes les Categories (Filles)\n - Voir les informations dans l
 'agenda... (/index.php?option=com_jevents&amp;task=icalevent.detail&amp;evi
 d=2133&amp;Itemid=6283) Cet évènement a été importé depuis :https://skivosg
 es.net/agenda/export-synchronisation/detailevenement/2138/-/coupe-des-vosge
 s?tmpl=component
X-ALT-DESC;FMTTYPE=text/html:<!-- #gskiepreuve code généré par le plugin jevents pour GskiEpreuves. Ne p
 as modifier cette ligne, ni tout le contenu suivant  #gskiepreuve --><div c
 lass="gski-evenement_infos"><div class="gski-evenement-nom">Coupe des Vosge
 s</div><div class="gski-evenement-report"></div><ul class="gski-evenement-l
 iste-infos"><li>Codex évenement TMVT0130</li><li>Lieu : TREMPLIN BAS RUPT</
 li><li>Organisateur : 14089 GERARDMER SKI ALPIN</li><li>Courriel : <!-- Cet
 te adresse électronique est protégée contre les robots spammeurs. --><span 
 class="cloaked_email ep_9e05d49d"><span data-ep-b="&#46;&#102;&#114;" data-
 ep-a="&#114;&#101;&#103;&#105;"><span data-ep-b="ad&#111;&#111;" data-ep-a=
 "s.&#97;&#110;"><span data-ep-a="&#100;re&#54;" data-ep-b="&#64;&#119;a&#11
 0;"></span></span></span></span><script>RegularLabs.EmailProtector.unCloak(
 "ep_9e05d49d");</script></li></ul><div class="gski-evenement-infos-2"><div 
 class="gski-evenement-info-inscriptions"><div class="gski-evenement-inscrip
 tions-periodes">Période d'inscription à l'evènement du Mardi 01 Août 2023 à
  00:00 au Dimanche 06 Août 2023 à 12:00<div class="gski-evenement-inscripti
 ons-types-titres">Inscriptions ouvertes aux detenteurs des titres Fédéraux 
 valides suivants : Licenciés Compétiteurs</div></div></div><div class="gski
 epreuves-links"><ul><li><a href="https://skivosges.net/index.php?option=com
 _jevents&task=icalevent.detail&evid=2133&Itemid=6283">Voir les informations
  dans l'agenda...</a></li></ul></div><div class="gski-evenement-epreuves"><
 div class="gski-evenement-epreuves-titres">Epreuves :</div><ul class="gski-
 evenement-epreuves-list"><li><div class="gski-epreuve-date">Le Mardi 08 Aoû
 t 2023</div><ul class="gski-epreuve-liste-infos"><li>Codex épreuve TMVF0131
 </li><li>Saut Special</li><li>Catégorie(s) : Toutes les Categories (Filles)
 </li></ul></li></ul></div><div class="gskiepreuves-links"><ul><li><a href="
 https://skivosges.net/index.php?option=com_jevents&task=icalevent.detail&ev
 id=2133&Itemid=6283">Voir les informations dans l'agenda...</a></li></ul></
 div></div"><!-- #/gskiepreuve fin du dode généré par le plugin jevents pour
  GskiEpreuves. . Ne pas modifier cette ligne, ni tout le contenu précedant.
   #/gskiepreuve --> <a href="https://skivosges.net/agenda/export-synchronis
 ation/detailevenement/2138/-/coupe-des-vosges?tmpl=component">Cet évènement
  a été importé depuis :https://skivosges.net/agenda/export-synchronisation/
 detailevenement/2138/-/coupe-des-vosges?tmpl=component</a>DTSTAMP:20260420T131231
DTSTART;TZID=Europe/Paris;VALUE=DATE:20230808
DTEND;TZID=Europe/Paris;VALUE=DATE:20230809
SEQUENCE:0
TRANSP:OPAQUE
END:VEVENT
END:VCALENDAR