BEGIN:VCALENDAR
VERSION:2.0
PRODID:-//jEvents 2.0 for Joomla//EN
CALSCALE:GREGORIAN
METHOD:PUBLISH
BEGIN:VTIMEZONE
TZID:Europe/Paris
BEGIN:STANDARD
DTSTART:20221030T020000
RDATE:20230326T030000
TZOFFSETFROM:+0200
TZOFFSETTO:+0100
TZNAME:Europe/Paris CET
END:STANDARD
BEGIN:STANDARD
DTSTART:20231029T020000
RDATE:20240331T030000
TZOFFSETFROM:+0200
TZOFFSETTO:+0100
TZNAME:Europe/Paris CET
END:STANDARD
BEGIN:STANDARD
DTSTART:20241027T020000
RDATE:20250330T030000
TZOFFSETFROM:+0200
TZOFFSETTO:+0100
TZNAME:Europe/Paris CET
END:STANDARD
BEGIN:STANDARD
DTSTART:20251026T020000
RDATE:20260329T030000
TZOFFSETFROM:+0200
TZOFFSETTO:+0100
TZNAME:Europe/Paris CET
END:STANDARD
BEGIN:STANDARD
DTSTART:20261025T020000
RDATE:20270328T030000
TZOFFSETFROM:+0200
TZOFFSETTO:+0100
TZNAME:Europe/Paris CET
END:STANDARD
BEGIN:DAYLIGHT
DTSTART:20220912T000000
RDATE:20221030T020000
TZOFFSETFROM:+0100
TZOFFSETTO:+0200
TZNAME:Europe/Paris CEST
END:DAYLIGHT
BEGIN:DAYLIGHT
DTSTART:20230326T030000
RDATE:20231029T020000
TZOFFSETFROM:+0100
TZOFFSETTO:+0200
TZNAME:Europe/Paris CEST
END:DAYLIGHT
BEGIN:DAYLIGHT
DTSTART:20240331T030000
RDATE:20241027T020000
TZOFFSETFROM:+0100
TZOFFSETTO:+0200
TZNAME:Europe/Paris CEST
END:DAYLIGHT
BEGIN:DAYLIGHT
DTSTART:20250330T030000
RDATE:20251026T020000
TZOFFSETFROM:+0100
TZOFFSETTO:+0200
TZNAME:Europe/Paris CEST
END:DAYLIGHT
BEGIN:DAYLIGHT
DTSTART:20260329T030000
RDATE:20261025T020000
TZOFFSETFROM:+0100
TZOFFSETTO:+0200
TZNAME:Europe/Paris CEST
END:DAYLIGHT
END:VTIMEZONE
BEGIN:VEVENT
UID:4f99905c79f3c7dcb2be7f4a0e107fe7
CATEGORIES:Compétition Biathlon
CREATED:20230901T140004
SUMMARY:TROPHEE ANDROS - course Foyer 10m
URL;VALUE=URI:https://skivosges.net/agenda/export-synchronisation/detailevenement/2146/-/
 trophee-andros-course-foyer-10m?tmpl=component
DESCRIPTION:TROPHEE ANDROS - course Foyer 10m\n - Codex évenement BMVT0060\n - Lieu : X
 onrupt\n - Station : xonrupt\n - Organisateur : 14102 SKI CLUB XONRUPT\n - 
 Courriel : RegularLabs.EmailProtector.unCloak("ep_2bc5b3e0");\n - Téléphone
  : 0782827173\n - Délégué Technique : CLAUDE CHRISTINEPériode d'inscription
  à l'evènement du Mercredi 06 Septembre 2023 à 00:00 au Mardi 12 Septembre 
 2023 à 12:00Inscriptions ouvertes aux detenteurs des titres Fédéraux valide
 s suivants : Licenciés Compétiteurs et Titres Loisirs et Dirigeants\n - Voi
 r les informations dans l'agenda... (/index.php?option=com_jevents&amp;task
 =icalevent.detail&amp;evid=2141&amp;Itemid=6283)\n - Vers les résultats... 
 (/index.php?option=com_gskiepreuves&amp;view=afficheresultats&amp;format_op
 tion=tous&amp;filter[search]=BMVT0060&amp;filter[date_debut]=13-09-2023&amp
 ;filter[date_fin]=13-09-2023&amp;code_activite=BIATH&amp;Itemid=6283)Epreuv
 es :\n - Le Mercredi 13 Septembre 2023\n - Codex épreuve BMVM0061\n - Indiv
 iduel\n - Catégorie(s) : U9 (Garçons)\n - Le Mercredi 13 Septembre 2023\n -
  Codex épreuve BMVF0062\n - Individuel\n - Catégorie(s) : U11 (Filles)\n - 
 Le Mercredi 13 Septembre 2023\n - Codex épreuve BMVM0062\n - Individuel\n -
  Catégorie(s) : U11 (Garçons)\n - Le Mercredi 13 Septembre 2023\n - Codex é
 preuve BMVF0063\n - Individuel\n - Catégorie(s) : U13 (Filles)\n - Le Mercr
 edi 13 Septembre 2023\n - Codex épreuve BMVM0063\n - Individuel\n - Catégor
 ie(s) : U13 (Garçons)\n - Voir les informations dans l'agenda... (/index.ph
 p?option=com_jevents&amp;task=icalevent.detail&amp;evid=2141&amp;Itemid=628
 3)\n - Vers les résultats... (/index.php?option=com_gskiepreuves&amp;view=a
 fficheresultats&amp;format_option=tous&amp;filter[search]=BMVT0060&amp;filt
 er[date_debut]=13-09-2023&amp;filter[date_fin]=13-09-2023&amp;code_activite
 =BIATH&amp;Itemid=6283) Cet évènement a été importé depuis :https://skivosg
 es.net/agenda/export-synchronisation/detailevenement/2146/-/trophee-andros-
 course-foyer-10m?tmpl=component
X-ALT-DESC;FMTTYPE=text/html:<!-- #gskiepreuve code généré par le plugin jevents pour GskiEpreuves. Ne p
 as modifier cette ligne, ni tout le contenu suivant  #gskiepreuve --><div c
 lass="gski-evenement_infos"><div class="gski-evenement-nom">TROPHEE ANDROS 
 - course Foyer 10m</div><div class="gski-evenement-report"></div><ul class=
 "gski-evenement-liste-infos"><li>Codex évenement BMVT0060</li><li>Lieu : Xo
 nrupt</li><li>Station : xonrupt</li><li>Organisateur : 14102 SKI CLUB XONRU
 PT</li><li>Courriel : <!-- Cette adresse électronique est protégée contre l
 es robots spammeurs. --><span class="cloaked_email ep_2bc5b3e0"><span data-
 ep-a="&#114;e&#109;&#121;" data-ep-b="&#109;"><span data-ep-b="&#108;&#46;&
 #99;&#111;" data-ep-a="a&#108;ai"><span data-ep-b="&#103;&#109;&#97;&#105;"
  data-ep-a="&#110;88&#64;"></span></span></span></span><script>RegularLabs.
 EmailProtector.unCloak("ep_2bc5b3e0");</script></li><li>Téléphone : 0782827
 173</li><li><span class="gski-evenement-obs">Délégué Technique : CLAUDE CHR
 ISTINE</span></li></ul><div class="gski-evenement-infos-2"><div class="gski
 -evenement-info-inscriptions"><div class="gski-evenement-inscriptions-perio
 des">Période d'inscription à l'evènement du Mercredi 06 Septembre 2023 à 00
 :00 au Mardi 12 Septembre 2023 à 12:00<div class="gski-evenement-inscriptio
 ns-types-titres">Inscriptions ouvertes aux detenteurs des titres Fédéraux v
 alides suivants : Licenciés Compétiteurs et Titres Loisirs et Dirigeants</d
 iv></div></div><div class="gskiepreuves-links"><ul><li><a href="https://ski
 vosges.net/index.php?option=com_jevents&task=icalevent.detail&evid=2141&Ite
 mid=6283">Voir les informations dans l'agenda...</a></li><li><a href="https
 ://skivosges.net/index.php?option=com_gskiepreuves&view=afficheresultats&fo
 rmat_option=tous&filter[search]=BMVT0060&filter[date_debut]=13-09-2023&filt
 er[date_fin]=13-09-2023&code_activite=BIATH&Itemid=6283">Vers les résultats
 ...</a></li></ul></div><div class="gski-evenement-epreuves"><div class="gsk
 i-evenement-epreuves-titres">Epreuves :</div><ul class="gski-evenement-epre
 uves-list"><li><div class="gski-epreuve-date">Le Mercredi 13 Septembre 2023
 </div><ul class="gski-epreuve-liste-infos"><li>Codex épreuve BMVM0061</li><
 li>Individuel</li><li>Catégorie(s) : U9 (Garçons)</li></ul></li><li><div cl
 ass="gski-epreuve-date">Le Mercredi 13 Septembre 2023</div><ul class="gski-
 epreuve-liste-infos"><li>Codex épreuve BMVF0062</li><li>Individuel</li><li>
 Catégorie(s) : U11 (Filles)</li></ul></li><li><div class="gski-epreuve-date
 ">Le Mercredi 13 Septembre 2023</div><ul class="gski-epreuve-liste-infos"><
 li>Codex épreuve BMVM0062</li><li>Individuel</li><li>Catégorie(s) : U11 (Ga
 rçons)</li></ul></li><li><div class="gski-epreuve-date">Le Mercredi 13 Sept
 embre 2023</div><ul class="gski-epreuve-liste-infos"><li>Codex épreuve BMVF
 0063</li><li>Individuel</li><li>Catégorie(s) : U13 (Filles)</li></ul></li><
 li><div class="gski-epreuve-date">Le Mercredi 13 Septembre 2023</div><ul cl
 ass="gski-epreuve-liste-infos"><li>Codex épreuve BMVM0063</li><li>Individue
 l</li><li>Catégorie(s) : U13 (Garçons)</li></ul></li></ul></div><div class=
 "gskiepreuves-links"><ul><li><a href="https://skivosges.net/index.php?optio
 n=com_jevents&task=icalevent.detail&evid=2141&Itemid=6283">Voir les informa
 tions dans l'agenda...</a></li><li><a href="https://skivosges.net/index.php
 ?option=com_gskiepreuves&view=afficheresultats&format_option=tous&filter[se
 arch]=BMVT0060&filter[date_debut]=13-09-2023&filter[date_fin]=13-09-2023&co
 de_activite=BIATH&Itemid=6283">Vers les résultats...</a></li></ul></div></d
 iv"><!-- #/gskiepreuve fin du dode généré par le plugin jevents pour GskiEp
 reuves. . Ne pas modifier cette ligne, ni tout le contenu précedant.  #/gsk
 iepreuve --> <a href="https://skivosges.net/agenda/export-synchronisation/d
 etailevenement/2146/-/trophee-andros-course-foyer-10m?tmpl=component">Cet é
 vènement a été importé depuis :https://skivosges.net/agenda/export-synchron
 isation/detailevenement/2146/-/trophee-andros-course-foyer-10m?tmpl=compone
 nt</a>DTSTAMP:20260420T111638
DTSTART;TZID=Europe/Paris;VALUE=DATE:20230913
DTEND;TZID=Europe/Paris;VALUE=DATE:20230914
SEQUENCE:0
TRANSP:OPAQUE
END:VEVENT
END:VCALENDAR