BEGIN:VCALENDAR
VERSION:2.0
PRODID:-//jEvents 2.0 for Joomla//EN
CALSCALE:GREGORIAN
METHOD:PUBLISH
BEGIN:VTIMEZONE
TZID:Europe/Paris
BEGIN:STANDARD
DTSTART:20130306T080000
RDATE:20130331T030000
TZOFFSETFROM:+0200
TZOFFSETTO:+0100
TZNAME:Europe/Paris CET
END:STANDARD
BEGIN:STANDARD
DTSTART:20131027T020000
RDATE:20140330T030000
TZOFFSETFROM:+0200
TZOFFSETTO:+0100
TZNAME:Europe/Paris CET
END:STANDARD
BEGIN:STANDARD
DTSTART:20141026T020000
RDATE:20150329T030000
TZOFFSETFROM:+0200
TZOFFSETTO:+0100
TZNAME:Europe/Paris CET
END:STANDARD
BEGIN:STANDARD
DTSTART:20151025T020000
RDATE:20160327T030000
TZOFFSETFROM:+0200
TZOFFSETTO:+0100
TZNAME:Europe/Paris CET
END:STANDARD
BEGIN:STANDARD
DTSTART:20161030T020000
RDATE:20170326T030000
TZOFFSETFROM:+0200
TZOFFSETTO:+0100
TZNAME:Europe/Paris CET
END:STANDARD
BEGIN:STANDARD
DTSTART:20171029T020000
RDATE:20180325T030000
TZOFFSETFROM:+0200
TZOFFSETTO:+0100
TZNAME:Europe/Paris CET
END:STANDARD
BEGIN:STANDARD
DTSTART:20181028T020000
RDATE:20190331T030000
TZOFFSETFROM:+0200
TZOFFSETTO:+0100
TZNAME:Europe/Paris CET
END:STANDARD
BEGIN:STANDARD
DTSTART:20191027T020000
RDATE:20200329T030000
TZOFFSETFROM:+0200
TZOFFSETTO:+0100
TZNAME:Europe/Paris CET
END:STANDARD
BEGIN:STANDARD
DTSTART:20201025T020000
RDATE:20210328T030000
TZOFFSETFROM:+0200
TZOFFSETTO:+0100
TZNAME:Europe/Paris CET
END:STANDARD
BEGIN:STANDARD
DTSTART:20211031T020000
RDATE:20220327T030000
TZOFFSETFROM:+0200
TZOFFSETTO:+0100
TZNAME:Europe/Paris CET
END:STANDARD
BEGIN:STANDARD
DTSTART:20221030T020000
RDATE:20230326T030000
TZOFFSETFROM:+0200
TZOFFSETTO:+0100
TZNAME:Europe/Paris CET
END:STANDARD
BEGIN:STANDARD
DTSTART:20231029T020000
RDATE:20240331T030000
TZOFFSETFROM:+0200
TZOFFSETTO:+0100
TZNAME:Europe/Paris CET
END:STANDARD
BEGIN:STANDARD
DTSTART:20241027T020000
RDATE:20250330T030000
TZOFFSETFROM:+0200
TZOFFSETTO:+0100
TZNAME:Europe/Paris CET
END:STANDARD
BEGIN:STANDARD
DTSTART:20251026T020000
RDATE:20260329T030000
TZOFFSETFROM:+0200
TZOFFSETTO:+0100
TZNAME:Europe/Paris CET
END:STANDARD
BEGIN:STANDARD
DTSTART:20261025T020000
RDATE:20270328T030000
TZOFFSETFROM:+0200
TZOFFSETTO:+0100
TZNAME:Europe/Paris CET
END:STANDARD
BEGIN:DAYLIGHT
DTSTART:20130331T030000
RDATE:20131027T020000
TZOFFSETFROM:+0100
TZOFFSETTO:+0200
TZNAME:Europe/Paris CEST
END:DAYLIGHT
BEGIN:DAYLIGHT
DTSTART:20140330T030000
RDATE:20141026T020000
TZOFFSETFROM:+0100
TZOFFSETTO:+0200
TZNAME:Europe/Paris CEST
END:DAYLIGHT
BEGIN:DAYLIGHT
DTSTART:20150329T030000
RDATE:20151025T020000
TZOFFSETFROM:+0100
TZOFFSETTO:+0200
TZNAME:Europe/Paris CEST
END:DAYLIGHT
BEGIN:DAYLIGHT
DTSTART:20160327T030000
RDATE:20161030T020000
TZOFFSETFROM:+0100
TZOFFSETTO:+0200
TZNAME:Europe/Paris CEST
END:DAYLIGHT
BEGIN:DAYLIGHT
DTSTART:20170326T030000
RDATE:20171029T020000
TZOFFSETFROM:+0100
TZOFFSETTO:+0200
TZNAME:Europe/Paris CEST
END:DAYLIGHT
BEGIN:DAYLIGHT
DTSTART:20180325T030000
RDATE:20181028T020000
TZOFFSETFROM:+0100
TZOFFSETTO:+0200
TZNAME:Europe/Paris CEST
END:DAYLIGHT
BEGIN:DAYLIGHT
DTSTART:20190331T030000
RDATE:20191027T020000
TZOFFSETFROM:+0100
TZOFFSETTO:+0200
TZNAME:Europe/Paris CEST
END:DAYLIGHT
BEGIN:DAYLIGHT
DTSTART:20200329T030000
RDATE:20201025T020000
TZOFFSETFROM:+0100
TZOFFSETTO:+0200
TZNAME:Europe/Paris CEST
END:DAYLIGHT
BEGIN:DAYLIGHT
DTSTART:20210328T030000
RDATE:20211031T020000
TZOFFSETFROM:+0100
TZOFFSETTO:+0200
TZNAME:Europe/Paris CEST
END:DAYLIGHT
BEGIN:DAYLIGHT
DTSTART:20220327T030000
RDATE:20221030T020000
TZOFFSETFROM:+0100
TZOFFSETTO:+0200
TZNAME:Europe/Paris CEST
END:DAYLIGHT
BEGIN:DAYLIGHT
DTSTART:20230326T030000
RDATE:20231029T020000
TZOFFSETFROM:+0100
TZOFFSETTO:+0200
TZNAME:Europe/Paris CEST
END:DAYLIGHT
BEGIN:DAYLIGHT
DTSTART:20240331T030000
RDATE:20241027T020000
TZOFFSETFROM:+0100
TZOFFSETTO:+0200
TZNAME:Europe/Paris CEST
END:DAYLIGHT
BEGIN:DAYLIGHT
DTSTART:20250330T030000
RDATE:20251026T020000
TZOFFSETFROM:+0100
TZOFFSETTO:+0200
TZNAME:Europe/Paris CEST
END:DAYLIGHT
BEGIN:DAYLIGHT
DTSTART:20260329T030000
RDATE:20261025T020000
TZOFFSETFROM:+0100
TZOFFSETTO:+0200
TZNAME:Europe/Paris CEST
END:DAYLIGHT
END:VTIMEZONE
BEGIN:VEVENT
UID:de2d2f9bdbccb7f5c6ce6b8a1344a821
CATEGORIES:Circuit Massif Masters (alpin)
CREATED:20140304T222503
SUMMARY:GPM       GP Bini
URL;VALUE=URI:https://skivosges.net/agenda/export-synchronisation/detailevenement/242/-/g
 pm-gp-bini?tmpl=component
DESCRIPTION:GPM       GP Bini \n(Grand Prix Masters)\n\nLieu : MARKSTEIN \nOrganisateur
  : S.C.O.S.E.G. GUEBWILLER  (14356 S.C.O.S.E.G. GUEBWILLER)\nTelecopie : 03
  89 76 09 25\n\ncourse reportée-Dossards au chalet d´arrivée - forfaits au 
 bas de la fédérale - l´Hôtel Wolff propose un menu à 10,50€\n\nInscriptions
  en cours sur ce site\n - AMVF0381  Slalom (Courses Masters) Tous les Maste
 rs Dames Dames\n  GPM       GP Bini\n - AMVM0381  Slalom (Courses Masters) 
 Tous les Masters Hommes Hommes\n  GPM       GP Bini Cet évènement a été imp
 orté depuis :https://skivosges.net/agenda/export-synchronisation/detaileven
 ement/242/-/gpm-gp-bini?tmpl=component (https://skivosges.net/agenda/export
 -synchronisation/detailevenement/242/-/gpm-gp-bini?tmpl=component)
X-ALT-DESC;FMTTYPE=text/html:<strong>GPM       GP Bini</strong> <br /><i>(Grand Prix Masters)</i><br /><
 br />Lieu : MARKSTEIN <br />Organisateur : S.C.O.S.E.G. GUEBWILLER  <small>
 (14356 S.C.O.S.E.G. GUEBWILLER)</small><br />Telecopie : 03 89 76 09 25<br 
 /><br />course reportée-Dossards au chalet d´arrivée - forfaits au bas de l
 a fédérale - l´Hôtel Wolff propose un menu à 10,50€<br /><br />Inscriptions
  en cours sur ce site<ul type="disc"><li>AMVF0381  Slalom <nobr><i>(Courses
  Masters)</i></nobr> <nobr>Tous les Masters Dames</nobr> Dames<br />&nbsp;&
 nbsp;GPM       GP Bini</li><li>AMVM0381  Slalom <nobr><i>(Courses Masters)<
 /i></nobr> <nobr>Tous les Masters Hommes</nobr> Hommes<br />&nbsp;&nbsp;GPM
        GP Bini</li></ul> <a href="https://skivosges.net/agenda/export-synch
 ronisation/detailevenement/242/-/gpm-gp-bini?tmpl=component">Cet évènement 
 a été importé depuis :https://skivosges.net/agenda/export-synchronisation/d
 etailevenement/242/-/gpm-gp-bini?tmpl=component</a>DTSTAMP:20260421T050652
DTSTART;TZID=Europe/Paris:20140307T080000
DTEND;TZID=Europe/Paris:20140307T170000
SEQUENCE:0
TRANSP:OPAQUE
END:VEVENT
END:VCALENDAR