BEGIN:VCALENDAR
VERSION:2.0
PRODID:-//jEvents 2.0 for Joomla//EN
CALSCALE:GREGORIAN
METHOD:PUBLISH
BEGIN:VTIMEZONE
TZID:Europe/Paris
BEGIN:STANDARD
DTSTART:20130322T080000
RDATE:20130331T030000
TZOFFSETFROM:+0200
TZOFFSETTO:+0100
TZNAME:Europe/Paris CET
END:STANDARD
BEGIN:STANDARD
DTSTART:20131027T020000
RDATE:20140330T030000
TZOFFSETFROM:+0200
TZOFFSETTO:+0100
TZNAME:Europe/Paris CET
END:STANDARD
BEGIN:STANDARD
DTSTART:20141026T020000
RDATE:20150329T030000
TZOFFSETFROM:+0200
TZOFFSETTO:+0100
TZNAME:Europe/Paris CET
END:STANDARD
BEGIN:STANDARD
DTSTART:20151025T020000
RDATE:20160327T030000
TZOFFSETFROM:+0200
TZOFFSETTO:+0100
TZNAME:Europe/Paris CET
END:STANDARD
BEGIN:STANDARD
DTSTART:20161030T020000
RDATE:20170326T030000
TZOFFSETFROM:+0200
TZOFFSETTO:+0100
TZNAME:Europe/Paris CET
END:STANDARD
BEGIN:STANDARD
DTSTART:20171029T020000
RDATE:20180325T030000
TZOFFSETFROM:+0200
TZOFFSETTO:+0100
TZNAME:Europe/Paris CET
END:STANDARD
BEGIN:STANDARD
DTSTART:20181028T020000
RDATE:20190331T030000
TZOFFSETFROM:+0200
TZOFFSETTO:+0100
TZNAME:Europe/Paris CET
END:STANDARD
BEGIN:STANDARD
DTSTART:20191027T020000
RDATE:20200329T030000
TZOFFSETFROM:+0200
TZOFFSETTO:+0100
TZNAME:Europe/Paris CET
END:STANDARD
BEGIN:STANDARD
DTSTART:20201025T020000
RDATE:20210328T030000
TZOFFSETFROM:+0200
TZOFFSETTO:+0100
TZNAME:Europe/Paris CET
END:STANDARD
BEGIN:STANDARD
DTSTART:20211031T020000
RDATE:20220327T030000
TZOFFSETFROM:+0200
TZOFFSETTO:+0100
TZNAME:Europe/Paris CET
END:STANDARD
BEGIN:STANDARD
DTSTART:20221030T020000
RDATE:20230326T030000
TZOFFSETFROM:+0200
TZOFFSETTO:+0100
TZNAME:Europe/Paris CET
END:STANDARD
BEGIN:STANDARD
DTSTART:20231029T020000
RDATE:20240331T030000
TZOFFSETFROM:+0200
TZOFFSETTO:+0100
TZNAME:Europe/Paris CET
END:STANDARD
BEGIN:STANDARD
DTSTART:20241027T020000
RDATE:20250330T030000
TZOFFSETFROM:+0200
TZOFFSETTO:+0100
TZNAME:Europe/Paris CET
END:STANDARD
BEGIN:STANDARD
DTSTART:20251026T020000
RDATE:20260329T030000
TZOFFSETFROM:+0200
TZOFFSETTO:+0100
TZNAME:Europe/Paris CET
END:STANDARD
BEGIN:STANDARD
DTSTART:20261025T020000
RDATE:20270328T030000
TZOFFSETFROM:+0200
TZOFFSETTO:+0100
TZNAME:Europe/Paris CET
END:STANDARD
BEGIN:DAYLIGHT
DTSTART:20130331T030000
RDATE:20131027T020000
TZOFFSETFROM:+0100
TZOFFSETTO:+0200
TZNAME:Europe/Paris CEST
END:DAYLIGHT
BEGIN:DAYLIGHT
DTSTART:20140330T030000
RDATE:20141026T020000
TZOFFSETFROM:+0100
TZOFFSETTO:+0200
TZNAME:Europe/Paris CEST
END:DAYLIGHT
BEGIN:DAYLIGHT
DTSTART:20150329T030000
RDATE:20151025T020000
TZOFFSETFROM:+0100
TZOFFSETTO:+0200
TZNAME:Europe/Paris CEST
END:DAYLIGHT
BEGIN:DAYLIGHT
DTSTART:20160327T030000
RDATE:20161030T020000
TZOFFSETFROM:+0100
TZOFFSETTO:+0200
TZNAME:Europe/Paris CEST
END:DAYLIGHT
BEGIN:DAYLIGHT
DTSTART:20170326T030000
RDATE:20171029T020000
TZOFFSETFROM:+0100
TZOFFSETTO:+0200
TZNAME:Europe/Paris CEST
END:DAYLIGHT
BEGIN:DAYLIGHT
DTSTART:20180325T030000
RDATE:20181028T020000
TZOFFSETFROM:+0100
TZOFFSETTO:+0200
TZNAME:Europe/Paris CEST
END:DAYLIGHT
BEGIN:DAYLIGHT
DTSTART:20190331T030000
RDATE:20191027T020000
TZOFFSETFROM:+0100
TZOFFSETTO:+0200
TZNAME:Europe/Paris CEST
END:DAYLIGHT
BEGIN:DAYLIGHT
DTSTART:20200329T030000
RDATE:20201025T020000
TZOFFSETFROM:+0100
TZOFFSETTO:+0200
TZNAME:Europe/Paris CEST
END:DAYLIGHT
BEGIN:DAYLIGHT
DTSTART:20210328T030000
RDATE:20211031T020000
TZOFFSETFROM:+0100
TZOFFSETTO:+0200
TZNAME:Europe/Paris CEST
END:DAYLIGHT
BEGIN:DAYLIGHT
DTSTART:20220327T030000
RDATE:20221030T020000
TZOFFSETFROM:+0100
TZOFFSETTO:+0200
TZNAME:Europe/Paris CEST
END:DAYLIGHT
BEGIN:DAYLIGHT
DTSTART:20230326T030000
RDATE:20231029T020000
TZOFFSETFROM:+0100
TZOFFSETTO:+0200
TZNAME:Europe/Paris CEST
END:DAYLIGHT
BEGIN:DAYLIGHT
DTSTART:20240331T030000
RDATE:20241027T020000
TZOFFSETFROM:+0100
TZOFFSETTO:+0200
TZNAME:Europe/Paris CEST
END:DAYLIGHT
BEGIN:DAYLIGHT
DTSTART:20250330T030000
RDATE:20251026T020000
TZOFFSETFROM:+0100
TZOFFSETTO:+0200
TZNAME:Europe/Paris CEST
END:DAYLIGHT
BEGIN:DAYLIGHT
DTSTART:20260329T030000
RDATE:20261025T020000
TZOFFSETFROM:+0100
TZOFFSETTO:+0200
TZNAME:Europe/Paris CEST
END:DAYLIGHT
END:VTIMEZONE
BEGIN:VEVENT
UID:7dabd0305c595b3445ba91adb1ab10c9
CATEGORIES:Circuit Alsace Jeunes (alpin)
CREATED:20140318T075220
SUMMARY:CAJ U10 à U14 Coupe ? / Cpe de Bronze **REPORTE**
URL;VALUE=URI:https://skivosges.net/agenda/export-synchronisation/detailevenement/246/-/c
 aj-u10-a-u14-coupe-cpe-de-bronze-reporte?tmpl=component
DESCRIPTION:<strong>CAJ U10 à U14 Coupe ? / Cpe de Bronze</strong> <font class="attenti
 on4">(Epreuve reportée, date à determiner)</font> <br /><i>(Coupe d'Alsace 
 Jeunes)</i><br /><br />Lieu : Markstein<br />Organisateur : SCV Wesserling 
 <small>(14186 S.C VALLEE DE WESSERLING)</small><br />Telecopie : 06 23 32 4
 7 14<br /><br />Inscriptions en cours sur ce site<ul type="disc"><br />&nbs
 p;&nbsp;Lieu:MARKSTEIN<br />&nbsp;&nbsp;Organisateur:SCVW<li>AMVF0231  Slal
 om Geant  <nobr><i>(Coupe de Bronze)</i></nobr> <nobr>U10</nobr> Filles<br 
 />&nbsp;&nbsp;CAJ U10 à U14 Coupe ? / Cpe de Bronze&nbsp;</li><br />&nbsp;&
 nbsp;Lieu:MARKSTEIN<br />&nbsp;&nbsp;Organisateur:SCVW<li>AMVM0231  Slalom 
 Geant  <nobr><i>(Coupe de Bronze)</i></nobr> <nobr>U10</nobr> Garçons<br />
 &nbsp;&nbsp;CAJ U10 à U14 Coupe ? / Cpe de Bronze&nbsp;</li><br />&nbsp;&nb
 sp;Lieu:MARKSTEIN<br />&nbsp;&nbsp;Organisateur:SCVW<li>AMVF0232  Slalom Ge
 ant  <nobr><i>(Coupe de Bronze)</i></nobr> <nobr>U12</nobr> Filles<br />&nb
 sp;&nbsp;CAJ U10 à U14 Coupe ? / Cpe de Bronze&nbsp;</li><br />&nbsp;&nbsp;
 Lieu:MARKSTEIN<br />&nbsp;&nbsp;Organisateur:SCVW<li>AMVM0232  Slalom Geant
   <nobr><i>(Coupe de Bronze)</i></nobr> <nobr>U12</nobr> Garçons<br />&nbsp
 ;&nbsp;CAJ U10 à U14 Coupe ? / Cpe de Bronze&nbsp;</li><br />&nbsp;&nbsp;Li
 eu:MARKSTEIN<br />&nbsp;&nbsp;Organisateur:SCVW<li>AMVF0233  Slalom Geant  
 <nobr><i>(Coupe de Bronze)</i></nobr> <nobr>U14</nobr> Filles<br />&nbsp;&n
 bsp;CAJ U10 à U14 Coupe ? / Cpe de Bronze&nbsp;</li><br />&nbsp;&nbsp;Lieu:
 MARKSTEIN<br />&nbsp;&nbsp;Organisateur:SCVW<li>AMVM0233  Slalom Geant  <no
 br><i>(Coupe de Bronze)</i></nobr> <nobr>U14</nobr> Garçons<br />&nbsp;&nbs
 p;CAJ U10 à U14 Coupe ? / Cpe de Bronze&nbsp;</li></ul> <a href="https://sk
 ivosges.net/agenda/export-synchronisation/detailevenement/246/-/caj-u10-a-u
 14-coupe-cpe-de-bronze-reporte?tmpl=component">Cet évènement a été importé 
 depuis :https://skivosges.net/agenda/export-synchronisation/detailevenement
 /246/-/caj-u10-a-u14-coupe-cpe-de-bronze-reporte?tmpl=component</a>DTSTAMP:20260421T051219
DTSTART;TZID=Europe/Paris:20140323T080000
DTEND;TZID=Europe/Paris:20140323T170000
SEQUENCE:0
TRANSP:OPAQUE
END:VEVENT
END:VCALENDAR