BEGIN:VCALENDAR
VERSION:2.0
PRODID:-//jEvents 2.0 for Joomla//EN
CALSCALE:GREGORIAN
METHOD:PUBLISH
BEGIN:VTIMEZONE
TZID:Europe/Paris
BEGIN:STANDARD
DTSTART:20141120T140000
RDATE:20150329T030000
TZOFFSETFROM:+0200
TZOFFSETTO:+0100
TZNAME:Europe/Paris CET
END:STANDARD
BEGIN:STANDARD
DTSTART:20151025T020000
RDATE:20160327T030000
TZOFFSETFROM:+0200
TZOFFSETTO:+0100
TZNAME:Europe/Paris CET
END:STANDARD
BEGIN:STANDARD
DTSTART:20161030T020000
RDATE:20170326T030000
TZOFFSETFROM:+0200
TZOFFSETTO:+0100
TZNAME:Europe/Paris CET
END:STANDARD
BEGIN:STANDARD
DTSTART:20171029T020000
RDATE:20180325T030000
TZOFFSETFROM:+0200
TZOFFSETTO:+0100
TZNAME:Europe/Paris CET
END:STANDARD
BEGIN:STANDARD
DTSTART:20181028T020000
RDATE:20190331T030000
TZOFFSETFROM:+0200
TZOFFSETTO:+0100
TZNAME:Europe/Paris CET
END:STANDARD
BEGIN:STANDARD
DTSTART:20191027T020000
RDATE:20200329T030000
TZOFFSETFROM:+0200
TZOFFSETTO:+0100
TZNAME:Europe/Paris CET
END:STANDARD
BEGIN:STANDARD
DTSTART:20201025T020000
RDATE:20210328T030000
TZOFFSETFROM:+0200
TZOFFSETTO:+0100
TZNAME:Europe/Paris CET
END:STANDARD
BEGIN:STANDARD
DTSTART:20211031T020000
RDATE:20220327T030000
TZOFFSETFROM:+0200
TZOFFSETTO:+0100
TZNAME:Europe/Paris CET
END:STANDARD
BEGIN:STANDARD
DTSTART:20221030T020000
RDATE:20230326T030000
TZOFFSETFROM:+0200
TZOFFSETTO:+0100
TZNAME:Europe/Paris CET
END:STANDARD
BEGIN:STANDARD
DTSTART:20231029T020000
RDATE:20240331T030000
TZOFFSETFROM:+0200
TZOFFSETTO:+0100
TZNAME:Europe/Paris CET
END:STANDARD
BEGIN:STANDARD
DTSTART:20241027T020000
RDATE:20250330T030000
TZOFFSETFROM:+0200
TZOFFSETTO:+0100
TZNAME:Europe/Paris CET
END:STANDARD
BEGIN:STANDARD
DTSTART:20251026T020000
RDATE:20260329T030000
TZOFFSETFROM:+0200
TZOFFSETTO:+0100
TZNAME:Europe/Paris CET
END:STANDARD
BEGIN:STANDARD
DTSTART:20261025T020000
RDATE:20270328T030000
TZOFFSETFROM:+0200
TZOFFSETTO:+0100
TZNAME:Europe/Paris CET
END:STANDARD
BEGIN:DAYLIGHT
DTSTART:20150329T030000
RDATE:20151025T020000
TZOFFSETFROM:+0100
TZOFFSETTO:+0200
TZNAME:Europe/Paris CEST
END:DAYLIGHT
BEGIN:DAYLIGHT
DTSTART:20160327T030000
RDATE:20161030T020000
TZOFFSETFROM:+0100
TZOFFSETTO:+0200
TZNAME:Europe/Paris CEST
END:DAYLIGHT
BEGIN:DAYLIGHT
DTSTART:20170326T030000
RDATE:20171029T020000
TZOFFSETFROM:+0100
TZOFFSETTO:+0200
TZNAME:Europe/Paris CEST
END:DAYLIGHT
BEGIN:DAYLIGHT
DTSTART:20180325T030000
RDATE:20181028T020000
TZOFFSETFROM:+0100
TZOFFSETTO:+0200
TZNAME:Europe/Paris CEST
END:DAYLIGHT
BEGIN:DAYLIGHT
DTSTART:20190331T030000
RDATE:20191027T020000
TZOFFSETFROM:+0100
TZOFFSETTO:+0200
TZNAME:Europe/Paris CEST
END:DAYLIGHT
BEGIN:DAYLIGHT
DTSTART:20200329T030000
RDATE:20201025T020000
TZOFFSETFROM:+0100
TZOFFSETTO:+0200
TZNAME:Europe/Paris CEST
END:DAYLIGHT
BEGIN:DAYLIGHT
DTSTART:20210328T030000
RDATE:20211031T020000
TZOFFSETFROM:+0100
TZOFFSETTO:+0200
TZNAME:Europe/Paris CEST
END:DAYLIGHT
BEGIN:DAYLIGHT
DTSTART:20220327T030000
RDATE:20221030T020000
TZOFFSETFROM:+0100
TZOFFSETTO:+0200
TZNAME:Europe/Paris CEST
END:DAYLIGHT
BEGIN:DAYLIGHT
DTSTART:20230326T030000
RDATE:20231029T020000
TZOFFSETFROM:+0100
TZOFFSETTO:+0200
TZNAME:Europe/Paris CEST
END:DAYLIGHT
BEGIN:DAYLIGHT
DTSTART:20240331T030000
RDATE:20241027T020000
TZOFFSETFROM:+0100
TZOFFSETTO:+0200
TZNAME:Europe/Paris CEST
END:DAYLIGHT
BEGIN:DAYLIGHT
DTSTART:20250330T030000
RDATE:20251026T020000
TZOFFSETFROM:+0100
TZOFFSETTO:+0200
TZNAME:Europe/Paris CEST
END:DAYLIGHT
BEGIN:DAYLIGHT
DTSTART:20260329T030000
RDATE:20261025T020000
TZOFFSETFROM:+0100
TZOFFSETTO:+0200
TZNAME:Europe/Paris CEST
END:DAYLIGHT
END:VTIMEZONE
BEGIN:VEVENT
UID:688dfdbe7717369ad57a4be3b4566446
CATEGORIES:Formation Officiels - Chronos - Gestionnaires
CREATED:20141029T113913
SUMMARY:Journée Technique Régionale (y compris sessions de recyclages)
LOCATION:La Bresse / Hotel des Valées 
URL;VALUE=URI:https://skivosges.net/agenda/export-synchronisation/detailevenement/252/-/j
 ournee-technique-regionale-y-compris-sessions-de-recyclages?tmpl=component
DESCRIPTION:<p><em>Informations complémentaires et ordre du jour à venir...</em></p><p>
 Horaires prévisionnels : 14H00 à 16H-16H30 (Journée Technique / recyclage J
 uge de Compétition Alpin ou Nordique)</p><p>Suivra une session de recyclage
  DT (Alpin ou Nordique), horaire prévisionnel final 17H30</p><p>(Precision 
 sur les session sera demandée dans le formulaire d'inscription)</p><p>Des s
 essions de formation Juge de Compétition Alpin ou Nordique pour les nouveau
 x Candidats sont proposées le matin (<a href="index.php?option=com_jevents&
 task=icalrepeat.detail&evid=251&Itemid=1&year=2014&month=11&day=22&title=jo
 urnee-technique-regionale-sessions-de-formation-initiales-juges-matin&uid=4
 bd36a9190db0d10925c9047638f81b0">voir : Sessions de Formation Initiales Jug
 es -Matin-...</a>)</p><p> </p><p><em><span class="attention">Remarque :<br 
 />Il est fortement recommandé de <a href="index.php?option=com_users&view=l
 ogin&Itemid=204" target="_parent">vous identifier sur le site</a> avant de 
 vous inscrire à un evenement.<br />Le fait d'être inscrit et identifié sur 
 skivosges permet d'avoir accès à vos inscriptions, de les modifier, voire l
 es supprimer selon l'evenement.</span></em></p><p> </p> <a href="https://sk
 ivosges.net/agenda/export-synchronisation/detailevenement/252/-/journee-tec
 hnique-regionale-y-compris-sessions-de-recyclages?tmpl=component">Cet évène
 ment a été importé depuis :https://skivosges.net/agenda/export-synchronisat
 ion/detailevenement/252/-/journee-technique-regionale-y-compris-sessions-de
 -recyclages?tmpl=component</a>
X-ALT-DESC;FMTTYPE=text/html:<p><em>Informations complémentaires et ordre du jour à venir...</em></p><p>
 Horaires prévisionnels : 14H00 à 16H-16H30 (Journée Technique / recyclage J
 uge de Compétition Alpin ou Nordique)</p><p>Suivra une session de recyclage
  DT (Alpin ou Nordique), horaire prévisionnel final 17H30</p><p>(Precision 
 sur les session sera demandée dans le formulaire d'inscription)</p><p>Des s
 essions de formation Juge de Compétition Alpin ou Nordique pour les nouveau
 x Candidats sont proposées le matin (<a href="https://skivosges.net/index.p
 hp?option=com_jevents&task=icalrepeat.detail&evid=251&Itemid=1&year=2014&mo
 nth=11&day=22&title=journee-technique-regionale-sessions-de-formation-initi
 ales-juges-matin&uid=4bd36a9190db0d10925c9047638f81b0">voir : Sessions de F
 ormation Initiales Juges -Matin-...</a>)</p><p> </p><p><em><span class="att
 ention">Remarque :<br />Il est fortement recommandé de <a href="https://ski
 vosges.net/index.php?option=com_users&view=login&Itemid=204" target="_paren
 t">vous identifier sur le site</a> avant de vous inscrire à un evenement.<b
 r />Le fait d'être inscrit et identifié sur skivosges permet d'avoir accès 
 à vos inscriptions, de les modifier, voire les supprimer selon l'evenement.
 </span></em></p><p> </p> <a href="https://skivosges.net/agenda/export-synch
 ronisation/detailevenement/252/-/journee-technique-regionale-y-compris-sess
 ions-de-recyclages?tmpl=component">Cet évènement a été importé depuis :http
 s://skivosges.net/agenda/export-synchronisation/detailevenement/252/-/journ
 ee-technique-regionale-y-compris-sessions-de-recyclages?tmpl=component</a>CONTACT:RegularLabs.EmailProtector.unCloak("ep_da5356f7");
DTSTAMP:20260420T221358
DTSTART;TZID=Europe/Paris:20151121T140000
SEQUENCE:0
TRANSP:OPAQUE
END:VEVENT
END:VCALENDAR