BEGIN:VCALENDAR
VERSION:2.0
PRODID:-//jEvents 2.0 for Joomla//EN
CALSCALE:GREGORIAN
METHOD:PUBLISH
BEGIN:VTIMEZONE
TZID:Europe/Paris
BEGIN:STANDARD
DTSTART:20140103T080000
RDATE:20140330T030000
TZOFFSETFROM:+0200
TZOFFSETTO:+0100
TZNAME:Europe/Paris CET
END:STANDARD
BEGIN:STANDARD
DTSTART:20141026T020000
RDATE:20150329T030000
TZOFFSETFROM:+0200
TZOFFSETTO:+0100
TZNAME:Europe/Paris CET
END:STANDARD
BEGIN:STANDARD
DTSTART:20151025T020000
RDATE:20160327T030000
TZOFFSETFROM:+0200
TZOFFSETTO:+0100
TZNAME:Europe/Paris CET
END:STANDARD
BEGIN:STANDARD
DTSTART:20161030T020000
RDATE:20170326T030000
TZOFFSETFROM:+0200
TZOFFSETTO:+0100
TZNAME:Europe/Paris CET
END:STANDARD
BEGIN:STANDARD
DTSTART:20171029T020000
RDATE:20180325T030000
TZOFFSETFROM:+0200
TZOFFSETTO:+0100
TZNAME:Europe/Paris CET
END:STANDARD
BEGIN:STANDARD
DTSTART:20181028T020000
RDATE:20190331T030000
TZOFFSETFROM:+0200
TZOFFSETTO:+0100
TZNAME:Europe/Paris CET
END:STANDARD
BEGIN:STANDARD
DTSTART:20191027T020000
RDATE:20200329T030000
TZOFFSETFROM:+0200
TZOFFSETTO:+0100
TZNAME:Europe/Paris CET
END:STANDARD
BEGIN:STANDARD
DTSTART:20201025T020000
RDATE:20210328T030000
TZOFFSETFROM:+0200
TZOFFSETTO:+0100
TZNAME:Europe/Paris CET
END:STANDARD
BEGIN:STANDARD
DTSTART:20211031T020000
RDATE:20220327T030000
TZOFFSETFROM:+0200
TZOFFSETTO:+0100
TZNAME:Europe/Paris CET
END:STANDARD
BEGIN:STANDARD
DTSTART:20221030T020000
RDATE:20230326T030000
TZOFFSETFROM:+0200
TZOFFSETTO:+0100
TZNAME:Europe/Paris CET
END:STANDARD
BEGIN:STANDARD
DTSTART:20231029T020000
RDATE:20240331T030000
TZOFFSETFROM:+0200
TZOFFSETTO:+0100
TZNAME:Europe/Paris CET
END:STANDARD
BEGIN:STANDARD
DTSTART:20241027T020000
RDATE:20250330T030000
TZOFFSETFROM:+0200
TZOFFSETTO:+0100
TZNAME:Europe/Paris CET
END:STANDARD
BEGIN:STANDARD
DTSTART:20251026T020000
RDATE:20260329T030000
TZOFFSETFROM:+0200
TZOFFSETTO:+0100
TZNAME:Europe/Paris CET
END:STANDARD
BEGIN:STANDARD
DTSTART:20261025T020000
RDATE:20270328T030000
TZOFFSETFROM:+0200
TZOFFSETTO:+0100
TZNAME:Europe/Paris CET
END:STANDARD
BEGIN:DAYLIGHT
DTSTART:20140330T030000
RDATE:20141026T020000
TZOFFSETFROM:+0100
TZOFFSETTO:+0200
TZNAME:Europe/Paris CEST
END:DAYLIGHT
BEGIN:DAYLIGHT
DTSTART:20150329T030000
RDATE:20151025T020000
TZOFFSETFROM:+0100
TZOFFSETTO:+0200
TZNAME:Europe/Paris CEST
END:DAYLIGHT
BEGIN:DAYLIGHT
DTSTART:20160327T030000
RDATE:20161030T020000
TZOFFSETFROM:+0100
TZOFFSETTO:+0200
TZNAME:Europe/Paris CEST
END:DAYLIGHT
BEGIN:DAYLIGHT
DTSTART:20170326T030000
RDATE:20171029T020000
TZOFFSETFROM:+0100
TZOFFSETTO:+0200
TZNAME:Europe/Paris CEST
END:DAYLIGHT
BEGIN:DAYLIGHT
DTSTART:20180325T030000
RDATE:20181028T020000
TZOFFSETFROM:+0100
TZOFFSETTO:+0200
TZNAME:Europe/Paris CEST
END:DAYLIGHT
BEGIN:DAYLIGHT
DTSTART:20190331T030000
RDATE:20191027T020000
TZOFFSETFROM:+0100
TZOFFSETTO:+0200
TZNAME:Europe/Paris CEST
END:DAYLIGHT
BEGIN:DAYLIGHT
DTSTART:20200329T030000
RDATE:20201025T020000
TZOFFSETFROM:+0100
TZOFFSETTO:+0200
TZNAME:Europe/Paris CEST
END:DAYLIGHT
BEGIN:DAYLIGHT
DTSTART:20210328T030000
RDATE:20211031T020000
TZOFFSETFROM:+0100
TZOFFSETTO:+0200
TZNAME:Europe/Paris CEST
END:DAYLIGHT
BEGIN:DAYLIGHT
DTSTART:20220327T030000
RDATE:20221030T020000
TZOFFSETFROM:+0100
TZOFFSETTO:+0200
TZNAME:Europe/Paris CEST
END:DAYLIGHT
BEGIN:DAYLIGHT
DTSTART:20230326T030000
RDATE:20231029T020000
TZOFFSETFROM:+0100
TZOFFSETTO:+0200
TZNAME:Europe/Paris CEST
END:DAYLIGHT
BEGIN:DAYLIGHT
DTSTART:20240331T030000
RDATE:20241027T020000
TZOFFSETFROM:+0100
TZOFFSETTO:+0200
TZNAME:Europe/Paris CEST
END:DAYLIGHT
BEGIN:DAYLIGHT
DTSTART:20250330T030000
RDATE:20251026T020000
TZOFFSETFROM:+0100
TZOFFSETTO:+0200
TZNAME:Europe/Paris CEST
END:DAYLIGHT
BEGIN:DAYLIGHT
DTSTART:20260329T030000
RDATE:20261025T020000
TZOFFSETFROM:+0100
TZOFFSETTO:+0200
TZNAME:Europe/Paris CEST
END:DAYLIGHT
END:VTIMEZONE
BEGIN:VEVENT
UID:07752ed0bc0ad63819be90630fc7a3a5
CATEGORIES:Circuit Massif Adultes (alpin)
CREATED:20141127T000322
SUMMARY:GPA     GP Challenge Thérèse Leduc / Qualif CFFS.
URL;VALUE=URI:https://skivosges.net/agenda/export-synchronisation/detailevenement/274/-/g
 pa-gp-challenge-therese-leduc-qualif-cffs?tmpl=component
DESCRIPTION:GPA     GP Challenge Thérèse Leduc / Qualif CFFS. \n(Grand Prix Adultes)\n\
 nLieu : FRERE JOSEPH\nOrganisateur : U.S VENTRON (14083 U.S VENTRON)\nEmail
  : RegularLabs.EmailProtector.unCloak("ep_2b0ca412");\nTelecopie : 06442722
 81\n\nDépart 1ère manche : 10h\nPalmarès à 14h avec tirage au sort de lots 
 pour les présents (nuit auberge et spa, bons d´achat...)\n\nInscriptions cl
 oses, les listes de départ sont visualisables sur ce site\n - AMVF0121  Sla
 lom (Coupe de la Federation) U16 a Masters Dames\n  GPA     GP Challenge Th
 érèse Leduc / Qualif CFFS.\n - AMVM0121  Slalom (Coupe de la Federation) U1
 6 a Masters Hommes\n  GPA     GP Challenge Thérèse Leduc / Qualif CFFS. Cet
  évènement a été importé depuis :https://skivosges.net/agenda/export-synchr
 onisation/detailevenement/274/-/gpa-gp-challenge-therese-leduc-qualif-cffs?
 tmpl=component (https://skivosges.net/agenda/export-synchronisation/detaile
 venement/274/-/gpa-gp-challenge-therese-leduc-qualif-cffs?tmpl=component)
X-ALT-DESC;FMTTYPE=text/html:<strong>GPA     GP Challenge Thérèse Leduc / Qualif CFFS.</strong> <br /><i
 >(Grand Prix Adultes)</i><br /><br />Lieu : FRERE JOSEPH<br />Organisateur 
 : U.S VENTRON <small>(14083 U.S VENTRON)</small><br />Email : <!-- Cette ad
 resse électronique est protégée contre les robots spammeurs. --><span class
 ="cloaked_email ep_2b0ca412"><span data-ep-a="ste&#112;&#104;" data-ep-b="&
 #108;&#101;&#46;fr"><span data-ep-a="a&#110;&#101;&#46;&#103;" data-ep-b="r
 &#105;cab"><span data-ep-a="i&#103;&#97;n&#116;" data-ep-b="&#64;n&#117;&#1
 09;&#101;"></span></span></span></span><script>RegularLabs.EmailProtector.u
 nCloak("ep_2b0ca412");</script><br />Telecopie : 0644272281<br /><br />Dépa
 rt 1ère manche : 10h<br>Palmarès à 14h avec tirage au sort de lots pour les
  présents (nuit auberge et spa, bons d´achat...)<br /><br />Inscriptions cl
 oses, les listes de départ sont visualisables sur ce site<ul type="disc"><l
 i>AMVF0121  Slalom <nobr><i>(Coupe de la Federation)</i></nobr> <nobr>U16 a
  Masters</nobr> Dames<br />&nbsp;&nbsp;GPA     GP Challenge Thérèse Leduc /
  Qualif CFFS.</li><li>AMVM0121  Slalom <nobr><i>(Coupe de la Federation)</i
 ></nobr> <nobr>U16 a Masters</nobr> Hommes<br />&nbsp;&nbsp;GPA     GP Chal
 lenge Thérèse Leduc / Qualif CFFS.</li></ul> <a href="https://skivosges.net
 /agenda/export-synchronisation/detailevenement/274/-/gpa-gp-challenge-there
 se-leduc-qualif-cffs?tmpl=component">Cet évènement a été importé depuis :ht
 tps://skivosges.net/agenda/export-synchronisation/detailevenement/274/-/gpa
 -gp-challenge-therese-leduc-qualif-cffs?tmpl=component</a>DTSTAMP:20260420T220620
DTSTART;TZID=Europe/Paris:20150104T080000
DTEND;TZID=Europe/Paris:20150104T170000
SEQUENCE:0
TRANSP:OPAQUE
END:VEVENT
END:VCALENDAR