BEGIN:VCALENDAR
VERSION:2.0
PRODID:-//jEvents 2.0 for Joomla//EN
CALSCALE:GREGORIAN
METHOD:PUBLISH
BEGIN:VTIMEZONE
TZID:Europe/Paris
BEGIN:STANDARD
DTSTART:20140103T080000
RDATE:20140330T030000
TZOFFSETFROM:+0200
TZOFFSETTO:+0100
TZNAME:Europe/Paris CET
END:STANDARD
BEGIN:STANDARD
DTSTART:20141026T020000
RDATE:20150329T030000
TZOFFSETFROM:+0200
TZOFFSETTO:+0100
TZNAME:Europe/Paris CET
END:STANDARD
BEGIN:STANDARD
DTSTART:20151025T020000
RDATE:20160327T030000
TZOFFSETFROM:+0200
TZOFFSETTO:+0100
TZNAME:Europe/Paris CET
END:STANDARD
BEGIN:STANDARD
DTSTART:20161030T020000
RDATE:20170326T030000
TZOFFSETFROM:+0200
TZOFFSETTO:+0100
TZNAME:Europe/Paris CET
END:STANDARD
BEGIN:STANDARD
DTSTART:20171029T020000
RDATE:20180325T030000
TZOFFSETFROM:+0200
TZOFFSETTO:+0100
TZNAME:Europe/Paris CET
END:STANDARD
BEGIN:STANDARD
DTSTART:20181028T020000
RDATE:20190331T030000
TZOFFSETFROM:+0200
TZOFFSETTO:+0100
TZNAME:Europe/Paris CET
END:STANDARD
BEGIN:STANDARD
DTSTART:20191027T020000
RDATE:20200329T030000
TZOFFSETFROM:+0200
TZOFFSETTO:+0100
TZNAME:Europe/Paris CET
END:STANDARD
BEGIN:STANDARD
DTSTART:20201025T020000
RDATE:20210328T030000
TZOFFSETFROM:+0200
TZOFFSETTO:+0100
TZNAME:Europe/Paris CET
END:STANDARD
BEGIN:STANDARD
DTSTART:20211031T020000
RDATE:20220327T030000
TZOFFSETFROM:+0200
TZOFFSETTO:+0100
TZNAME:Europe/Paris CET
END:STANDARD
BEGIN:STANDARD
DTSTART:20221030T020000
RDATE:20230326T030000
TZOFFSETFROM:+0200
TZOFFSETTO:+0100
TZNAME:Europe/Paris CET
END:STANDARD
BEGIN:STANDARD
DTSTART:20231029T020000
RDATE:20240331T030000
TZOFFSETFROM:+0200
TZOFFSETTO:+0100
TZNAME:Europe/Paris CET
END:STANDARD
BEGIN:STANDARD
DTSTART:20241027T020000
RDATE:20250330T030000
TZOFFSETFROM:+0200
TZOFFSETTO:+0100
TZNAME:Europe/Paris CET
END:STANDARD
BEGIN:STANDARD
DTSTART:20251026T020000
RDATE:20260329T030000
TZOFFSETFROM:+0200
TZOFFSETTO:+0100
TZNAME:Europe/Paris CET
END:STANDARD
BEGIN:STANDARD
DTSTART:20261025T020000
RDATE:20270328T030000
TZOFFSETFROM:+0200
TZOFFSETTO:+0100
TZNAME:Europe/Paris CET
END:STANDARD
BEGIN:DAYLIGHT
DTSTART:20140330T030000
RDATE:20141026T020000
TZOFFSETFROM:+0100
TZOFFSETTO:+0200
TZNAME:Europe/Paris CEST
END:DAYLIGHT
BEGIN:DAYLIGHT
DTSTART:20150329T030000
RDATE:20151025T020000
TZOFFSETFROM:+0100
TZOFFSETTO:+0200
TZNAME:Europe/Paris CEST
END:DAYLIGHT
BEGIN:DAYLIGHT
DTSTART:20160327T030000
RDATE:20161030T020000
TZOFFSETFROM:+0100
TZOFFSETTO:+0200
TZNAME:Europe/Paris CEST
END:DAYLIGHT
BEGIN:DAYLIGHT
DTSTART:20170326T030000
RDATE:20171029T020000
TZOFFSETFROM:+0100
TZOFFSETTO:+0200
TZNAME:Europe/Paris CEST
END:DAYLIGHT
BEGIN:DAYLIGHT
DTSTART:20180325T030000
RDATE:20181028T020000
TZOFFSETFROM:+0100
TZOFFSETTO:+0200
TZNAME:Europe/Paris CEST
END:DAYLIGHT
BEGIN:DAYLIGHT
DTSTART:20190331T030000
RDATE:20191027T020000
TZOFFSETFROM:+0100
TZOFFSETTO:+0200
TZNAME:Europe/Paris CEST
END:DAYLIGHT
BEGIN:DAYLIGHT
DTSTART:20200329T030000
RDATE:20201025T020000
TZOFFSETFROM:+0100
TZOFFSETTO:+0200
TZNAME:Europe/Paris CEST
END:DAYLIGHT
BEGIN:DAYLIGHT
DTSTART:20210328T030000
RDATE:20211031T020000
TZOFFSETFROM:+0100
TZOFFSETTO:+0200
TZNAME:Europe/Paris CEST
END:DAYLIGHT
BEGIN:DAYLIGHT
DTSTART:20220327T030000
RDATE:20221030T020000
TZOFFSETFROM:+0100
TZOFFSETTO:+0200
TZNAME:Europe/Paris CEST
END:DAYLIGHT
BEGIN:DAYLIGHT
DTSTART:20230326T030000
RDATE:20231029T020000
TZOFFSETFROM:+0100
TZOFFSETTO:+0200
TZNAME:Europe/Paris CEST
END:DAYLIGHT
BEGIN:DAYLIGHT
DTSTART:20240331T030000
RDATE:20241027T020000
TZOFFSETFROM:+0100
TZOFFSETTO:+0200
TZNAME:Europe/Paris CEST
END:DAYLIGHT
BEGIN:DAYLIGHT
DTSTART:20250330T030000
RDATE:20251026T020000
TZOFFSETFROM:+0100
TZOFFSETTO:+0200
TZNAME:Europe/Paris CEST
END:DAYLIGHT
BEGIN:DAYLIGHT
DTSTART:20260329T030000
RDATE:20261025T020000
TZOFFSETFROM:+0100
TZOFFSETTO:+0200
TZNAME:Europe/Paris CEST
END:DAYLIGHT
END:VTIMEZONE
BEGIN:VEVENT
UID:9ecbaf31a25e2726b0f81f3a262bbe55
CATEGORIES:Autres Épreuves (alpin)
CREATED:20141127T000322
SUMMARY:Prix du Crédit Agricole Mémorial Gilles Lemaire **REPORTE**
URL;VALUE=URI:https://skivosges.net/agenda/export-synchronisation/detailevenement/276/-/p
 rix-du-credit-agricole-memorial-gilles-lemaire-reporte?tmpl=component
DESCRIPTION:Prix du Crédit Agricole Mémorial Gilles Lemaire (Epreuve reportée)\n\nLieu 
 : LA BRESSE\nPiste : Stade de Slalom\nOrganisateur : LA BRESSAUDE SECTION S
 KI (14024 LA BRESSAUDE SECTION SKI)\nEmail : RegularLabs.EmailProtector.unC
 loak("ep_44bd97fc");\nTelecopie : 0608855252\n\nCourse déplacée à Gérardmer
 .\nPas de changements au niveau des inscriptions.\n\nInscriptions closes, t
 irage des dossards en cours\n - AMVF0101  Slalom Geant (Coupe de Bronze) U1
 2/U14 Filles\n  CLJ  U8etU10-U12etU14  Prix du Crédit Agricole Mémorial Gil
 les Lemaire\n - AMVM0101  Slalom Geant (Coupe de Bronze) U12/U14 Garçons\n 
  CLJ  U8etU10-U12etU14  Prix du Crédit Agricole Mémorial Gilles Lemaire\n -
  AMVF0102  Slalom Geant (Coupe de Bronze) U8/U10 Filles\n  CLJ  U8etU10-U12
 etU14  Prix du Crédit Agricole Mémorial Gilles Lemaire\n - AMVM0102  Slalom
  Geant (Coupe de Bronze) U8/U10 Garçons\n  CLJ  U8etU10-U12etU14  Prix du C
 rédit Agricole Mémorial Gilles Lemaire Cet évènement a été importé depuis :
 https://skivosges.net/agenda/export-synchronisation/detailevenement/276/-/p
 rix-du-credit-agricole-memorial-gilles-lemaire-reporte?tmpl=component (http
 s://skivosges.net/agenda/export-synchronisation/detailevenement/276/-/prix-
 du-credit-agricole-memorial-gilles-lemaire-reporte?tmpl=component)
X-ALT-DESC;FMTTYPE=text/html:<strong>Prix du Crédit Agricole Mémorial Gilles Lemaire</strong> <font clas
 s="attention4">(Epreuve reportée)</font><br /><br />Lieu : LA BRESSE<br />P
 iste : Stade de Slalom<br />Organisateur : LA BRESSAUDE SECTION SKI <small>
 (14024 LA BRESSAUDE SECTION SKI)</small><br />Email : <!-- Cette adresse él
 ectronique est protégée contre les robots spammeurs. --><span class="cloake
 d_email ep_44bd97fc"><span data-ep-b="f&#114;" data-ep-a="&#111;d&#105;&#10
 8;e"><span data-ep-a="&#46;m&#117;ns" data-ep-b="&#97;n&#103;&#101;&#46;"><
 span data-ep-a="&#99;&#104;&#46;s&#99;" data-ep-b="&#108;&#98;&#64;&#111;&#
 114;"></span></span></span></span><script>RegularLabs.EmailProtector.unCloa
 k("ep_44bd97fc");</script><br />Telecopie : 0608855252<br /><br />Course dé
 placée à Gérardmer.<br>Pas de changements au niveau des inscriptions.<br />
 <br />Inscriptions closes, tirage des dossards en cours<ul type="disc"><li>
 AMVF0101  Slalom Geant <nobr><i>(Coupe de Bronze)</i></nobr> <nobr>U12/U14<
 /nobr> Filles<br />&nbsp;&nbsp;CLJ  U8etU10-U12etU14  Prix du Crédit Agrico
 le Mémorial Gilles Lemaire</li><li>AMVM0101  Slalom Geant <nobr><i>(Coupe d
 e Bronze)</i></nobr> <nobr>U12/U14</nobr> Garçons<br />&nbsp;&nbsp;CLJ  U8e
 tU10-U12etU14  Prix du Crédit Agricole Mémorial Gilles Lemaire</li><li>AMVF
 0102  Slalom Geant <nobr><i>(Coupe de Bronze)</i></nobr> <nobr>U8/U10</nobr
 > Filles<br />&nbsp;&nbsp;CLJ  U8etU10-U12etU14  Prix du Crédit Agricole Mé
 morial Gilles Lemaire</li><li>AMVM0102  Slalom Geant <nobr><i>(Coupe de Bro
 nze)</i></nobr> <nobr>U8/U10</nobr> Garçons<br />&nbsp;&nbsp;CLJ  U8etU10-U
 12etU14  Prix du Crédit Agricole Mémorial Gilles Lemaire</li></ul> <a href=
 "https://skivosges.net/agenda/export-synchronisation/detailevenement/276/-/
 prix-du-credit-agricole-memorial-gilles-lemaire-reporte?tmpl=component">Cet
  évènement a été importé depuis :https://skivosges.net/agenda/export-synchr
 onisation/detailevenement/276/-/prix-du-credit-agricole-memorial-gilles-lem
 aire-reporte?tmpl=component</a>DTSTAMP:20260420T221014
DTSTART;TZID=Europe/Paris:20150104T080000
DTEND;TZID=Europe/Paris:20150104T170000
SEQUENCE:0
TRANSP:OPAQUE
END:VEVENT
END:VCALENDAR