BEGIN:VCALENDAR
VERSION:2.0
PRODID:-//jEvents 2.0 for Joomla//EN
CALSCALE:GREGORIAN
METHOD:PUBLISH
BEGIN:VTIMEZONE
TZID:Europe/Paris
BEGIN:STANDARD
DTSTART:20140103T080000
RDATE:20140330T030000
TZOFFSETFROM:+0200
TZOFFSETTO:+0100
TZNAME:Europe/Paris CET
END:STANDARD
BEGIN:STANDARD
DTSTART:20141026T020000
RDATE:20150329T030000
TZOFFSETFROM:+0200
TZOFFSETTO:+0100
TZNAME:Europe/Paris CET
END:STANDARD
BEGIN:STANDARD
DTSTART:20151025T020000
RDATE:20160327T030000
TZOFFSETFROM:+0200
TZOFFSETTO:+0100
TZNAME:Europe/Paris CET
END:STANDARD
BEGIN:STANDARD
DTSTART:20161030T020000
RDATE:20170326T030000
TZOFFSETFROM:+0200
TZOFFSETTO:+0100
TZNAME:Europe/Paris CET
END:STANDARD
BEGIN:STANDARD
DTSTART:20171029T020000
RDATE:20180325T030000
TZOFFSETFROM:+0200
TZOFFSETTO:+0100
TZNAME:Europe/Paris CET
END:STANDARD
BEGIN:STANDARD
DTSTART:20181028T020000
RDATE:20190331T030000
TZOFFSETFROM:+0200
TZOFFSETTO:+0100
TZNAME:Europe/Paris CET
END:STANDARD
BEGIN:STANDARD
DTSTART:20191027T020000
RDATE:20200329T030000
TZOFFSETFROM:+0200
TZOFFSETTO:+0100
TZNAME:Europe/Paris CET
END:STANDARD
BEGIN:STANDARD
DTSTART:20201025T020000
RDATE:20210328T030000
TZOFFSETFROM:+0200
TZOFFSETTO:+0100
TZNAME:Europe/Paris CET
END:STANDARD
BEGIN:STANDARD
DTSTART:20211031T020000
RDATE:20220327T030000
TZOFFSETFROM:+0200
TZOFFSETTO:+0100
TZNAME:Europe/Paris CET
END:STANDARD
BEGIN:STANDARD
DTSTART:20221030T020000
RDATE:20230326T030000
TZOFFSETFROM:+0200
TZOFFSETTO:+0100
TZNAME:Europe/Paris CET
END:STANDARD
BEGIN:STANDARD
DTSTART:20231029T020000
RDATE:20240331T030000
TZOFFSETFROM:+0200
TZOFFSETTO:+0100
TZNAME:Europe/Paris CET
END:STANDARD
BEGIN:STANDARD
DTSTART:20241027T020000
RDATE:20250330T030000
TZOFFSETFROM:+0200
TZOFFSETTO:+0100
TZNAME:Europe/Paris CET
END:STANDARD
BEGIN:STANDARD
DTSTART:20251026T020000
RDATE:20260329T030000
TZOFFSETFROM:+0200
TZOFFSETTO:+0100
TZNAME:Europe/Paris CET
END:STANDARD
BEGIN:STANDARD
DTSTART:20261025T020000
RDATE:20270328T030000
TZOFFSETFROM:+0200
TZOFFSETTO:+0100
TZNAME:Europe/Paris CET
END:STANDARD
BEGIN:DAYLIGHT
DTSTART:20140330T030000
RDATE:20141026T020000
TZOFFSETFROM:+0100
TZOFFSETTO:+0200
TZNAME:Europe/Paris CEST
END:DAYLIGHT
BEGIN:DAYLIGHT
DTSTART:20150329T030000
RDATE:20151025T020000
TZOFFSETFROM:+0100
TZOFFSETTO:+0200
TZNAME:Europe/Paris CEST
END:DAYLIGHT
BEGIN:DAYLIGHT
DTSTART:20160327T030000
RDATE:20161030T020000
TZOFFSETFROM:+0100
TZOFFSETTO:+0200
TZNAME:Europe/Paris CEST
END:DAYLIGHT
BEGIN:DAYLIGHT
DTSTART:20170326T030000
RDATE:20171029T020000
TZOFFSETFROM:+0100
TZOFFSETTO:+0200
TZNAME:Europe/Paris CEST
END:DAYLIGHT
BEGIN:DAYLIGHT
DTSTART:20180325T030000
RDATE:20181028T020000
TZOFFSETFROM:+0100
TZOFFSETTO:+0200
TZNAME:Europe/Paris CEST
END:DAYLIGHT
BEGIN:DAYLIGHT
DTSTART:20190331T030000
RDATE:20191027T020000
TZOFFSETFROM:+0100
TZOFFSETTO:+0200
TZNAME:Europe/Paris CEST
END:DAYLIGHT
BEGIN:DAYLIGHT
DTSTART:20200329T030000
RDATE:20201025T020000
TZOFFSETFROM:+0100
TZOFFSETTO:+0200
TZNAME:Europe/Paris CEST
END:DAYLIGHT
BEGIN:DAYLIGHT
DTSTART:20210328T030000
RDATE:20211031T020000
TZOFFSETFROM:+0100
TZOFFSETTO:+0200
TZNAME:Europe/Paris CEST
END:DAYLIGHT
BEGIN:DAYLIGHT
DTSTART:20220327T030000
RDATE:20221030T020000
TZOFFSETFROM:+0100
TZOFFSETTO:+0200
TZNAME:Europe/Paris CEST
END:DAYLIGHT
BEGIN:DAYLIGHT
DTSTART:20230326T030000
RDATE:20231029T020000
TZOFFSETFROM:+0100
TZOFFSETTO:+0200
TZNAME:Europe/Paris CEST
END:DAYLIGHT
BEGIN:DAYLIGHT
DTSTART:20240331T030000
RDATE:20241027T020000
TZOFFSETFROM:+0100
TZOFFSETTO:+0200
TZNAME:Europe/Paris CEST
END:DAYLIGHT
BEGIN:DAYLIGHT
DTSTART:20250330T030000
RDATE:20251026T020000
TZOFFSETFROM:+0100
TZOFFSETTO:+0200
TZNAME:Europe/Paris CEST
END:DAYLIGHT
BEGIN:DAYLIGHT
DTSTART:20260329T030000
RDATE:20261025T020000
TZOFFSETFROM:+0100
TZOFFSETTO:+0200
TZNAME:Europe/Paris CEST
END:DAYLIGHT
END:VTIMEZONE
BEGIN:VEVENT
UID:c997a86b24f6e63b25d41097be5714c5
CATEGORIES:Circuit Alsace Jeunes (alpin)
CREATED:20141127T000322
SUMMARY:CAJ  U8etU10-U12-U14     Prix de la Clinique du Ski/Crédit Agricole
URL;VALUE=URI:https://skivosges.net/agenda/export-synchronisation/detailevenement/277/-/c
 aj-u8etu10-u12-u14-prix-de-la-clinique-du-ski-credit-agricole?tmpl=componen
 t
DESCRIPTION:CAJ  U8etU10-U12-U14     Prix de la Clinique du Ski/Crédit Agricole \n(Coup
 e d'Alsace Jeunes)\n\nLieu : MARKSTEIN\nOrganisateur : SKI CLUB SAUSHEIM (1
 4231 SKI CLUB SAUSHEIM)\nEmail : RegularLabs.EmailProtector.unCloak("ep_d0a
 d6ea8");\nTelecopie : 0676974091\n\nRemise des dossards à l´Hôtel Wolf \npa
 s d´acceptation d´inscription le jour de l´épreuve\nAttention fermeture et 
 fin de la reconnaissance du tracé 1/4h avant l´épreuve\nremise des prix à l
 ´hôtel Wolf\n\nInscriptions closes, les listes de départ sont visualisables
  sur ce site\n - AMVF0111  Slalom (Coupe de Bronze) U14 Filles\n  CAJ  U8et
 U10-U12-U14     Prix de la Clinique du Ski/Crédit Agricole\n - AMVM0111  Sl
 alom (Coupe de Bronze) U14 Garçons\n  CAJ  U8etU10-U12-U14     Prix de la C
 linique du Ski/Crédit Agricole\n - AMVF0112  Slalom (Coupe de Bronze) U12 F
 illes\n  CAJ  U8etU10-U12-U14     Prix de la Clinique du Ski/Crédit Agricol
 e\n - AMVM0112  Slalom (Coupe de Bronze) U12 Garçons\n  CAJ  U8etU10-U12-U1
 4     Prix de la Clinique du Ski/Crédit Agricole\n - AMVF0113  Slalom (Coup
 e de Bronze) U8/U10 Filles\n  CAJ  U8etU10-U12-U14     Prix de la Clinique 
 du Ski/Crédit Agricole\n - AMVM0113  Slalom (Coupe de Bronze) U8/U10 Garçon
 s\n  CAJ  U8etU10-U12-U14     Prix de la Clinique du Ski/Crédit Agricole Ce
 t évènement a été importé depuis :https://skivosges.net/agenda/export-synch
 ronisation/detailevenement/277/-/caj-u8etu10-u12-u14-prix-de-la-clinique-du
 -ski-credit-agricole?tmpl=component
X-ALT-DESC;FMTTYPE=text/html:<strong>CAJ  U8etU10-U12-U14     Prix de la Clinique du Ski/Crédit Agricole
 </strong> <br /><i>(Coupe d'Alsace Jeunes)</i><br /><br />Lieu : MARKSTEIN<
 br />Organisateur : SKI CLUB SAUSHEIM <small>(14231 SKI CLUB SAUSHEIM)</sma
 ll><br />Email : <!-- Cette adresse électronique est protégée contre les ro
 bots spammeurs. --><span class="cloaked_email ep_d0ad6ea8"><span data-ep-a=
 "&#98;&#46;h&#97;" data-ep-b=""><span data-ep-b="o&#46;&#102;&#114;" data-e
 p-a="&#98;&#101;&#114;&#101;"><span data-ep-a="&#114;&#64;wa" data-ep-b="&#
 110;&#97;&#100;&#111;"></span></span></span></span><script>RegularLabs.Emai
 lProtector.unCloak("ep_d0ad6ea8");</script><br />Telecopie : 0676974091<br 
 /><br />Remise des dossards à l´Hôtel Wolf <br>pas d´acceptation d´inscript
 ion le jour de l´épreuve<br>Attention fermeture et fin de la reconnaissance
  du tracé 1/4h avant l´épreuve<br>remise des prix à l´hôtel Wolf<br /><br /
 >Inscriptions closes, les listes de départ sont visualisables sur ce site<u
 l type="disc"><li>AMVF0111  Slalom <nobr><i>(Coupe de Bronze)</i></nobr> <n
 obr>U14</nobr> Filles<br />&nbsp;&nbsp;CAJ  U8etU10-U12-U14     Prix de la 
 Clinique du Ski/Crédit Agricole</li><li>AMVM0111  Slalom <nobr><i>(Coupe de
  Bronze)</i></nobr> <nobr>U14</nobr> Garçons<br />&nbsp;&nbsp;CAJ  U8etU10-
 U12-U14     Prix de la Clinique du Ski/Crédit Agricole</li><li>AMVF0112  Sl
 alom <nobr><i>(Coupe de Bronze)</i></nobr> <nobr>U12</nobr> Filles<br />&nb
 sp;&nbsp;CAJ  U8etU10-U12-U14     Prix de la Clinique du Ski/Crédit Agricol
 e</li><li>AMVM0112  Slalom <nobr><i>(Coupe de Bronze)</i></nobr> <nobr>U12<
 /nobr> Garçons<br />&nbsp;&nbsp;CAJ  U8etU10-U12-U14     Prix de la Cliniqu
 e du Ski/Crédit Agricole</li><li>AMVF0113  Slalom <nobr><i>(Coupe de Bronze
 )</i></nobr> <nobr>U8/U10</nobr> Filles<br />&nbsp;&nbsp;CAJ  U8etU10-U12-U
 14     Prix de la Clinique du Ski/Crédit Agricole</li><li>AMVM0113  Slalom 
 <nobr><i>(Coupe de Bronze)</i></nobr> <nobr>U8/U10</nobr> Garçons<br />&nbs
 p;&nbsp;CAJ  U8etU10-U12-U14     Prix de la Clinique du Ski/Crédit Agricole
 </li></ul> <a href="https://skivosges.net/agenda/export-synchronisation/det
 ailevenement/277/-/caj-u8etu10-u12-u14-prix-de-la-clinique-du-ski-credit-ag
 ricole?tmpl=component">Cet évènement a été importé depuis :https://skivosge
 s.net/agenda/export-synchronisation/detailevenement/277/-/caj-u8etu10-u12-u
 14-prix-de-la-clinique-du-ski-credit-agricole?tmpl=component</a>DTSTAMP:20260420T220609
DTSTART;TZID=Europe/Paris:20150104T080000
DTEND;TZID=Europe/Paris:20150104T170000
SEQUENCE:0
TRANSP:OPAQUE
END:VEVENT
END:VCALENDAR