BEGIN:VCALENDAR
VERSION:2.0
PRODID:-//jEvents 2.0 for Joomla//EN
CALSCALE:GREGORIAN
METHOD:PUBLISH
BEGIN:VTIMEZONE
TZID:Europe/Paris
BEGIN:STANDARD
DTSTART:20140109T080000
RDATE:20140330T030000
TZOFFSETFROM:+0200
TZOFFSETTO:+0100
TZNAME:Europe/Paris CET
END:STANDARD
BEGIN:STANDARD
DTSTART:20141026T020000
RDATE:20150329T030000
TZOFFSETFROM:+0200
TZOFFSETTO:+0100
TZNAME:Europe/Paris CET
END:STANDARD
BEGIN:STANDARD
DTSTART:20151025T020000
RDATE:20160327T030000
TZOFFSETFROM:+0200
TZOFFSETTO:+0100
TZNAME:Europe/Paris CET
END:STANDARD
BEGIN:STANDARD
DTSTART:20161030T020000
RDATE:20170326T030000
TZOFFSETFROM:+0200
TZOFFSETTO:+0100
TZNAME:Europe/Paris CET
END:STANDARD
BEGIN:STANDARD
DTSTART:20171029T020000
RDATE:20180325T030000
TZOFFSETFROM:+0200
TZOFFSETTO:+0100
TZNAME:Europe/Paris CET
END:STANDARD
BEGIN:STANDARD
DTSTART:20181028T020000
RDATE:20190331T030000
TZOFFSETFROM:+0200
TZOFFSETTO:+0100
TZNAME:Europe/Paris CET
END:STANDARD
BEGIN:STANDARD
DTSTART:20191027T020000
RDATE:20200329T030000
TZOFFSETFROM:+0200
TZOFFSETTO:+0100
TZNAME:Europe/Paris CET
END:STANDARD
BEGIN:STANDARD
DTSTART:20201025T020000
RDATE:20210328T030000
TZOFFSETFROM:+0200
TZOFFSETTO:+0100
TZNAME:Europe/Paris CET
END:STANDARD
BEGIN:STANDARD
DTSTART:20211031T020000
RDATE:20220327T030000
TZOFFSETFROM:+0200
TZOFFSETTO:+0100
TZNAME:Europe/Paris CET
END:STANDARD
BEGIN:STANDARD
DTSTART:20221030T020000
RDATE:20230326T030000
TZOFFSETFROM:+0200
TZOFFSETTO:+0100
TZNAME:Europe/Paris CET
END:STANDARD
BEGIN:STANDARD
DTSTART:20231029T020000
RDATE:20240331T030000
TZOFFSETFROM:+0200
TZOFFSETTO:+0100
TZNAME:Europe/Paris CET
END:STANDARD
BEGIN:STANDARD
DTSTART:20241027T020000
RDATE:20250330T030000
TZOFFSETFROM:+0200
TZOFFSETTO:+0100
TZNAME:Europe/Paris CET
END:STANDARD
BEGIN:STANDARD
DTSTART:20251026T020000
RDATE:20260329T030000
TZOFFSETFROM:+0200
TZOFFSETTO:+0100
TZNAME:Europe/Paris CET
END:STANDARD
BEGIN:STANDARD
DTSTART:20261025T020000
RDATE:20270328T030000
TZOFFSETFROM:+0200
TZOFFSETTO:+0100
TZNAME:Europe/Paris CET
END:STANDARD
BEGIN:DAYLIGHT
DTSTART:20140330T030000
RDATE:20141026T020000
TZOFFSETFROM:+0100
TZOFFSETTO:+0200
TZNAME:Europe/Paris CEST
END:DAYLIGHT
BEGIN:DAYLIGHT
DTSTART:20150329T030000
RDATE:20151025T020000
TZOFFSETFROM:+0100
TZOFFSETTO:+0200
TZNAME:Europe/Paris CEST
END:DAYLIGHT
BEGIN:DAYLIGHT
DTSTART:20160327T030000
RDATE:20161030T020000
TZOFFSETFROM:+0100
TZOFFSETTO:+0200
TZNAME:Europe/Paris CEST
END:DAYLIGHT
BEGIN:DAYLIGHT
DTSTART:20170326T030000
RDATE:20171029T020000
TZOFFSETFROM:+0100
TZOFFSETTO:+0200
TZNAME:Europe/Paris CEST
END:DAYLIGHT
BEGIN:DAYLIGHT
DTSTART:20180325T030000
RDATE:20181028T020000
TZOFFSETFROM:+0100
TZOFFSETTO:+0200
TZNAME:Europe/Paris CEST
END:DAYLIGHT
BEGIN:DAYLIGHT
DTSTART:20190331T030000
RDATE:20191027T020000
TZOFFSETFROM:+0100
TZOFFSETTO:+0200
TZNAME:Europe/Paris CEST
END:DAYLIGHT
BEGIN:DAYLIGHT
DTSTART:20200329T030000
RDATE:20201025T020000
TZOFFSETFROM:+0100
TZOFFSETTO:+0200
TZNAME:Europe/Paris CEST
END:DAYLIGHT
BEGIN:DAYLIGHT
DTSTART:20210328T030000
RDATE:20211031T020000
TZOFFSETFROM:+0100
TZOFFSETTO:+0200
TZNAME:Europe/Paris CEST
END:DAYLIGHT
BEGIN:DAYLIGHT
DTSTART:20220327T030000
RDATE:20221030T020000
TZOFFSETFROM:+0100
TZOFFSETTO:+0200
TZNAME:Europe/Paris CEST
END:DAYLIGHT
BEGIN:DAYLIGHT
DTSTART:20230326T030000
RDATE:20231029T020000
TZOFFSETFROM:+0100
TZOFFSETTO:+0200
TZNAME:Europe/Paris CEST
END:DAYLIGHT
BEGIN:DAYLIGHT
DTSTART:20240331T030000
RDATE:20241027T020000
TZOFFSETFROM:+0100
TZOFFSETTO:+0200
TZNAME:Europe/Paris CEST
END:DAYLIGHT
BEGIN:DAYLIGHT
DTSTART:20250330T030000
RDATE:20251026T020000
TZOFFSETFROM:+0100
TZOFFSETTO:+0200
TZNAME:Europe/Paris CEST
END:DAYLIGHT
BEGIN:DAYLIGHT
DTSTART:20260329T030000
RDATE:20261025T020000
TZOFFSETFROM:+0100
TZOFFSETTO:+0200
TZNAME:Europe/Paris CEST
END:DAYLIGHT
END:VTIMEZONE
BEGIN:VEVENT
UID:d2762a33625cc9df996d6a5d3f2d1d94
CATEGORIES:Compétition Ski de Fond
CREATED:20141127T000322
SUMMARY:Marathon de la Rochelotte  Challenge Didier Lavoine
URL;VALUE=URI:https://skivosges.net/agenda/export-synchronisation/detailevenement/278/-/m
 arathon-de-la-rochelotte-challenge-didier-lavoine?tmpl=component
DESCRIPTION:<strong>Marathon de la Rochelotte  Challenge Didier Lavoine</strong><br /><
 br />Lieu : BUSSANG <br />Organisateur : HAUTE MOSELLE SKI NORDIQUE  <small
 >(14471 HAUTE MOSELLE SKI NORDIQUE)</small><br /><br />Inscriptions en cour
 s sur ce site<ul type="disc"><li>FMVF0071  Mass Start (Depart ligne) <nobr>
 U14 (Minime)</nobr> Filles<br />&nbsp;&nbsp;Marathon de la Rochelotte  Chal
 lenge Didier Lavoine</li><li>FMVF0072  Mass Start (Depart ligne) <nobr>U16 
 (Cadet)</nobr> Filles<br />&nbsp;&nbsp;Marathon de la Rochelotte  Challenge
  Didier Lavoine</li><li>FMVF0073  Mass Start (Depart ligne) <nobr>U18 a SEN
  (Jeune a Senior)</nobr> Dames<br />&nbsp;&nbsp;Marathon de la Rochelotte  
 Challenge Didier Lavoine</li><li>FMVM0071  Mass Start (Depart ligne) <nobr>
 U14 (Minime)</nobr> Garçons<br />&nbsp;&nbsp;Marathon de la Rochelotte  Cha
 llenge Didier Lavoine</li><li>FMVM0072  Mass Start (Depart ligne) <nobr>U16
  (Cadet)</nobr> Garçons<br />&nbsp;&nbsp;Marathon de la Rochelotte  Challen
 ge Didier Lavoine</li><li>FMVM0073  Mass Start (Depart ligne) Hommes<br />&
 nbsp;&nbsp;Marathon de la Rochelotte  Challenge Didier Lavoine</li><li>FMVM
 0074  Mass Start (Depart ligne) <nobr>Senior</nobr> Hommes<br />&nbsp;&nbsp
 ;Marathon de la Rochelotte  Challenge Didier Lavoine</li></ul> <a href="htt
 ps://skivosges.net/agenda/export-synchronisation/detailevenement/278/-/mara
 thon-de-la-rochelotte-challenge-didier-lavoine?tmpl=component">Cet évènemen
 t a été importé depuis :https://skivosges.net/agenda/export-synchronisation
 /detailevenement/278/-/marathon-de-la-rochelotte-challenge-didier-lavoine?t
 mpl=component</a>DTSTAMP:20260421T051245
DTSTART;TZID=Europe/Paris:20150110T080000
DTEND;TZID=Europe/Paris:20150110T170000
SEQUENCE:0
TRANSP:OPAQUE
END:VEVENT
END:VCALENDAR