BEGIN:VCALENDAR
VERSION:2.0
PRODID:-//jEvents 2.0 for Joomla//EN
CALSCALE:GREGORIAN
METHOD:PUBLISH
BEGIN:VTIMEZONE
TZID:Europe/Paris
BEGIN:STANDARD
DTSTART:20140109T080000
RDATE:20140330T030000
TZOFFSETFROM:+0200
TZOFFSETTO:+0100
TZNAME:Europe/Paris CET
END:STANDARD
BEGIN:STANDARD
DTSTART:20141026T020000
RDATE:20150329T030000
TZOFFSETFROM:+0200
TZOFFSETTO:+0100
TZNAME:Europe/Paris CET
END:STANDARD
BEGIN:STANDARD
DTSTART:20151025T020000
RDATE:20160327T030000
TZOFFSETFROM:+0200
TZOFFSETTO:+0100
TZNAME:Europe/Paris CET
END:STANDARD
BEGIN:STANDARD
DTSTART:20161030T020000
RDATE:20170326T030000
TZOFFSETFROM:+0200
TZOFFSETTO:+0100
TZNAME:Europe/Paris CET
END:STANDARD
BEGIN:STANDARD
DTSTART:20171029T020000
RDATE:20180325T030000
TZOFFSETFROM:+0200
TZOFFSETTO:+0100
TZNAME:Europe/Paris CET
END:STANDARD
BEGIN:STANDARD
DTSTART:20181028T020000
RDATE:20190331T030000
TZOFFSETFROM:+0200
TZOFFSETTO:+0100
TZNAME:Europe/Paris CET
END:STANDARD
BEGIN:STANDARD
DTSTART:20191027T020000
RDATE:20200329T030000
TZOFFSETFROM:+0200
TZOFFSETTO:+0100
TZNAME:Europe/Paris CET
END:STANDARD
BEGIN:STANDARD
DTSTART:20201025T020000
RDATE:20210328T030000
TZOFFSETFROM:+0200
TZOFFSETTO:+0100
TZNAME:Europe/Paris CET
END:STANDARD
BEGIN:STANDARD
DTSTART:20211031T020000
RDATE:20220327T030000
TZOFFSETFROM:+0200
TZOFFSETTO:+0100
TZNAME:Europe/Paris CET
END:STANDARD
BEGIN:STANDARD
DTSTART:20221030T020000
RDATE:20230326T030000
TZOFFSETFROM:+0200
TZOFFSETTO:+0100
TZNAME:Europe/Paris CET
END:STANDARD
BEGIN:STANDARD
DTSTART:20231029T020000
RDATE:20240331T030000
TZOFFSETFROM:+0200
TZOFFSETTO:+0100
TZNAME:Europe/Paris CET
END:STANDARD
BEGIN:STANDARD
DTSTART:20241027T020000
RDATE:20250330T030000
TZOFFSETFROM:+0200
TZOFFSETTO:+0100
TZNAME:Europe/Paris CET
END:STANDARD
BEGIN:STANDARD
DTSTART:20251026T020000
RDATE:20260329T030000
TZOFFSETFROM:+0200
TZOFFSETTO:+0100
TZNAME:Europe/Paris CET
END:STANDARD
BEGIN:STANDARD
DTSTART:20261025T020000
RDATE:20270328T030000
TZOFFSETFROM:+0200
TZOFFSETTO:+0100
TZNAME:Europe/Paris CET
END:STANDARD
BEGIN:DAYLIGHT
DTSTART:20140330T030000
RDATE:20141026T020000
TZOFFSETFROM:+0100
TZOFFSETTO:+0200
TZNAME:Europe/Paris CEST
END:DAYLIGHT
BEGIN:DAYLIGHT
DTSTART:20150329T030000
RDATE:20151025T020000
TZOFFSETFROM:+0100
TZOFFSETTO:+0200
TZNAME:Europe/Paris CEST
END:DAYLIGHT
BEGIN:DAYLIGHT
DTSTART:20160327T030000
RDATE:20161030T020000
TZOFFSETFROM:+0100
TZOFFSETTO:+0200
TZNAME:Europe/Paris CEST
END:DAYLIGHT
BEGIN:DAYLIGHT
DTSTART:20170326T030000
RDATE:20171029T020000
TZOFFSETFROM:+0100
TZOFFSETTO:+0200
TZNAME:Europe/Paris CEST
END:DAYLIGHT
BEGIN:DAYLIGHT
DTSTART:20180325T030000
RDATE:20181028T020000
TZOFFSETFROM:+0100
TZOFFSETTO:+0200
TZNAME:Europe/Paris CEST
END:DAYLIGHT
BEGIN:DAYLIGHT
DTSTART:20190331T030000
RDATE:20191027T020000
TZOFFSETFROM:+0100
TZOFFSETTO:+0200
TZNAME:Europe/Paris CEST
END:DAYLIGHT
BEGIN:DAYLIGHT
DTSTART:20200329T030000
RDATE:20201025T020000
TZOFFSETFROM:+0100
TZOFFSETTO:+0200
TZNAME:Europe/Paris CEST
END:DAYLIGHT
BEGIN:DAYLIGHT
DTSTART:20210328T030000
RDATE:20211031T020000
TZOFFSETFROM:+0100
TZOFFSETTO:+0200
TZNAME:Europe/Paris CEST
END:DAYLIGHT
BEGIN:DAYLIGHT
DTSTART:20220327T030000
RDATE:20221030T020000
TZOFFSETFROM:+0100
TZOFFSETTO:+0200
TZNAME:Europe/Paris CEST
END:DAYLIGHT
BEGIN:DAYLIGHT
DTSTART:20230326T030000
RDATE:20231029T020000
TZOFFSETFROM:+0100
TZOFFSETTO:+0200
TZNAME:Europe/Paris CEST
END:DAYLIGHT
BEGIN:DAYLIGHT
DTSTART:20240331T030000
RDATE:20241027T020000
TZOFFSETFROM:+0100
TZOFFSETTO:+0200
TZNAME:Europe/Paris CEST
END:DAYLIGHT
BEGIN:DAYLIGHT
DTSTART:20250330T030000
RDATE:20251026T020000
TZOFFSETFROM:+0100
TZOFFSETTO:+0200
TZNAME:Europe/Paris CEST
END:DAYLIGHT
BEGIN:DAYLIGHT
DTSTART:20260329T030000
RDATE:20261025T020000
TZOFFSETFROM:+0100
TZOFFSETTO:+0200
TZNAME:Europe/Paris CEST
END:DAYLIGHT
END:VTIMEZONE
BEGIN:VEVENT
UID:95c96a74b3306aa8aafdca92d14ab0e6
CATEGORIES:Circuit Massif Adultes (alpin)
CREATED:20141127T000322
SUMMARY:GPA     GP Inter Sport Gérardmer / Qualif CFFS **REPORTE**
URL;VALUE=URI:https://skivosges.net/agenda/export-synchronisation/detailevenement/280/-/g
 pa-gp-inter-sport-gerardmer-qualif-cffs-reporte?tmpl=component
DESCRIPTION:GPA     GP Inter Sport Gérardmer / Qualif CFFS (Epreuve reportée, date à de
 terminer) \n(Grand Prix Adultes)\n\nLieu : GERARDMER\nOrganisateur : GERARD
 MER SKI ALPIN (14089 GERARDMER SKI ALPIN)\nEmail : RegularLabs.EmailProtect
 or.unCloak("ep_3dfbe901");\nTelecopie : 03 29 60 98 04\nTelecopie : 03 29 6
 0 98 04\n\nInscriptions en cours sur ce site\n - AMVF0131  Slalom (Coupe de
  la Federation) U16 a Masters Dames\n  GPA     GP Inter Sport Gérardmer / Q
 ualif CFFS\n - AMVM0131  Slalom (Coupe de la Federation) U16 a Masters Homm
 es\n  GPA     GP Inter Sport Gérardmer / Qualif CFFS Cet évènement a été im
 porté depuis :https://skivosges.net/agenda/export-synchronisation/detaileve
 nement/280/-/gpa-gp-inter-sport-gerardmer-qualif-cffs-reporte?tmpl=componen
 t (https://skivosges.net/agenda/export-synchronisation/detailevenement/280/
 -/gpa-gp-inter-sport-gerardmer-qualif-cffs-reporte?tmpl=component)
X-ALT-DESC;FMTTYPE=text/html:<strong>GPA     GP Inter Sport Gérardmer / Qualif CFFS</strong> <font class
 ="attention4">(Epreuve reportée, date à determiner)</font> <br /><i>(Grand 
 Prix Adultes)</i><br /><br />Lieu : GERARDMER<br />Organisateur : GERARDMER
  SKI ALPIN <small>(14089 GERARDMER SKI ALPIN)</small><br />Email : <!-- Cet
 te adresse électronique est protégée contre les robots spammeurs. --><span 
 class="cloaked_email ep_3dfbe901"><span data-ep-b="&#101;&#46;&#102;r" data
 -ep-a="&#103;&#101;r&#97;&#114;"><span data-ep-b="o&#114;&#97;&#110;&#103;"
  data-ep-a="dm&#101;&#114;&#45;"><span data-ep-a="sk&#105;&#45;&#97;" data-
 ep-b="l&#112;&#105;&#110;&#64;"></span></span></span></span><script>Regular
 Labs.EmailProtector.unCloak("ep_3dfbe901");</script><br />Telecopie : 03 29
  60 98 04<br />Telecopie : 03 29 60 98 04<br /><br />Inscriptions en cours 
 sur ce site<ul type="disc"><li>AMVF0131  Slalom <nobr><i>(Coupe de la Feder
 ation)</i></nobr> <nobr>U16 a Masters</nobr> Dames<br />&nbsp;&nbsp;GPA    
  GP Inter Sport Gérardmer / Qualif CFFS</li><li>AMVM0131  Slalom <nobr><i>(
 Coupe de la Federation)</i></nobr> <nobr>U16 a Masters</nobr> Hommes<br />&
 nbsp;&nbsp;GPA     GP Inter Sport Gérardmer / Qualif CFFS</li></ul> <a href
 ="https://skivosges.net/agenda/export-synchronisation/detailevenement/280/-
 /gpa-gp-inter-sport-gerardmer-qualif-cffs-reporte?tmpl=component">Cet évène
 ment a été importé depuis :https://skivosges.net/agenda/export-synchronisat
 ion/detailevenement/280/-/gpa-gp-inter-sport-gerardmer-qualif-cffs-reporte?
 tmpl=component</a>DTSTAMP:20260421T045430
DTSTART;TZID=Europe/Paris:20150110T080000
DTEND;TZID=Europe/Paris:20150110T170000
SEQUENCE:0
TRANSP:OPAQUE
END:VEVENT
END:VCALENDAR