BEGIN:VCALENDAR
VERSION:2.0
PRODID:-//jEvents 2.0 for Joomla//EN
CALSCALE:GREGORIAN
METHOD:PUBLISH
BEGIN:VTIMEZONE
TZID:Europe/Paris
BEGIN:STANDARD
DTSTART:20140110T080000
RDATE:20140330T030000
TZOFFSETFROM:+0200
TZOFFSETTO:+0100
TZNAME:Europe/Paris CET
END:STANDARD
BEGIN:STANDARD
DTSTART:20141026T020000
RDATE:20150329T030000
TZOFFSETFROM:+0200
TZOFFSETTO:+0100
TZNAME:Europe/Paris CET
END:STANDARD
BEGIN:STANDARD
DTSTART:20151025T020000
RDATE:20160327T030000
TZOFFSETFROM:+0200
TZOFFSETTO:+0100
TZNAME:Europe/Paris CET
END:STANDARD
BEGIN:STANDARD
DTSTART:20161030T020000
RDATE:20170326T030000
TZOFFSETFROM:+0200
TZOFFSETTO:+0100
TZNAME:Europe/Paris CET
END:STANDARD
BEGIN:STANDARD
DTSTART:20171029T020000
RDATE:20180325T030000
TZOFFSETFROM:+0200
TZOFFSETTO:+0100
TZNAME:Europe/Paris CET
END:STANDARD
BEGIN:STANDARD
DTSTART:20181028T020000
RDATE:20190331T030000
TZOFFSETFROM:+0200
TZOFFSETTO:+0100
TZNAME:Europe/Paris CET
END:STANDARD
BEGIN:STANDARD
DTSTART:20191027T020000
RDATE:20200329T030000
TZOFFSETFROM:+0200
TZOFFSETTO:+0100
TZNAME:Europe/Paris CET
END:STANDARD
BEGIN:STANDARD
DTSTART:20201025T020000
RDATE:20210328T030000
TZOFFSETFROM:+0200
TZOFFSETTO:+0100
TZNAME:Europe/Paris CET
END:STANDARD
BEGIN:STANDARD
DTSTART:20211031T020000
RDATE:20220327T030000
TZOFFSETFROM:+0200
TZOFFSETTO:+0100
TZNAME:Europe/Paris CET
END:STANDARD
BEGIN:STANDARD
DTSTART:20221030T020000
RDATE:20230326T030000
TZOFFSETFROM:+0200
TZOFFSETTO:+0100
TZNAME:Europe/Paris CET
END:STANDARD
BEGIN:STANDARD
DTSTART:20231029T020000
RDATE:20240331T030000
TZOFFSETFROM:+0200
TZOFFSETTO:+0100
TZNAME:Europe/Paris CET
END:STANDARD
BEGIN:STANDARD
DTSTART:20241027T020000
RDATE:20250330T030000
TZOFFSETFROM:+0200
TZOFFSETTO:+0100
TZNAME:Europe/Paris CET
END:STANDARD
BEGIN:STANDARD
DTSTART:20251026T020000
RDATE:20260329T030000
TZOFFSETFROM:+0200
TZOFFSETTO:+0100
TZNAME:Europe/Paris CET
END:STANDARD
BEGIN:STANDARD
DTSTART:20261025T020000
RDATE:20270328T030000
TZOFFSETFROM:+0200
TZOFFSETTO:+0100
TZNAME:Europe/Paris CET
END:STANDARD
BEGIN:DAYLIGHT
DTSTART:20140330T030000
RDATE:20141026T020000
TZOFFSETFROM:+0100
TZOFFSETTO:+0200
TZNAME:Europe/Paris CEST
END:DAYLIGHT
BEGIN:DAYLIGHT
DTSTART:20150329T030000
RDATE:20151025T020000
TZOFFSETFROM:+0100
TZOFFSETTO:+0200
TZNAME:Europe/Paris CEST
END:DAYLIGHT
BEGIN:DAYLIGHT
DTSTART:20160327T030000
RDATE:20161030T020000
TZOFFSETFROM:+0100
TZOFFSETTO:+0200
TZNAME:Europe/Paris CEST
END:DAYLIGHT
BEGIN:DAYLIGHT
DTSTART:20170326T030000
RDATE:20171029T020000
TZOFFSETFROM:+0100
TZOFFSETTO:+0200
TZNAME:Europe/Paris CEST
END:DAYLIGHT
BEGIN:DAYLIGHT
DTSTART:20180325T030000
RDATE:20181028T020000
TZOFFSETFROM:+0100
TZOFFSETTO:+0200
TZNAME:Europe/Paris CEST
END:DAYLIGHT
BEGIN:DAYLIGHT
DTSTART:20190331T030000
RDATE:20191027T020000
TZOFFSETFROM:+0100
TZOFFSETTO:+0200
TZNAME:Europe/Paris CEST
END:DAYLIGHT
BEGIN:DAYLIGHT
DTSTART:20200329T030000
RDATE:20201025T020000
TZOFFSETFROM:+0100
TZOFFSETTO:+0200
TZNAME:Europe/Paris CEST
END:DAYLIGHT
BEGIN:DAYLIGHT
DTSTART:20210328T030000
RDATE:20211031T020000
TZOFFSETFROM:+0100
TZOFFSETTO:+0200
TZNAME:Europe/Paris CEST
END:DAYLIGHT
BEGIN:DAYLIGHT
DTSTART:20220327T030000
RDATE:20221030T020000
TZOFFSETFROM:+0100
TZOFFSETTO:+0200
TZNAME:Europe/Paris CEST
END:DAYLIGHT
BEGIN:DAYLIGHT
DTSTART:20230326T030000
RDATE:20231029T020000
TZOFFSETFROM:+0100
TZOFFSETTO:+0200
TZNAME:Europe/Paris CEST
END:DAYLIGHT
BEGIN:DAYLIGHT
DTSTART:20240331T030000
RDATE:20241027T020000
TZOFFSETFROM:+0100
TZOFFSETTO:+0200
TZNAME:Europe/Paris CEST
END:DAYLIGHT
BEGIN:DAYLIGHT
DTSTART:20250330T030000
RDATE:20251026T020000
TZOFFSETFROM:+0100
TZOFFSETTO:+0200
TZNAME:Europe/Paris CEST
END:DAYLIGHT
BEGIN:DAYLIGHT
DTSTART:20260329T030000
RDATE:20261025T020000
TZOFFSETFROM:+0100
TZOFFSETTO:+0200
TZNAME:Europe/Paris CEST
END:DAYLIGHT
END:VTIMEZONE
BEGIN:VEVENT
UID:a907babc3047eb1266620de29ab9316b
CATEGORIES:Compétition Ski de Fond
CREATED:20141127T000322
SUMMARY:Grand Prix de la BRESSE Crédit Mutuel n°3
URL;VALUE=URI:https://skivosges.net/agenda/export-synchronisation/detailevenement/281/-/g
 rand-prix-de-la-bresse-credit-mutuel-n-3?tmpl=component
DESCRIPTION:Grand Prix de la BRESSE Crédit Mutuel n°3\n\nLieu : LA BRESSE \nPiste : Tou
 r des Roches\nOrganisateur : LA BRESSAUDE SECTION SKI  (14024 LA BRESSAUDE 
 SECTION SKI)\nTelecopie : 06.08.69.23.57\n\nATTENTION dernier message du sa
 medi 10/01/2015 à 10H30 :\nLa compétition est maintenue. Skiathlon annulé t
 ransformé en course individuelle SKATING sur le site du tour des Roches ave
 c un départ à proximité du péage.\nDistances : \nMinimes F et M : 3.5 Km\nC
 adets F et M : 7 Km\nJEUN, JUN, SEN F : 7 km\nJEUN, JUN, SEN M : 14 km\nPre
 mier départ à 9 H 30\n\nInscriptions closes, les listes de départ sont visu
 alisables sur ce site\n - FMVF0081  Depart Individuel U14 (Minime) Filles\n
   Grand Prix de la BRESSE Crédit Mutuel n°3\n - FMVF0082  Depart Individuel
  U16 a SEN (Cadet a Senior) Dames\n  Grand Prix de la BRESSE Crédit Mutuel 
 n°3\n - FMVM0081  Depart Individuel U14 (Minime) Garçons\n  Grand Prix de l
 a BRESSE Crédit Mutuel n°3\n - FMVM0082  Depart Individuel U16 (Cadet) Garç
 ons\n  Grand Prix de la BRESSE Crédit Mutuel n°3\n - FMVM0083  Depart Indiv
 iduel U18 a SEN (Jeune a Senior) Hommes\n  Grand Prix de la BRESSE Crédit M
 utuel n°3 Cet évènement a été importé depuis :https://skivosges.net/agenda/
 export-synchronisation/detailevenement/281/-/grand-prix-de-la-bresse-credit
 -mutuel-n-3?tmpl=component
X-ALT-DESC;FMTTYPE=text/html:<strong>Grand Prix de la BRESSE Crédit Mutuel n°3</strong><br /><br />Lieu 
 : LA BRESSE <br />Piste : Tour des Roches<br />Organisateur : LA BRESSAUDE 
 SECTION SKI  <small>(14024 LA BRESSAUDE SECTION SKI)</small><br />Telecopie
  : 06.08.69.23.57<br /><br />ATTENTION dernier message du samedi 10/01/2015
  à 10H30 :<br>La compétition est maintenue. Skiathlon annulé transformé en 
 course individuelle SKATING sur le site du tour des Roches avec un départ à
  proximité du péage.<br>Distances : <br>Minimes F et M : 3.5 Km<br>Cadets F
  et M : 7 Km<br>JEUN, JUN, SEN F : 7 km<br>JEUN, JUN, SEN M : 14 km<br>Prem
 ier départ à 9 H 30<br /><br />Inscriptions closes, les listes de départ so
 nt visualisables sur ce site<ul type="disc"><li>FMVF0081  Depart Individuel
  <nobr>U14 (Minime)</nobr> Filles<br />&nbsp;&nbsp;Grand Prix de la BRESSE 
 Crédit Mutuel n°3</li><li>FMVF0082  Depart Individuel <nobr>U16 a SEN (Cade
 t a Senior)</nobr> Dames<br />&nbsp;&nbsp;Grand Prix de la BRESSE Crédit Mu
 tuel n°3</li><li>FMVM0081  Depart Individuel <nobr>U14 (Minime)</nobr> Garç
 ons<br />&nbsp;&nbsp;Grand Prix de la BRESSE Crédit Mutuel n°3</li><li>FMVM
 0082  Depart Individuel <nobr>U16 (Cadet)</nobr> Garçons<br />&nbsp;&nbsp;G
 rand Prix de la BRESSE Crédit Mutuel n°3</li><li>FMVM0083  Depart Individue
 l <nobr>U18 a SEN (Jeune a Senior)</nobr> Hommes<br />&nbsp;&nbsp;Grand Pri
 x de la BRESSE Crédit Mutuel n°3</li></ul> <a href="https://skivosges.net/a
 genda/export-synchronisation/detailevenement/281/-/grand-prix-de-la-bresse-
 credit-mutuel-n-3?tmpl=component">Cet évènement a été importé depuis :https
 ://skivosges.net/agenda/export-synchronisation/detailevenement/281/-/grand-
 prix-de-la-bresse-credit-mutuel-n-3?tmpl=component</a>DTSTAMP:20260421T050441
DTSTART;TZID=Europe/Paris:20150111T080000
DTEND;TZID=Europe/Paris:20150111T170000
SEQUENCE:0
TRANSP:OPAQUE
END:VEVENT
END:VCALENDAR