BEGIN:VCALENDAR
VERSION:2.0
PRODID:-//jEvents 2.0 for Joomla//EN
CALSCALE:GREGORIAN
METHOD:PUBLISH
BEGIN:VTIMEZONE
TZID:Europe/Paris
BEGIN:STANDARD
DTSTART:20140110T080000
RDATE:20140330T030000
TZOFFSETFROM:+0200
TZOFFSETTO:+0100
TZNAME:Europe/Paris CET
END:STANDARD
BEGIN:STANDARD
DTSTART:20141026T020000
RDATE:20150329T030000
TZOFFSETFROM:+0200
TZOFFSETTO:+0100
TZNAME:Europe/Paris CET
END:STANDARD
BEGIN:STANDARD
DTSTART:20151025T020000
RDATE:20160327T030000
TZOFFSETFROM:+0200
TZOFFSETTO:+0100
TZNAME:Europe/Paris CET
END:STANDARD
BEGIN:STANDARD
DTSTART:20161030T020000
RDATE:20170326T030000
TZOFFSETFROM:+0200
TZOFFSETTO:+0100
TZNAME:Europe/Paris CET
END:STANDARD
BEGIN:STANDARD
DTSTART:20171029T020000
RDATE:20180325T030000
TZOFFSETFROM:+0200
TZOFFSETTO:+0100
TZNAME:Europe/Paris CET
END:STANDARD
BEGIN:STANDARD
DTSTART:20181028T020000
RDATE:20190331T030000
TZOFFSETFROM:+0200
TZOFFSETTO:+0100
TZNAME:Europe/Paris CET
END:STANDARD
BEGIN:STANDARD
DTSTART:20191027T020000
RDATE:20200329T030000
TZOFFSETFROM:+0200
TZOFFSETTO:+0100
TZNAME:Europe/Paris CET
END:STANDARD
BEGIN:STANDARD
DTSTART:20201025T020000
RDATE:20210328T030000
TZOFFSETFROM:+0200
TZOFFSETTO:+0100
TZNAME:Europe/Paris CET
END:STANDARD
BEGIN:STANDARD
DTSTART:20211031T020000
RDATE:20220327T030000
TZOFFSETFROM:+0200
TZOFFSETTO:+0100
TZNAME:Europe/Paris CET
END:STANDARD
BEGIN:STANDARD
DTSTART:20221030T020000
RDATE:20230326T030000
TZOFFSETFROM:+0200
TZOFFSETTO:+0100
TZNAME:Europe/Paris CET
END:STANDARD
BEGIN:STANDARD
DTSTART:20231029T020000
RDATE:20240331T030000
TZOFFSETFROM:+0200
TZOFFSETTO:+0100
TZNAME:Europe/Paris CET
END:STANDARD
BEGIN:STANDARD
DTSTART:20241027T020000
RDATE:20250330T030000
TZOFFSETFROM:+0200
TZOFFSETTO:+0100
TZNAME:Europe/Paris CET
END:STANDARD
BEGIN:STANDARD
DTSTART:20251026T020000
RDATE:20260329T030000
TZOFFSETFROM:+0200
TZOFFSETTO:+0100
TZNAME:Europe/Paris CET
END:STANDARD
BEGIN:STANDARD
DTSTART:20261025T020000
RDATE:20270328T030000
TZOFFSETFROM:+0200
TZOFFSETTO:+0100
TZNAME:Europe/Paris CET
END:STANDARD
BEGIN:DAYLIGHT
DTSTART:20140330T030000
RDATE:20141026T020000
TZOFFSETFROM:+0100
TZOFFSETTO:+0200
TZNAME:Europe/Paris CEST
END:DAYLIGHT
BEGIN:DAYLIGHT
DTSTART:20150329T030000
RDATE:20151025T020000
TZOFFSETFROM:+0100
TZOFFSETTO:+0200
TZNAME:Europe/Paris CEST
END:DAYLIGHT
BEGIN:DAYLIGHT
DTSTART:20160327T030000
RDATE:20161030T020000
TZOFFSETFROM:+0100
TZOFFSETTO:+0200
TZNAME:Europe/Paris CEST
END:DAYLIGHT
BEGIN:DAYLIGHT
DTSTART:20170326T030000
RDATE:20171029T020000
TZOFFSETFROM:+0100
TZOFFSETTO:+0200
TZNAME:Europe/Paris CEST
END:DAYLIGHT
BEGIN:DAYLIGHT
DTSTART:20180325T030000
RDATE:20181028T020000
TZOFFSETFROM:+0100
TZOFFSETTO:+0200
TZNAME:Europe/Paris CEST
END:DAYLIGHT
BEGIN:DAYLIGHT
DTSTART:20190331T030000
RDATE:20191027T020000
TZOFFSETFROM:+0100
TZOFFSETTO:+0200
TZNAME:Europe/Paris CEST
END:DAYLIGHT
BEGIN:DAYLIGHT
DTSTART:20200329T030000
RDATE:20201025T020000
TZOFFSETFROM:+0100
TZOFFSETTO:+0200
TZNAME:Europe/Paris CEST
END:DAYLIGHT
BEGIN:DAYLIGHT
DTSTART:20210328T030000
RDATE:20211031T020000
TZOFFSETFROM:+0100
TZOFFSETTO:+0200
TZNAME:Europe/Paris CEST
END:DAYLIGHT
BEGIN:DAYLIGHT
DTSTART:20220327T030000
RDATE:20221030T020000
TZOFFSETFROM:+0100
TZOFFSETTO:+0200
TZNAME:Europe/Paris CEST
END:DAYLIGHT
BEGIN:DAYLIGHT
DTSTART:20230326T030000
RDATE:20231029T020000
TZOFFSETFROM:+0100
TZOFFSETTO:+0200
TZNAME:Europe/Paris CEST
END:DAYLIGHT
BEGIN:DAYLIGHT
DTSTART:20240331T030000
RDATE:20241027T020000
TZOFFSETFROM:+0100
TZOFFSETTO:+0200
TZNAME:Europe/Paris CEST
END:DAYLIGHT
BEGIN:DAYLIGHT
DTSTART:20250330T030000
RDATE:20251026T020000
TZOFFSETFROM:+0100
TZOFFSETTO:+0200
TZNAME:Europe/Paris CEST
END:DAYLIGHT
BEGIN:DAYLIGHT
DTSTART:20260329T030000
RDATE:20261025T020000
TZOFFSETFROM:+0100
TZOFFSETTO:+0200
TZNAME:Europe/Paris CEST
END:DAYLIGHT
END:VTIMEZONE
BEGIN:VEVENT
UID:865077704d44625e142ae8e7463e3cec
CATEGORIES:Circuit Lorraine Jeunes (alpin)
CREATED:20141127T000322
SUMMARY:CLJ  U8etU10-U12-U14      Prix Ceeri
URL;VALUE=URI:https://skivosges.net/agenda/export-synchronisation/detailevenement/284/-/c
 lj-u8etu10-u12-u14-prix-ceeri?tmpl=component
DESCRIPTION:CLJ  U8etU10-U12-U14      Prix Ceeri \n(Coupe de Lorraine Jeunes)\n\nLieu :
  FRERE JOSEPH\nPiste : Thérèse Leduc\nOrganisateur : U.S VENTRON (14083 U.S
  VENTRON)\nEmail : RegularLabs.EmailProtector.unCloak("ep_7237c587");\nTele
 copie : 0644272281\n\nUn seul tracé en grands piquets (junior) pour cause d
 e manque de largeur de piste.\n\nInscriptions closes, les listes de départ 
 sont visualisables sur ce site\n - AMVF0171  Slalom (Coupe de Bronze) U14 F
 illes\n  CLJ  U8etU10-U12-U14      Prix Ceeri\n - AMVM0171  Slalom (Coupe d
 e Bronze) U14 Garçons\n  CLJ  U8etU10-U12-U14      Prix Ceeri\n - AMVF0172 
  Slalom (Coupe de Bronze) U12 Filles\n  CLJ  U8etU10-U12-U14      Prix Ceer
 i\n - AMVM0172  Slalom (Coupe de Bronze) U12 Garçons\n  CLJ  U8etU10-U12-U1
 4      Prix Ceeri\n - AMVF0173  Slalom (Coupe de Bronze) U8/U10 Filles\n  C
 LJ  U8etU10-U12-U14      Prix Ceeri\n - AMVM0173  Slalom (Coupe de Bronze) 
 U8/U10 Garçons\n  CLJ  U8etU10-U12-U14      Prix Ceeri Cet évènement a été 
 importé depuis :https://skivosges.net/agenda/export-synchronisation/detaile
 venement/284/-/clj-u8etu10-u12-u14-prix-ceeri?tmpl=component
X-ALT-DESC;FMTTYPE=text/html:<strong>CLJ  U8etU10-U12-U14      Prix Ceeri</strong> <br /><i>(Coupe de Lo
 rraine Jeunes)</i><br /><br />Lieu : FRERE JOSEPH<br />Piste : Th&eacute;r&
 egrave;se Leduc<br />Organisateur : U.S VENTRON <small>(14083 U.S VENTRON)<
 /small><br />Email : <!-- Cette adresse électronique est protégée contre le
 s robots spammeurs. --><span class="cloaked_email ep_7237c587"><span data-e
 p-a="&#115;&#116;eph" data-ep-b="&#108;&#101;&#46;&#102;&#114;"><span data-
 ep-a="&#97;n&#101;&#46;&#103;" data-ep-b="&#114;icab"><span data-ep-a="&#10
 5;&#103;an&#116;" data-ep-b="&#64;&#110;&#117;&#109;&#101;"></span></span><
 /span></span><script>RegularLabs.EmailProtector.unCloak("ep_7237c587");</sc
 ript><br />Telecopie : 0644272281<br /><br />Un seul tracé en grands piquet
 s (junior) pour cause de manque de largeur de piste.<br /><br />Inscription
 s closes, les listes de départ sont visualisables sur ce site<ul type="disc
 "><li>AMVF0171  Slalom <nobr><i>(Coupe de Bronze)</i></nobr> <nobr>U14</nob
 r> Filles<br />&nbsp;&nbsp;CLJ  U8etU10-U12-U14      Prix Ceeri</li><li>AMV
 M0171  Slalom <nobr><i>(Coupe de Bronze)</i></nobr> <nobr>U14</nobr> Garçon
 s<br />&nbsp;&nbsp;CLJ  U8etU10-U12-U14      Prix Ceeri</li><li>AMVF0172  S
 lalom <nobr><i>(Coupe de Bronze)</i></nobr> <nobr>U12</nobr> Filles<br />&n
 bsp;&nbsp;CLJ  U8etU10-U12-U14      Prix Ceeri</li><li>AMVM0172  Slalom <no
 br><i>(Coupe de Bronze)</i></nobr> <nobr>U12</nobr> Garçons<br />&nbsp;&nbs
 p;CLJ  U8etU10-U12-U14      Prix Ceeri</li><li>AMVF0173  Slalom <nobr><i>(C
 oupe de Bronze)</i></nobr> <nobr>U8/U10</nobr> Filles<br />&nbsp;&nbsp;CLJ 
  U8etU10-U12-U14      Prix Ceeri</li><li>AMVM0173  Slalom <nobr><i>(Coupe d
 e Bronze)</i></nobr> <nobr>U8/U10</nobr> Garçons<br />&nbsp;&nbsp;CLJ  U8et
 U10-U12-U14      Prix Ceeri</li></ul> <a href="https://skivosges.net/agenda
 /export-synchronisation/detailevenement/284/-/clj-u8etu10-u12-u14-prix-ceer
 i?tmpl=component">Cet évènement a été importé depuis :https://skivosges.net
 /agenda/export-synchronisation/detailevenement/284/-/clj-u8etu10-u12-u14-pr
 ix-ceeri?tmpl=component</a>DTSTAMP:20260420T220745
DTSTART;TZID=Europe/Paris:20150111T080000
DTEND;TZID=Europe/Paris:20150111T170000
SEQUENCE:0
TRANSP:OPAQUE
END:VEVENT
END:VCALENDAR