BEGIN:VCALENDAR
VERSION:2.0
PRODID:-//jEvents 2.0 for Joomla//EN
CALSCALE:GREGORIAN
METHOD:PUBLISH
BEGIN:VTIMEZONE
TZID:Europe/Paris
BEGIN:STANDARD
DTSTART:20140110T080000
RDATE:20140330T030000
TZOFFSETFROM:+0200
TZOFFSETTO:+0100
TZNAME:Europe/Paris CET
END:STANDARD
BEGIN:STANDARD
DTSTART:20141026T020000
RDATE:20150329T030000
TZOFFSETFROM:+0200
TZOFFSETTO:+0100
TZNAME:Europe/Paris CET
END:STANDARD
BEGIN:STANDARD
DTSTART:20151025T020000
RDATE:20160327T030000
TZOFFSETFROM:+0200
TZOFFSETTO:+0100
TZNAME:Europe/Paris CET
END:STANDARD
BEGIN:STANDARD
DTSTART:20161030T020000
RDATE:20170326T030000
TZOFFSETFROM:+0200
TZOFFSETTO:+0100
TZNAME:Europe/Paris CET
END:STANDARD
BEGIN:STANDARD
DTSTART:20171029T020000
RDATE:20180325T030000
TZOFFSETFROM:+0200
TZOFFSETTO:+0100
TZNAME:Europe/Paris CET
END:STANDARD
BEGIN:STANDARD
DTSTART:20181028T020000
RDATE:20190331T030000
TZOFFSETFROM:+0200
TZOFFSETTO:+0100
TZNAME:Europe/Paris CET
END:STANDARD
BEGIN:STANDARD
DTSTART:20191027T020000
RDATE:20200329T030000
TZOFFSETFROM:+0200
TZOFFSETTO:+0100
TZNAME:Europe/Paris CET
END:STANDARD
BEGIN:STANDARD
DTSTART:20201025T020000
RDATE:20210328T030000
TZOFFSETFROM:+0200
TZOFFSETTO:+0100
TZNAME:Europe/Paris CET
END:STANDARD
BEGIN:STANDARD
DTSTART:20211031T020000
RDATE:20220327T030000
TZOFFSETFROM:+0200
TZOFFSETTO:+0100
TZNAME:Europe/Paris CET
END:STANDARD
BEGIN:STANDARD
DTSTART:20221030T020000
RDATE:20230326T030000
TZOFFSETFROM:+0200
TZOFFSETTO:+0100
TZNAME:Europe/Paris CET
END:STANDARD
BEGIN:STANDARD
DTSTART:20231029T020000
RDATE:20240331T030000
TZOFFSETFROM:+0200
TZOFFSETTO:+0100
TZNAME:Europe/Paris CET
END:STANDARD
BEGIN:STANDARD
DTSTART:20241027T020000
RDATE:20250330T030000
TZOFFSETFROM:+0200
TZOFFSETTO:+0100
TZNAME:Europe/Paris CET
END:STANDARD
BEGIN:STANDARD
DTSTART:20251026T020000
RDATE:20260329T030000
TZOFFSETFROM:+0200
TZOFFSETTO:+0100
TZNAME:Europe/Paris CET
END:STANDARD
BEGIN:STANDARD
DTSTART:20261025T020000
RDATE:20270328T030000
TZOFFSETFROM:+0200
TZOFFSETTO:+0100
TZNAME:Europe/Paris CET
END:STANDARD
BEGIN:DAYLIGHT
DTSTART:20140330T030000
RDATE:20141026T020000
TZOFFSETFROM:+0100
TZOFFSETTO:+0200
TZNAME:Europe/Paris CEST
END:DAYLIGHT
BEGIN:DAYLIGHT
DTSTART:20150329T030000
RDATE:20151025T020000
TZOFFSETFROM:+0100
TZOFFSETTO:+0200
TZNAME:Europe/Paris CEST
END:DAYLIGHT
BEGIN:DAYLIGHT
DTSTART:20160327T030000
RDATE:20161030T020000
TZOFFSETFROM:+0100
TZOFFSETTO:+0200
TZNAME:Europe/Paris CEST
END:DAYLIGHT
BEGIN:DAYLIGHT
DTSTART:20170326T030000
RDATE:20171029T020000
TZOFFSETFROM:+0100
TZOFFSETTO:+0200
TZNAME:Europe/Paris CEST
END:DAYLIGHT
BEGIN:DAYLIGHT
DTSTART:20180325T030000
RDATE:20181028T020000
TZOFFSETFROM:+0100
TZOFFSETTO:+0200
TZNAME:Europe/Paris CEST
END:DAYLIGHT
BEGIN:DAYLIGHT
DTSTART:20190331T030000
RDATE:20191027T020000
TZOFFSETFROM:+0100
TZOFFSETTO:+0200
TZNAME:Europe/Paris CEST
END:DAYLIGHT
BEGIN:DAYLIGHT
DTSTART:20200329T030000
RDATE:20201025T020000
TZOFFSETFROM:+0100
TZOFFSETTO:+0200
TZNAME:Europe/Paris CEST
END:DAYLIGHT
BEGIN:DAYLIGHT
DTSTART:20210328T030000
RDATE:20211031T020000
TZOFFSETFROM:+0100
TZOFFSETTO:+0200
TZNAME:Europe/Paris CEST
END:DAYLIGHT
BEGIN:DAYLIGHT
DTSTART:20220327T030000
RDATE:20221030T020000
TZOFFSETFROM:+0100
TZOFFSETTO:+0200
TZNAME:Europe/Paris CEST
END:DAYLIGHT
BEGIN:DAYLIGHT
DTSTART:20230326T030000
RDATE:20231029T020000
TZOFFSETFROM:+0100
TZOFFSETTO:+0200
TZNAME:Europe/Paris CEST
END:DAYLIGHT
BEGIN:DAYLIGHT
DTSTART:20240331T030000
RDATE:20241027T020000
TZOFFSETFROM:+0100
TZOFFSETTO:+0200
TZNAME:Europe/Paris CEST
END:DAYLIGHT
BEGIN:DAYLIGHT
DTSTART:20250330T030000
RDATE:20251026T020000
TZOFFSETFROM:+0100
TZOFFSETTO:+0200
TZNAME:Europe/Paris CEST
END:DAYLIGHT
BEGIN:DAYLIGHT
DTSTART:20260329T030000
RDATE:20261025T020000
TZOFFSETFROM:+0100
TZOFFSETTO:+0200
TZNAME:Europe/Paris CEST
END:DAYLIGHT
END:VTIMEZONE
BEGIN:VEVENT
UID:e73c19a6c7a203db3789603e0cdb9c9f
CATEGORIES:Circuit Alsace Jeunes (alpin)
CREATED:20141127T000322
SUMMARY:CAJ  U8etU10-U12etU14     Mémorial Marcel Adam
URL;VALUE=URI:https://skivosges.net/agenda/export-synchronisation/detailevenement/285/-/c
 aj-u8etu10-u12etu14-memorial-marcel-adam?tmpl=component
DESCRIPTION:CAJ  U8etU10-U12etU14     Mémorial Marcel Adam \n(Coupe d'Alsace Jeunes)\n\
 nLieu : Frères Joseph - Ventron\nOrganisateur : SKI CLUB BELMONT CHAMP DU F
 EU (14485 SKI CLUB BELMONT CHAMP DU FEU)\nEmail : RegularLabs.EmailProtecto
 r.unCloak("ep_89495317");\n\nCourse déplacée au Ventron sous la forme d´un 
 slalom. Décision définitive de son maintien samedi en début d´après-midi.\n
 \nInscriptions en cours sur ce site\n  Lieu:CHAMP DU FEU\n - AMVF0161  Slal
 om (Coupe de Bronze) U12/U14 Filles\n  CAJ  U8etU10-U12etU14     Mémorial M
 arcel Adam\n  Lieu:CHAMP DU FEU\n - AMVM0161  Slalom (Coupe de Bronze) U12/
 U14 Garçons\n  CAJ  U8etU10-U12etU14     Mémorial Marcel Adam\n  Lieu:CHAMP
  DU FEU\n - AMVF0162  Slalom Geant (Coupe de Bronze) U8/U10 Filles\n  CAJ  
 U8etU10-U12etU14     Mémorial Marcel Adam\n  Lieu:CHAMP DU FEU\n - AMVM0162
   Slalom Geant (Coupe de Bronze) U8/U10 Garçons\n  CAJ  U8etU10-U12etU14   
   Mémorial Marcel Adam Cet évènement a été importé depuis :https://skivosge
 s.net/agenda/export-synchronisation/detailevenement/285/-/caj-u8etu10-u12et
 u14-memorial-marcel-adam?tmpl=component
X-ALT-DESC;FMTTYPE=text/html:<strong>CAJ  U8etU10-U12etU14     Mémorial Marcel Adam</strong> <br /><i>(C
 oupe d'Alsace Jeunes)</i><br /><br />Lieu : Fr&egrave;res Joseph - Ventron<
 br />Organisateur : SKI CLUB BELMONT CHAMP DU FEU <small>(14485 SKI CLUB BE
 LMONT CHAMP DU FEU)</small><br />Email : <!-- Cette adresse électronique es
 t protégée contre les robots spammeurs. --><span class="cloaked_email ep_89
 495317"><span data-ep-a="&#104;&#97;&#108;" data-ep-b="&#46;f&#114;"><span 
 data-ep-b="&#97;&#105;&#108;" data-ep-a="&#116;j&#117;"><span data-ep-b="&#
 111;&#116;&#109;" data-ep-a="&#108;&#64;&#104;"></span></span></span></span
 ><script>RegularLabs.EmailProtector.unCloak("ep_89495317");</script><br /><
 br />Course déplacée au Ventron sous la forme d´un slalom. Décision définit
 ive de son maintien samedi en début d´après-midi.<br /><br />Inscriptions e
 n cours sur ce site<ul type="disc"><br />&nbsp;&nbsp;Lieu:CHAMP DU FEU<li>A
 MVF0161  Slalom <nobr><i>(Coupe de Bronze)</i></nobr> <nobr>U12/U14</nobr> 
 Filles<br />&nbsp;&nbsp;CAJ  U8etU10-U12etU14     Mémorial Marcel Adam</li>
 <br />&nbsp;&nbsp;Lieu:CHAMP DU FEU<li>AMVM0161  Slalom <nobr><i>(Coupe de 
 Bronze)</i></nobr> <nobr>U12/U14</nobr> Garçons<br />&nbsp;&nbsp;CAJ  U8etU
 10-U12etU14     Mémorial Marcel Adam</li><br />&nbsp;&nbsp;Lieu:CHAMP DU FE
 U<li>AMVF0162  Slalom Geant <nobr><i>(Coupe de Bronze)</i></nobr> <nobr>U8/
 U10</nobr> Filles<br />&nbsp;&nbsp;CAJ  U8etU10-U12etU14     Mémorial Marce
 l Adam</li><br />&nbsp;&nbsp;Lieu:CHAMP DU FEU<li>AMVM0162  Slalom Geant <n
 obr><i>(Coupe de Bronze)</i></nobr> <nobr>U8/U10</nobr> Garçons<br />&nbsp;
 &nbsp;CAJ  U8etU10-U12etU14     Mémorial Marcel Adam</li></ul> <a href="htt
 ps://skivosges.net/agenda/export-synchronisation/detailevenement/285/-/caj-
 u8etu10-u12etu14-memorial-marcel-adam?tmpl=component">Cet évènement a été i
 mporté depuis :https://skivosges.net/agenda/export-synchronisation/detailev
 enement/285/-/caj-u8etu10-u12etu14-memorial-marcel-adam?tmpl=component</a>DTSTAMP:20260421T014213
DTSTART;TZID=Europe/Paris:20150111T080000
DTEND;TZID=Europe/Paris:20150111T170000
SEQUENCE:0
TRANSP:OPAQUE
END:VEVENT
END:VCALENDAR