BEGIN:VCALENDAR
VERSION:2.0
PRODID:-//jEvents 2.0 for Joomla//EN
CALSCALE:GREGORIAN
METHOD:PUBLISH
BEGIN:VTIMEZONE
TZID:Europe/Paris
BEGIN:STANDARD
DTSTART:20140110T080000
RDATE:20140330T030000
TZOFFSETFROM:+0200
TZOFFSETTO:+0100
TZNAME:Europe/Paris CET
END:STANDARD
BEGIN:STANDARD
DTSTART:20141026T020000
RDATE:20150329T030000
TZOFFSETFROM:+0200
TZOFFSETTO:+0100
TZNAME:Europe/Paris CET
END:STANDARD
BEGIN:STANDARD
DTSTART:20151025T020000
RDATE:20160327T030000
TZOFFSETFROM:+0200
TZOFFSETTO:+0100
TZNAME:Europe/Paris CET
END:STANDARD
BEGIN:STANDARD
DTSTART:20161030T020000
RDATE:20170326T030000
TZOFFSETFROM:+0200
TZOFFSETTO:+0100
TZNAME:Europe/Paris CET
END:STANDARD
BEGIN:STANDARD
DTSTART:20171029T020000
RDATE:20180325T030000
TZOFFSETFROM:+0200
TZOFFSETTO:+0100
TZNAME:Europe/Paris CET
END:STANDARD
BEGIN:STANDARD
DTSTART:20181028T020000
RDATE:20190331T030000
TZOFFSETFROM:+0200
TZOFFSETTO:+0100
TZNAME:Europe/Paris CET
END:STANDARD
BEGIN:STANDARD
DTSTART:20191027T020000
RDATE:20200329T030000
TZOFFSETFROM:+0200
TZOFFSETTO:+0100
TZNAME:Europe/Paris CET
END:STANDARD
BEGIN:STANDARD
DTSTART:20201025T020000
RDATE:20210328T030000
TZOFFSETFROM:+0200
TZOFFSETTO:+0100
TZNAME:Europe/Paris CET
END:STANDARD
BEGIN:STANDARD
DTSTART:20211031T020000
RDATE:20220327T030000
TZOFFSETFROM:+0200
TZOFFSETTO:+0100
TZNAME:Europe/Paris CET
END:STANDARD
BEGIN:STANDARD
DTSTART:20221030T020000
RDATE:20230326T030000
TZOFFSETFROM:+0200
TZOFFSETTO:+0100
TZNAME:Europe/Paris CET
END:STANDARD
BEGIN:STANDARD
DTSTART:20231029T020000
RDATE:20240331T030000
TZOFFSETFROM:+0200
TZOFFSETTO:+0100
TZNAME:Europe/Paris CET
END:STANDARD
BEGIN:STANDARD
DTSTART:20241027T020000
RDATE:20250330T030000
TZOFFSETFROM:+0200
TZOFFSETTO:+0100
TZNAME:Europe/Paris CET
END:STANDARD
BEGIN:STANDARD
DTSTART:20251026T020000
RDATE:20260329T030000
TZOFFSETFROM:+0200
TZOFFSETTO:+0100
TZNAME:Europe/Paris CET
END:STANDARD
BEGIN:STANDARD
DTSTART:20261025T020000
RDATE:20270328T030000
TZOFFSETFROM:+0200
TZOFFSETTO:+0100
TZNAME:Europe/Paris CET
END:STANDARD
BEGIN:DAYLIGHT
DTSTART:20140330T030000
RDATE:20141026T020000
TZOFFSETFROM:+0100
TZOFFSETTO:+0200
TZNAME:Europe/Paris CEST
END:DAYLIGHT
BEGIN:DAYLIGHT
DTSTART:20150329T030000
RDATE:20151025T020000
TZOFFSETFROM:+0100
TZOFFSETTO:+0200
TZNAME:Europe/Paris CEST
END:DAYLIGHT
BEGIN:DAYLIGHT
DTSTART:20160327T030000
RDATE:20161030T020000
TZOFFSETFROM:+0100
TZOFFSETTO:+0200
TZNAME:Europe/Paris CEST
END:DAYLIGHT
BEGIN:DAYLIGHT
DTSTART:20170326T030000
RDATE:20171029T020000
TZOFFSETFROM:+0100
TZOFFSETTO:+0200
TZNAME:Europe/Paris CEST
END:DAYLIGHT
BEGIN:DAYLIGHT
DTSTART:20180325T030000
RDATE:20181028T020000
TZOFFSETFROM:+0100
TZOFFSETTO:+0200
TZNAME:Europe/Paris CEST
END:DAYLIGHT
BEGIN:DAYLIGHT
DTSTART:20190331T030000
RDATE:20191027T020000
TZOFFSETFROM:+0100
TZOFFSETTO:+0200
TZNAME:Europe/Paris CEST
END:DAYLIGHT
BEGIN:DAYLIGHT
DTSTART:20200329T030000
RDATE:20201025T020000
TZOFFSETFROM:+0100
TZOFFSETTO:+0200
TZNAME:Europe/Paris CEST
END:DAYLIGHT
BEGIN:DAYLIGHT
DTSTART:20210328T030000
RDATE:20211031T020000
TZOFFSETFROM:+0100
TZOFFSETTO:+0200
TZNAME:Europe/Paris CEST
END:DAYLIGHT
BEGIN:DAYLIGHT
DTSTART:20220327T030000
RDATE:20221030T020000
TZOFFSETFROM:+0100
TZOFFSETTO:+0200
TZNAME:Europe/Paris CEST
END:DAYLIGHT
BEGIN:DAYLIGHT
DTSTART:20230326T030000
RDATE:20231029T020000
TZOFFSETFROM:+0100
TZOFFSETTO:+0200
TZNAME:Europe/Paris CEST
END:DAYLIGHT
BEGIN:DAYLIGHT
DTSTART:20240331T030000
RDATE:20241027T020000
TZOFFSETFROM:+0100
TZOFFSETTO:+0200
TZNAME:Europe/Paris CEST
END:DAYLIGHT
BEGIN:DAYLIGHT
DTSTART:20250330T030000
RDATE:20251026T020000
TZOFFSETFROM:+0100
TZOFFSETTO:+0200
TZNAME:Europe/Paris CEST
END:DAYLIGHT
BEGIN:DAYLIGHT
DTSTART:20260329T030000
RDATE:20261025T020000
TZOFFSETFROM:+0100
TZOFFSETTO:+0200
TZNAME:Europe/Paris CEST
END:DAYLIGHT
END:VTIMEZONE
BEGIN:VEVENT
UID:409dfec8774c569947c63ad2443e9e8b
CATEGORIES:Opens et Promos (alpin)
CREATED:20141127T000322
SUMMARY:PROMO  U8 à U16     Les dimanches de la Glisse / Trophée Elec. de Strasbourg **REPORTE**
URL;VALUE=URI:https://skivosges.net/agenda/export-synchronisation/detailevenement/286/-/p
 romo-u8-a-u16-les-dimanches-de-la-glisse-trophee-elec-de-strasbourg-reporte
 ?tmpl=component
DESCRIPTION:PROMO  U8 à U16     Les dimanches de la Glisse / Trophée Elec. de Strasbour
 g (Epreuve reportée, date à determiner)\n\nLieu : CHAMP DU FEU\nOrganisateu
 r : SKI CLUB BELMONT CHAMP DU FEU (14485 SKI CLUB BELMONT CHAMP DU FEU)\nEm
 ail : RegularLabs.EmailProtector.unCloak("ep_ae8f77eb");\n\nCourse organisé
 e par l´AS Electricité de Strasbourg\n\nInscriptions en cours sur ce site\n
  - AMVF0151  Slalom Geant Dames\n  PROMO  U8 à U16     Les dimanches de la 
 Glisse / Trophée Elec. de Strasbourg\n - AMVM0151  Slalom Geant Hommes\n  P
 ROMO  U8 à U16     Les dimanches de la Glisse / Trophée Elec. de Strasbourg
  Cet évènement a été importé depuis :https://skivosges.net/agenda/export-sy
 nchronisation/detailevenement/286/-/promo-u8-a-u16-les-dimanches-de-la-glis
 se-trophee-elec-de-strasbourg-reporte?tmpl=component
X-ALT-DESC;FMTTYPE=text/html:<strong>PROMO  U8 à U16     Les dimanches de la Glisse / Trophée Elec. de S
 trasbourg</strong> <font class="attention4">(Epreuve reportée, date à deter
 miner)</font><br /><br />Lieu : CHAMP DU FEU<br />Organisateur : SKI CLUB B
 ELMONT CHAMP DU FEU <small>(14485 SKI CLUB BELMONT CHAMP DU FEU)</small><br
  />Email : <!-- Cette adresse électronique est protégée contre les robots s
 pammeurs. --><span class="cloaked_email ep_ae8f77eb"><span data-ep-b="&#46;
 f&#114;" data-ep-a="ha&#108;"><span data-ep-b="&#97;&#105;&#108;" data-ep-a
 ="&#116;&#106;&#117;"><span data-ep-a="&#108;&#64;h" data-ep-b="&#111;tm"><
 /span></span></span></span><script>RegularLabs.EmailProtector.unCloak("ep_a
 e8f77eb");</script><br /><br />Course organisée par l´AS Electricité de Str
 asbourg<br /><br />Inscriptions en cours sur ce site<ul type="disc"><li>AMV
 F0151  Slalom Geant Dames<br />&nbsp;&nbsp;PROMO  U8 à U16     Les dimanche
 s de la Glisse / Trophée Elec. de Strasbourg</li><li>AMVM0151  Slalom Geant
  Hommes<br />&nbsp;&nbsp;PROMO  U8 à U16     Les dimanches de la Glisse / T
 rophée Elec. de Strasbourg</li></ul> <a href="https://skivosges.net/agenda/
 export-synchronisation/detailevenement/286/-/promo-u8-a-u16-les-dimanches-d
 e-la-glisse-trophee-elec-de-strasbourg-reporte?tmpl=component">Cet évènemen
 t a été importé depuis :https://skivosges.net/agenda/export-synchronisation
 /detailevenement/286/-/promo-u8-a-u16-les-dimanches-de-la-glisse-trophee-el
 ec-de-strasbourg-reporte?tmpl=component</a>DTSTAMP:20260421T045720
DTSTART;TZID=Europe/Paris:20150111T080000
DTEND;TZID=Europe/Paris:20150111T170000
SEQUENCE:0
TRANSP:OPAQUE
END:VEVENT
END:VCALENDAR