BEGIN:VCALENDAR
VERSION:2.0
PRODID:-//jEvents 2.0 for Joomla//EN
CALSCALE:GREGORIAN
METHOD:PUBLISH
BEGIN:VTIMEZONE
TZID:Europe/Paris
BEGIN:STANDARD
DTSTART:20140117T080000
RDATE:20140330T030000
TZOFFSETFROM:+0200
TZOFFSETTO:+0100
TZNAME:Europe/Paris CET
END:STANDARD
BEGIN:STANDARD
DTSTART:20141026T020000
RDATE:20150329T030000
TZOFFSETFROM:+0200
TZOFFSETTO:+0100
TZNAME:Europe/Paris CET
END:STANDARD
BEGIN:STANDARD
DTSTART:20151025T020000
RDATE:20160327T030000
TZOFFSETFROM:+0200
TZOFFSETTO:+0100
TZNAME:Europe/Paris CET
END:STANDARD
BEGIN:STANDARD
DTSTART:20161030T020000
RDATE:20170326T030000
TZOFFSETFROM:+0200
TZOFFSETTO:+0100
TZNAME:Europe/Paris CET
END:STANDARD
BEGIN:STANDARD
DTSTART:20171029T020000
RDATE:20180325T030000
TZOFFSETFROM:+0200
TZOFFSETTO:+0100
TZNAME:Europe/Paris CET
END:STANDARD
BEGIN:STANDARD
DTSTART:20181028T020000
RDATE:20190331T030000
TZOFFSETFROM:+0200
TZOFFSETTO:+0100
TZNAME:Europe/Paris CET
END:STANDARD
BEGIN:STANDARD
DTSTART:20191027T020000
RDATE:20200329T030000
TZOFFSETFROM:+0200
TZOFFSETTO:+0100
TZNAME:Europe/Paris CET
END:STANDARD
BEGIN:STANDARD
DTSTART:20201025T020000
RDATE:20210328T030000
TZOFFSETFROM:+0200
TZOFFSETTO:+0100
TZNAME:Europe/Paris CET
END:STANDARD
BEGIN:STANDARD
DTSTART:20211031T020000
RDATE:20220327T030000
TZOFFSETFROM:+0200
TZOFFSETTO:+0100
TZNAME:Europe/Paris CET
END:STANDARD
BEGIN:STANDARD
DTSTART:20221030T020000
RDATE:20230326T030000
TZOFFSETFROM:+0200
TZOFFSETTO:+0100
TZNAME:Europe/Paris CET
END:STANDARD
BEGIN:STANDARD
DTSTART:20231029T020000
RDATE:20240331T030000
TZOFFSETFROM:+0200
TZOFFSETTO:+0100
TZNAME:Europe/Paris CET
END:STANDARD
BEGIN:STANDARD
DTSTART:20241027T020000
RDATE:20250330T030000
TZOFFSETFROM:+0200
TZOFFSETTO:+0100
TZNAME:Europe/Paris CET
END:STANDARD
BEGIN:STANDARD
DTSTART:20251026T020000
RDATE:20260329T030000
TZOFFSETFROM:+0200
TZOFFSETTO:+0100
TZNAME:Europe/Paris CET
END:STANDARD
BEGIN:STANDARD
DTSTART:20261025T020000
RDATE:20270328T030000
TZOFFSETFROM:+0200
TZOFFSETTO:+0100
TZNAME:Europe/Paris CET
END:STANDARD
BEGIN:DAYLIGHT
DTSTART:20140330T030000
RDATE:20141026T020000
TZOFFSETFROM:+0100
TZOFFSETTO:+0200
TZNAME:Europe/Paris CEST
END:DAYLIGHT
BEGIN:DAYLIGHT
DTSTART:20150329T030000
RDATE:20151025T020000
TZOFFSETFROM:+0100
TZOFFSETTO:+0200
TZNAME:Europe/Paris CEST
END:DAYLIGHT
BEGIN:DAYLIGHT
DTSTART:20160327T030000
RDATE:20161030T020000
TZOFFSETFROM:+0100
TZOFFSETTO:+0200
TZNAME:Europe/Paris CEST
END:DAYLIGHT
BEGIN:DAYLIGHT
DTSTART:20170326T030000
RDATE:20171029T020000
TZOFFSETFROM:+0100
TZOFFSETTO:+0200
TZNAME:Europe/Paris CEST
END:DAYLIGHT
BEGIN:DAYLIGHT
DTSTART:20180325T030000
RDATE:20181028T020000
TZOFFSETFROM:+0100
TZOFFSETTO:+0200
TZNAME:Europe/Paris CEST
END:DAYLIGHT
BEGIN:DAYLIGHT
DTSTART:20190331T030000
RDATE:20191027T020000
TZOFFSETFROM:+0100
TZOFFSETTO:+0200
TZNAME:Europe/Paris CEST
END:DAYLIGHT
BEGIN:DAYLIGHT
DTSTART:20200329T030000
RDATE:20201025T020000
TZOFFSETFROM:+0100
TZOFFSETTO:+0200
TZNAME:Europe/Paris CEST
END:DAYLIGHT
BEGIN:DAYLIGHT
DTSTART:20210328T030000
RDATE:20211031T020000
TZOFFSETFROM:+0100
TZOFFSETTO:+0200
TZNAME:Europe/Paris CEST
END:DAYLIGHT
BEGIN:DAYLIGHT
DTSTART:20220327T030000
RDATE:20221030T020000
TZOFFSETFROM:+0100
TZOFFSETTO:+0200
TZNAME:Europe/Paris CEST
END:DAYLIGHT
BEGIN:DAYLIGHT
DTSTART:20230326T030000
RDATE:20231029T020000
TZOFFSETFROM:+0100
TZOFFSETTO:+0200
TZNAME:Europe/Paris CEST
END:DAYLIGHT
BEGIN:DAYLIGHT
DTSTART:20240331T030000
RDATE:20241027T020000
TZOFFSETFROM:+0100
TZOFFSETTO:+0200
TZNAME:Europe/Paris CEST
END:DAYLIGHT
BEGIN:DAYLIGHT
DTSTART:20250330T030000
RDATE:20251026T020000
TZOFFSETFROM:+0100
TZOFFSETTO:+0200
TZNAME:Europe/Paris CEST
END:DAYLIGHT
BEGIN:DAYLIGHT
DTSTART:20260329T030000
RDATE:20261025T020000
TZOFFSETFROM:+0100
TZOFFSETTO:+0200
TZNAME:Europe/Paris CEST
END:DAYLIGHT
END:VTIMEZONE
BEGIN:VEVENT
UID:de22c1cfdb0f14dffb1355ecab29c3f4
CATEGORIES:Circuit Lorraine Adultes (alpin)
CREATED:20141127T000322
SUMMARY:CLA  U16 à Masters      Prix de l´U Bussang  **REPORTE**
URL;VALUE=URI:https://skivosges.net/agenda/export-synchronisation/detailevenement/291/-/c
 la-u16-a-masters-prix-de-lu-bussang-reporte?tmpl=component
DESCRIPTION:CLA  U16 à Masters      Prix de l´U Bussang  (Epreuve reportée, date à dete
 rminer) \n(Coupe de Lorraine Adultes)\n\nLieu : BUSSANG LARCENAIRE\nOrganis
 ateur : UNION SPORTIVE BUSSANG (14007 UNION SPORTIVE BUSSANG)\nEmail : Regu
 larLabs.EmailProtector.unCloak("ep_e799bbe2");\nTelecopie : REPORTE\n - AMV
 F0251  Slalom (Courses FFS) U16 a Masters Dames\n  CLA  U16 à Masters      
 Prix de l'U Bussang\n - AMVM0251  Slalom (Courses FFS) U16 a Masters Hommes
 \n  CLA  U16 à Masters      Prix de l'U Bussang Cet évènement a été importé
  depuis :https://skivosges.net/agenda/export-synchronisation/detailevenemen
 t/291/-/cla-u16-a-masters-prix-de-lu-bussang-reporte?tmpl=component
X-ALT-DESC;FMTTYPE=text/html:<strong>CLA  U16 à Masters      Prix de l´U Bussang </strong> <font class="
 attention4">(Epreuve reportée, date à determiner)</font> <br /><i>(Coupe de
  Lorraine Adultes)</i><br /><br />Lieu : BUSSANG LARCENAIRE<br />Organisate
 ur : UNION SPORTIVE BUSSANG <small>(14007 UNION SPORTIVE BUSSANG)</small><b
 r />Email : <!-- Cette adresse électronique est protégée contre les robots 
 spammeurs. --><span class="cloaked_email ep_e799bbe2"><span data-ep-b="" da
 ta-ep-a="&#100;&#97;n&#105;e"><span data-ep-b="o&#111;&#46;&#102;&#114;" da
 ta-ep-a="l&#46;&#109;&#111;&#114;"><span data-ep-b="w&#97;&#110;&#97;&#100;
 " data-ep-a="&#101;l25&#64;"></span></span></span></span><script>RegularLab
 s.EmailProtector.unCloak("ep_e799bbe2");</script><br />Telecopie : REPORTE<
 ul type="disc"><li>AMVF0251  Slalom <nobr><i>(Courses FFS)</i></nobr> <nobr
 >U16 a Masters</nobr> Dames<br />&nbsp;&nbsp;CLA  U16 à Masters      Prix d
 e l'U Bussang</li><li>AMVM0251  Slalom <nobr><i>(Courses FFS)</i></nobr> <n
 obr>U16 a Masters</nobr> Hommes<br />&nbsp;&nbsp;CLA  U16 à Masters      Pr
 ix de l'U Bussang</li></ul> <a href="https://skivosges.net/agenda/export-sy
 nchronisation/detailevenement/291/-/cla-u16-a-masters-prix-de-lu-bussang-re
 porte?tmpl=component">Cet évènement a été importé depuis :https://skivosges
 .net/agenda/export-synchronisation/detailevenement/291/-/cla-u16-a-masters-
 prix-de-lu-bussang-reporte?tmpl=component</a>DTSTAMP:20260420T220657
DTSTART;TZID=Europe/Paris:20150118T080000
DTEND;TZID=Europe/Paris:20150118T170000
SEQUENCE:0
TRANSP:OPAQUE
END:VEVENT
END:VCALENDAR