BEGIN:VCALENDAR
VERSION:2.0
PRODID:-//jEvents 2.0 for Joomla//EN
CALSCALE:GREGORIAN
METHOD:PUBLISH
BEGIN:VTIMEZONE
TZID:Europe/Paris
BEGIN:STANDARD
DTSTART:20140117T080000
RDATE:20140330T030000
TZOFFSETFROM:+0200
TZOFFSETTO:+0100
TZNAME:Europe/Paris CET
END:STANDARD
BEGIN:STANDARD
DTSTART:20141026T020000
RDATE:20150329T030000
TZOFFSETFROM:+0200
TZOFFSETTO:+0100
TZNAME:Europe/Paris CET
END:STANDARD
BEGIN:STANDARD
DTSTART:20151025T020000
RDATE:20160327T030000
TZOFFSETFROM:+0200
TZOFFSETTO:+0100
TZNAME:Europe/Paris CET
END:STANDARD
BEGIN:STANDARD
DTSTART:20161030T020000
RDATE:20170326T030000
TZOFFSETFROM:+0200
TZOFFSETTO:+0100
TZNAME:Europe/Paris CET
END:STANDARD
BEGIN:STANDARD
DTSTART:20171029T020000
RDATE:20180325T030000
TZOFFSETFROM:+0200
TZOFFSETTO:+0100
TZNAME:Europe/Paris CET
END:STANDARD
BEGIN:STANDARD
DTSTART:20181028T020000
RDATE:20190331T030000
TZOFFSETFROM:+0200
TZOFFSETTO:+0100
TZNAME:Europe/Paris CET
END:STANDARD
BEGIN:STANDARD
DTSTART:20191027T020000
RDATE:20200329T030000
TZOFFSETFROM:+0200
TZOFFSETTO:+0100
TZNAME:Europe/Paris CET
END:STANDARD
BEGIN:STANDARD
DTSTART:20201025T020000
RDATE:20210328T030000
TZOFFSETFROM:+0200
TZOFFSETTO:+0100
TZNAME:Europe/Paris CET
END:STANDARD
BEGIN:STANDARD
DTSTART:20211031T020000
RDATE:20220327T030000
TZOFFSETFROM:+0200
TZOFFSETTO:+0100
TZNAME:Europe/Paris CET
END:STANDARD
BEGIN:STANDARD
DTSTART:20221030T020000
RDATE:20230326T030000
TZOFFSETFROM:+0200
TZOFFSETTO:+0100
TZNAME:Europe/Paris CET
END:STANDARD
BEGIN:STANDARD
DTSTART:20231029T020000
RDATE:20240331T030000
TZOFFSETFROM:+0200
TZOFFSETTO:+0100
TZNAME:Europe/Paris CET
END:STANDARD
BEGIN:STANDARD
DTSTART:20241027T020000
RDATE:20250330T030000
TZOFFSETFROM:+0200
TZOFFSETTO:+0100
TZNAME:Europe/Paris CET
END:STANDARD
BEGIN:STANDARD
DTSTART:20251026T020000
RDATE:20260329T030000
TZOFFSETFROM:+0200
TZOFFSETTO:+0100
TZNAME:Europe/Paris CET
END:STANDARD
BEGIN:STANDARD
DTSTART:20261025T020000
RDATE:20270328T030000
TZOFFSETFROM:+0200
TZOFFSETTO:+0100
TZNAME:Europe/Paris CET
END:STANDARD
BEGIN:DAYLIGHT
DTSTART:20140330T030000
RDATE:20141026T020000
TZOFFSETFROM:+0100
TZOFFSETTO:+0200
TZNAME:Europe/Paris CEST
END:DAYLIGHT
BEGIN:DAYLIGHT
DTSTART:20150329T030000
RDATE:20151025T020000
TZOFFSETFROM:+0100
TZOFFSETTO:+0200
TZNAME:Europe/Paris CEST
END:DAYLIGHT
BEGIN:DAYLIGHT
DTSTART:20160327T030000
RDATE:20161030T020000
TZOFFSETFROM:+0100
TZOFFSETTO:+0200
TZNAME:Europe/Paris CEST
END:DAYLIGHT
BEGIN:DAYLIGHT
DTSTART:20170326T030000
RDATE:20171029T020000
TZOFFSETFROM:+0100
TZOFFSETTO:+0200
TZNAME:Europe/Paris CEST
END:DAYLIGHT
BEGIN:DAYLIGHT
DTSTART:20180325T030000
RDATE:20181028T020000
TZOFFSETFROM:+0100
TZOFFSETTO:+0200
TZNAME:Europe/Paris CEST
END:DAYLIGHT
BEGIN:DAYLIGHT
DTSTART:20190331T030000
RDATE:20191027T020000
TZOFFSETFROM:+0100
TZOFFSETTO:+0200
TZNAME:Europe/Paris CEST
END:DAYLIGHT
BEGIN:DAYLIGHT
DTSTART:20200329T030000
RDATE:20201025T020000
TZOFFSETFROM:+0100
TZOFFSETTO:+0200
TZNAME:Europe/Paris CEST
END:DAYLIGHT
BEGIN:DAYLIGHT
DTSTART:20210328T030000
RDATE:20211031T020000
TZOFFSETFROM:+0100
TZOFFSETTO:+0200
TZNAME:Europe/Paris CEST
END:DAYLIGHT
BEGIN:DAYLIGHT
DTSTART:20220327T030000
RDATE:20221030T020000
TZOFFSETFROM:+0100
TZOFFSETTO:+0200
TZNAME:Europe/Paris CEST
END:DAYLIGHT
BEGIN:DAYLIGHT
DTSTART:20230326T030000
RDATE:20231029T020000
TZOFFSETFROM:+0100
TZOFFSETTO:+0200
TZNAME:Europe/Paris CEST
END:DAYLIGHT
BEGIN:DAYLIGHT
DTSTART:20240331T030000
RDATE:20241027T020000
TZOFFSETFROM:+0100
TZOFFSETTO:+0200
TZNAME:Europe/Paris CEST
END:DAYLIGHT
BEGIN:DAYLIGHT
DTSTART:20250330T030000
RDATE:20251026T020000
TZOFFSETFROM:+0100
TZOFFSETTO:+0200
TZNAME:Europe/Paris CEST
END:DAYLIGHT
BEGIN:DAYLIGHT
DTSTART:20260329T030000
RDATE:20261025T020000
TZOFFSETFROM:+0100
TZOFFSETTO:+0200
TZNAME:Europe/Paris CEST
END:DAYLIGHT
END:VTIMEZONE
BEGIN:VEVENT
UID:20927e866255e22bc589165481b81142
CATEGORIES:Circuit Lorraine Jeunes (alpin)
CREATED:20141127T000322
SUMMARY:CLJ  U10-U2etU14     Coupe du Crédit Mutuel Géradmer **REPORTE**
URL;VALUE=URI:https://skivosges.net/agenda/export-synchronisation/detailevenement/292/-/c
 lj-u10-u2etu14-coupe-du-credit-mutuel-geradmer-reporte?tmpl=component
DESCRIPTION:<strong>CLJ  U10-U2etU14     Coupe du Crédit Mutuel Géradmer</strong> <font
  class="attention4">(Epreuve reportée)</font> <br /><i>(Coupe de Lorraine J
 eunes)</i><br /><br />Lieu : GERARDMER<br />Organisateur : GERARDMER SKI AL
 PIN <small>(14089 GERARDMER SKI ALPIN)</small><br />Email : <!-- Cette adre
 sse électronique est protégée contre les robots spammeurs. --><span class="
 cloaked_email ep_42cedf3b"><span data-ep-a="&#103;&#101;&#114;&#97;r" data-
 ep-b="e&#46;&#102;&#114;"><span data-ep-b="&#111;&#114;&#97;&#110;&#103;" d
 ata-ep-a="&#100;&#109;er&#45;"><span data-ep-b="&#108;pi&#110;&#64;" data-e
 p-a="&#115;&#107;&#105;&#45;&#97;"></span></span></span></span><script>Regu
 larLabs.EmailProtector.unCloak("ep_42cedf3b");</script><br />Telecopie : 03
  29 60 98 04<br />Telecopie : 03 29 60 98 04<ul type="disc"><li>AMVF0201  S
 lalom Geant <nobr><i>(Coupe de Bronze)</i></nobr> <nobr>U12/U14</nobr> Fill
 es<br />&nbsp;&nbsp;CLJ  U10-U2etU14     Coupe du Crédit Mutuel Géradmer</l
 i><li>AMVM0201  Slalom Geant <nobr><i>(Coupe de Bronze)</i></nobr> <nobr>U1
 2/U14</nobr> Garçons<br />&nbsp;&nbsp;CLJ  U10-U2etU14     Coupe du Crédit 
 Mutuel Géradmer</li><li>AMVF0202  Slalom Geant <nobr><i>(Coupe de Bronze)</
 i></nobr> <nobr>U8/U10</nobr> Filles<br />&nbsp;&nbsp;CLJ  U10-U2etU14     
 Coupe du Crédit Mutuel Géradmer</li><li>AMVM0202  Slalom Geant <nobr><i>(Co
 upe de Bronze)</i></nobr> <nobr>U8/U10</nobr> Garçons<br />&nbsp;&nbsp;CLJ 
  U10-U2etU14     Coupe du Crédit Mutuel Géradmer</li></ul> <a href="https:/
 /skivosges.net/agenda/export-synchronisation/detailevenement/292/-/clj-u10-
 u2etu14-coupe-du-credit-mutuel-geradmer-reporte?tmpl=component">Cet évèneme
 nt a été importé depuis :https://skivosges.net/agenda/export-synchronisatio
 n/detailevenement/292/-/clj-u10-u2etu14-coupe-du-credit-mutuel-geradmer-rep
 orte?tmpl=component</a>DTSTAMP:20260420T221346
DTSTART;TZID=Europe/Paris:20150118T080000
DTEND;TZID=Europe/Paris:20150118T170000
SEQUENCE:0
TRANSP:OPAQUE
END:VEVENT
END:VCALENDAR