BEGIN:VCALENDAR
VERSION:2.0
PRODID:-//jEvents 2.0 for Joomla//EN
CALSCALE:GREGORIAN
METHOD:PUBLISH
BEGIN:VTIMEZONE
TZID:Europe/Paris
BEGIN:STANDARD
DTSTART:20140117T080000
RDATE:20140330T030000
TZOFFSETFROM:+0200
TZOFFSETTO:+0100
TZNAME:Europe/Paris CET
END:STANDARD
BEGIN:STANDARD
DTSTART:20141026T020000
RDATE:20150329T030000
TZOFFSETFROM:+0200
TZOFFSETTO:+0100
TZNAME:Europe/Paris CET
END:STANDARD
BEGIN:STANDARD
DTSTART:20151025T020000
RDATE:20160327T030000
TZOFFSETFROM:+0200
TZOFFSETTO:+0100
TZNAME:Europe/Paris CET
END:STANDARD
BEGIN:STANDARD
DTSTART:20161030T020000
RDATE:20170326T030000
TZOFFSETFROM:+0200
TZOFFSETTO:+0100
TZNAME:Europe/Paris CET
END:STANDARD
BEGIN:STANDARD
DTSTART:20171029T020000
RDATE:20180325T030000
TZOFFSETFROM:+0200
TZOFFSETTO:+0100
TZNAME:Europe/Paris CET
END:STANDARD
BEGIN:STANDARD
DTSTART:20181028T020000
RDATE:20190331T030000
TZOFFSETFROM:+0200
TZOFFSETTO:+0100
TZNAME:Europe/Paris CET
END:STANDARD
BEGIN:STANDARD
DTSTART:20191027T020000
RDATE:20200329T030000
TZOFFSETFROM:+0200
TZOFFSETTO:+0100
TZNAME:Europe/Paris CET
END:STANDARD
BEGIN:STANDARD
DTSTART:20201025T020000
RDATE:20210328T030000
TZOFFSETFROM:+0200
TZOFFSETTO:+0100
TZNAME:Europe/Paris CET
END:STANDARD
BEGIN:STANDARD
DTSTART:20211031T020000
RDATE:20220327T030000
TZOFFSETFROM:+0200
TZOFFSETTO:+0100
TZNAME:Europe/Paris CET
END:STANDARD
BEGIN:STANDARD
DTSTART:20221030T020000
RDATE:20230326T030000
TZOFFSETFROM:+0200
TZOFFSETTO:+0100
TZNAME:Europe/Paris CET
END:STANDARD
BEGIN:STANDARD
DTSTART:20231029T020000
RDATE:20240331T030000
TZOFFSETFROM:+0200
TZOFFSETTO:+0100
TZNAME:Europe/Paris CET
END:STANDARD
BEGIN:STANDARD
DTSTART:20241027T020000
RDATE:20250330T030000
TZOFFSETFROM:+0200
TZOFFSETTO:+0100
TZNAME:Europe/Paris CET
END:STANDARD
BEGIN:STANDARD
DTSTART:20251026T020000
RDATE:20260329T030000
TZOFFSETFROM:+0200
TZOFFSETTO:+0100
TZNAME:Europe/Paris CET
END:STANDARD
BEGIN:STANDARD
DTSTART:20261025T020000
RDATE:20270328T030000
TZOFFSETFROM:+0200
TZOFFSETTO:+0100
TZNAME:Europe/Paris CET
END:STANDARD
BEGIN:DAYLIGHT
DTSTART:20140330T030000
RDATE:20141026T020000
TZOFFSETFROM:+0100
TZOFFSETTO:+0200
TZNAME:Europe/Paris CEST
END:DAYLIGHT
BEGIN:DAYLIGHT
DTSTART:20150329T030000
RDATE:20151025T020000
TZOFFSETFROM:+0100
TZOFFSETTO:+0200
TZNAME:Europe/Paris CEST
END:DAYLIGHT
BEGIN:DAYLIGHT
DTSTART:20160327T030000
RDATE:20161030T020000
TZOFFSETFROM:+0100
TZOFFSETTO:+0200
TZNAME:Europe/Paris CEST
END:DAYLIGHT
BEGIN:DAYLIGHT
DTSTART:20170326T030000
RDATE:20171029T020000
TZOFFSETFROM:+0100
TZOFFSETTO:+0200
TZNAME:Europe/Paris CEST
END:DAYLIGHT
BEGIN:DAYLIGHT
DTSTART:20180325T030000
RDATE:20181028T020000
TZOFFSETFROM:+0100
TZOFFSETTO:+0200
TZNAME:Europe/Paris CEST
END:DAYLIGHT
BEGIN:DAYLIGHT
DTSTART:20190331T030000
RDATE:20191027T020000
TZOFFSETFROM:+0100
TZOFFSETTO:+0200
TZNAME:Europe/Paris CEST
END:DAYLIGHT
BEGIN:DAYLIGHT
DTSTART:20200329T030000
RDATE:20201025T020000
TZOFFSETFROM:+0100
TZOFFSETTO:+0200
TZNAME:Europe/Paris CEST
END:DAYLIGHT
BEGIN:DAYLIGHT
DTSTART:20210328T030000
RDATE:20211031T020000
TZOFFSETFROM:+0100
TZOFFSETTO:+0200
TZNAME:Europe/Paris CEST
END:DAYLIGHT
BEGIN:DAYLIGHT
DTSTART:20220327T030000
RDATE:20221030T020000
TZOFFSETFROM:+0100
TZOFFSETTO:+0200
TZNAME:Europe/Paris CEST
END:DAYLIGHT
BEGIN:DAYLIGHT
DTSTART:20230326T030000
RDATE:20231029T020000
TZOFFSETFROM:+0100
TZOFFSETTO:+0200
TZNAME:Europe/Paris CEST
END:DAYLIGHT
BEGIN:DAYLIGHT
DTSTART:20240331T030000
RDATE:20241027T020000
TZOFFSETFROM:+0100
TZOFFSETTO:+0200
TZNAME:Europe/Paris CEST
END:DAYLIGHT
BEGIN:DAYLIGHT
DTSTART:20250330T030000
RDATE:20251026T020000
TZOFFSETFROM:+0100
TZOFFSETTO:+0200
TZNAME:Europe/Paris CEST
END:DAYLIGHT
BEGIN:DAYLIGHT
DTSTART:20260329T030000
RDATE:20261025T020000
TZOFFSETFROM:+0100
TZOFFSETTO:+0200
TZNAME:Europe/Paris CEST
END:DAYLIGHT
END:VTIMEZONE
BEGIN:VEVENT
UID:d8facb66a81e5590c5570e47be1cf6fd
CATEGORIES:Circuit Alsace Jeunes (alpin)
CREATED:20141127T000322
SUMMARY:CAJ  U8etU10-U12-U14     Coupe Habitat Sillon/Chp d´Alsace
URL;VALUE=URI:https://skivosges.net/agenda/export-synchronisation/detailevenement/295/-/c
 aj-u8etu10-u12-u14-coupe-habitat-sillon-chp-dalsace?tmpl=component
DESCRIPTION:CAJ  U8etU10-U12-U14     Coupe Habitat Sillon/Chp d´Alsace \n(Coupe d'Alsac
 e Jeunes)\n\nLieu : VENTRON\nPiste : Thérèse Leduc\nOrganisateur : SKI CLUB
  ROSSBERG (14081 SKI CLUB ROSSBERG)\nEmail : RegularLabs.EmailProtector.unC
 loak("ep_eec6efe5");\nTelecopie : 03 89 37 92 28\nTelecopie : 03 89 37 92 2
 8\n\nATTENTION : Epreuve déplacée au Ventron\n\nInscriptions closes, tirage
  des dossards en cours\n - AMVF0211  Slalom (Coupe de Bronze) U14 Filles\n 
  CAJ  U8etU10-U12-U14     Coupe Habitat Sillon/Chp d'Alsace\n - AMVM0211  S
 lalom (Coupe de Bronze) U14 Garçons\n  CAJ  U8etU10-U12-U14     Coupe Habit
 at Sillon/Chp d'Alsace\n - AMVF0212  Slalom (Coupe de Bronze) U12 Filles\n 
  CAJ  U8etU10-U12-U14     Coupe Habitat Sillon/Chp d'Alsace\n - AMVM0212  S
 lalom (Coupe de Bronze) U12 Garçons\n  CAJ  U8etU10-U12-U14     Coupe Habit
 at Sillon/Chp d'Alsace\n - AMVF0213  Slalom (Micro Coupe) U8/U10 Filles\n  
 CAJ  U8etU10-U12-U14     Coupe Habitat Sillon/Chp d'Alsace\n - AMVM0213  Sl
 alom (Micro Coupe) U8/U10 Garçons\n  CAJ  U8etU10-U12-U14     Coupe Habitat
  Sillon/Chp d'Alsace Cet évènement a été importé depuis :https://skivosges.
 net/agenda/export-synchronisation/detailevenement/295/-/caj-u8etu10-u12-u14
 -coupe-habitat-sillon-chp-dalsace?tmpl=component
X-ALT-DESC;FMTTYPE=text/html:<strong>CAJ  U8etU10-U12-U14     Coupe Habitat Sillon/Chp d´Alsace</strong>
  <br /><i>(Coupe d'Alsace Jeunes)</i><br /><br />Lieu : VENTRON<br />Piste 
 : Th&eacute;r&egrave;se Leduc<br />Organisateur : SKI CLUB ROSSBERG <small>
 (14081 SKI CLUB ROSSBERG)</small><br />Email : <!-- Cette adresse électroni
 que est protégée contre les robots spammeurs. --><span class="cloaked_email
  ep_eec6efe5"><span data-ep-a="&#99;o&#117;&#114;" data-ep-b=""><span data-
 ep-a="&#115;&#101;&#115;&#64;" data-ep-b="&#46;&#99;om"><span data-ep-b="&#
 110;s&#107;i" data-ep-a="&#116;han"></span></span></span></span><script>Reg
 ularLabs.EmailProtector.unCloak("ep_eec6efe5");</script><br />Telecopie : 0
 3 89 37 92 28<br />Telecopie : 03 89 37 92 28<br /><br />ATTENTION : Epreuv
 e déplacée au Ventron<br /><br />Inscriptions closes, tirage des dossards e
 n cours<ul type="disc"><li>AMVF0211  Slalom <nobr><i>(Coupe de Bronze)</i><
 /nobr> <nobr>U14</nobr> Filles<br />&nbsp;&nbsp;CAJ  U8etU10-U12-U14     Co
 upe Habitat Sillon/Chp d'Alsace</li><li>AMVM0211  Slalom <nobr><i>(Coupe de
  Bronze)</i></nobr> <nobr>U14</nobr> Garçons<br />&nbsp;&nbsp;CAJ  U8etU10-
 U12-U14     Coupe Habitat Sillon/Chp d'Alsace</li><li>AMVF0212  Slalom <nob
 r><i>(Coupe de Bronze)</i></nobr> <nobr>U12</nobr> Filles<br />&nbsp;&nbsp;
 CAJ  U8etU10-U12-U14     Coupe Habitat Sillon/Chp d'Alsace</li><li>AMVM0212
   Slalom <nobr><i>(Coupe de Bronze)</i></nobr> <nobr>U12</nobr> Garçons<br 
 />&nbsp;&nbsp;CAJ  U8etU10-U12-U14     Coupe Habitat Sillon/Chp d'Alsace</l
 i><li>AMVF0213  Slalom <nobr><i>(Micro Coupe)</i></nobr> <nobr>U8/U10</nobr
 > Filles<br />&nbsp;&nbsp;CAJ  U8etU10-U12-U14     Coupe Habitat Sillon/Chp
  d'Alsace</li><li>AMVM0213  Slalom <nobr><i>(Micro Coupe)</i></nobr> <nobr>
 U8/U10</nobr> Garçons<br />&nbsp;&nbsp;CAJ  U8etU10-U12-U14     Coupe Habit
 at Sillon/Chp d'Alsace</li></ul> <a href="https://skivosges.net/agenda/expo
 rt-synchronisation/detailevenement/295/-/caj-u8etu10-u12-u14-coupe-habitat-
 sillon-chp-dalsace?tmpl=component">Cet évènement a été importé depuis :http
 s://skivosges.net/agenda/export-synchronisation/detailevenement/295/-/caj-u
 8etu10-u12-u14-coupe-habitat-sillon-chp-dalsace?tmpl=component</a>DTSTAMP:20260420T220627
DTSTART;TZID=Europe/Paris:20150118T080000
DTEND;TZID=Europe/Paris:20150118T170000
SEQUENCE:0
TRANSP:OPAQUE
END:VEVENT
END:VCALENDAR