BEGIN:VCALENDAR
VERSION:2.0
PRODID:-//jEvents 2.0 for Joomla//EN
CALSCALE:GREGORIAN
METHOD:PUBLISH
BEGIN:VTIMEZONE
TZID:Europe/Paris
BEGIN:STANDARD
DTSTART:20140117T080000
RDATE:20140330T030000
TZOFFSETFROM:+0200
TZOFFSETTO:+0100
TZNAME:Europe/Paris CET
END:STANDARD
BEGIN:STANDARD
DTSTART:20141026T020000
RDATE:20150329T030000
TZOFFSETFROM:+0200
TZOFFSETTO:+0100
TZNAME:Europe/Paris CET
END:STANDARD
BEGIN:STANDARD
DTSTART:20151025T020000
RDATE:20160327T030000
TZOFFSETFROM:+0200
TZOFFSETTO:+0100
TZNAME:Europe/Paris CET
END:STANDARD
BEGIN:STANDARD
DTSTART:20161030T020000
RDATE:20170326T030000
TZOFFSETFROM:+0200
TZOFFSETTO:+0100
TZNAME:Europe/Paris CET
END:STANDARD
BEGIN:STANDARD
DTSTART:20171029T020000
RDATE:20180325T030000
TZOFFSETFROM:+0200
TZOFFSETTO:+0100
TZNAME:Europe/Paris CET
END:STANDARD
BEGIN:STANDARD
DTSTART:20181028T020000
RDATE:20190331T030000
TZOFFSETFROM:+0200
TZOFFSETTO:+0100
TZNAME:Europe/Paris CET
END:STANDARD
BEGIN:STANDARD
DTSTART:20191027T020000
RDATE:20200329T030000
TZOFFSETFROM:+0200
TZOFFSETTO:+0100
TZNAME:Europe/Paris CET
END:STANDARD
BEGIN:STANDARD
DTSTART:20201025T020000
RDATE:20210328T030000
TZOFFSETFROM:+0200
TZOFFSETTO:+0100
TZNAME:Europe/Paris CET
END:STANDARD
BEGIN:STANDARD
DTSTART:20211031T020000
RDATE:20220327T030000
TZOFFSETFROM:+0200
TZOFFSETTO:+0100
TZNAME:Europe/Paris CET
END:STANDARD
BEGIN:STANDARD
DTSTART:20221030T020000
RDATE:20230326T030000
TZOFFSETFROM:+0200
TZOFFSETTO:+0100
TZNAME:Europe/Paris CET
END:STANDARD
BEGIN:STANDARD
DTSTART:20231029T020000
RDATE:20240331T030000
TZOFFSETFROM:+0200
TZOFFSETTO:+0100
TZNAME:Europe/Paris CET
END:STANDARD
BEGIN:STANDARD
DTSTART:20241027T020000
RDATE:20250330T030000
TZOFFSETFROM:+0200
TZOFFSETTO:+0100
TZNAME:Europe/Paris CET
END:STANDARD
BEGIN:STANDARD
DTSTART:20251026T020000
RDATE:20260329T030000
TZOFFSETFROM:+0200
TZOFFSETTO:+0100
TZNAME:Europe/Paris CET
END:STANDARD
BEGIN:STANDARD
DTSTART:20261025T020000
RDATE:20270328T030000
TZOFFSETFROM:+0200
TZOFFSETTO:+0100
TZNAME:Europe/Paris CET
END:STANDARD
BEGIN:DAYLIGHT
DTSTART:20140330T030000
RDATE:20141026T020000
TZOFFSETFROM:+0100
TZOFFSETTO:+0200
TZNAME:Europe/Paris CEST
END:DAYLIGHT
BEGIN:DAYLIGHT
DTSTART:20150329T030000
RDATE:20151025T020000
TZOFFSETFROM:+0100
TZOFFSETTO:+0200
TZNAME:Europe/Paris CEST
END:DAYLIGHT
BEGIN:DAYLIGHT
DTSTART:20160327T030000
RDATE:20161030T020000
TZOFFSETFROM:+0100
TZOFFSETTO:+0200
TZNAME:Europe/Paris CEST
END:DAYLIGHT
BEGIN:DAYLIGHT
DTSTART:20170326T030000
RDATE:20171029T020000
TZOFFSETFROM:+0100
TZOFFSETTO:+0200
TZNAME:Europe/Paris CEST
END:DAYLIGHT
BEGIN:DAYLIGHT
DTSTART:20180325T030000
RDATE:20181028T020000
TZOFFSETFROM:+0100
TZOFFSETTO:+0200
TZNAME:Europe/Paris CEST
END:DAYLIGHT
BEGIN:DAYLIGHT
DTSTART:20190331T030000
RDATE:20191027T020000
TZOFFSETFROM:+0100
TZOFFSETTO:+0200
TZNAME:Europe/Paris CEST
END:DAYLIGHT
BEGIN:DAYLIGHT
DTSTART:20200329T030000
RDATE:20201025T020000
TZOFFSETFROM:+0100
TZOFFSETTO:+0200
TZNAME:Europe/Paris CEST
END:DAYLIGHT
BEGIN:DAYLIGHT
DTSTART:20210328T030000
RDATE:20211031T020000
TZOFFSETFROM:+0100
TZOFFSETTO:+0200
TZNAME:Europe/Paris CEST
END:DAYLIGHT
BEGIN:DAYLIGHT
DTSTART:20220327T030000
RDATE:20221030T020000
TZOFFSETFROM:+0100
TZOFFSETTO:+0200
TZNAME:Europe/Paris CEST
END:DAYLIGHT
BEGIN:DAYLIGHT
DTSTART:20230326T030000
RDATE:20231029T020000
TZOFFSETFROM:+0100
TZOFFSETTO:+0200
TZNAME:Europe/Paris CEST
END:DAYLIGHT
BEGIN:DAYLIGHT
DTSTART:20240331T030000
RDATE:20241027T020000
TZOFFSETFROM:+0100
TZOFFSETTO:+0200
TZNAME:Europe/Paris CEST
END:DAYLIGHT
BEGIN:DAYLIGHT
DTSTART:20250330T030000
RDATE:20251026T020000
TZOFFSETFROM:+0100
TZOFFSETTO:+0200
TZNAME:Europe/Paris CEST
END:DAYLIGHT
BEGIN:DAYLIGHT
DTSTART:20260329T030000
RDATE:20261025T020000
TZOFFSETFROM:+0100
TZOFFSETTO:+0200
TZNAME:Europe/Paris CEST
END:DAYLIGHT
END:VTIMEZONE
BEGIN:VEVENT
UID:7b92a0440ccf87745a9462b2eccb9462
CATEGORIES:Opens et Promos (alpin)
CREATED:20141127T000322
SUMMARY:PROMO  U8 à U16     Les dimanches de la Glisse / Trophée du Hohwald **REPORTE**
URL;VALUE=URI:https://skivosges.net/agenda/export-synchronisation/detailevenement/296/-/p
 romo-u8-a-u16-les-dimanches-de-la-glisse-trophee-du-hohwald-reporte?tmpl=co
 mponent
DESCRIPTION:PROMO  U8 à U16     Les dimanches de la Glisse / Trophée du Hohwald (Epreuv
 e reportée, date à determiner)\n\nLieu : CHAMP DU FEU\nOrganisateur : SKI C
 LUB LE HOHWALD (14021 SKI CLUB LE HOHWALD)\nEmail : RegularLabs.EmailProtec
 tor.unCloak("ep_cab4e68b");\n - AMVF0221  Slalom Geant Dames\n  PROMO  U8 à
  U16     Les dimanches de la Glisse / Trophée du Hohwald\n - AMVF0222  Slal
 om Geant Dames\n  PROMO  U8 à U16     Les dimanches de la Glisse / Trophée 
 du Hohwald Cet évènement a été importé depuis :https://skivosges.net/agenda
 /export-synchronisation/detailevenement/296/-/promo-u8-a-u16-les-dimanches-
 de-la-glisse-trophee-du-hohwald-reporte?tmpl=component
X-ALT-DESC;FMTTYPE=text/html:<strong>PROMO  U8 à U16     Les dimanches de la Glisse / Trophée du Hohwald
 </strong> <font class="attention4">(Epreuve reportée, date à determiner)</f
 ont><br /><br />Lieu : CHAMP DU FEU<br />Organisateur : SKI CLUB LE HOHWALD
  <small>(14021 SKI CLUB LE HOHWALD)</small><br />Email : <!-- Cette adresse
  électronique est protégée contre les robots spammeurs. --><span class="clo
 aked_email ep_cab4e68b"><span data-ep-a="&#100;&#101;n&#105;&#115;" data-ep
 -b="&#99;&#111;m"><span data-ep-a="&#46;&#104;&#101;m&#101;" data-ep-b="&#1
 10;c&#101;s&#46;"><span data-ep-a="&#64;a&#100;&#104;a" data-ep-b="ss&#117;
 &#114;a"></span></span></span></span><script>RegularLabs.EmailProtector.unC
 loak("ep_cab4e68b");</script><ul type="disc"><li>AMVF0221  Slalom Geant Dam
 es<br />&nbsp;&nbsp;PROMO  U8 à U16     Les dimanches de la Glisse / Trophé
 e du Hohwald</li><li>AMVF0222  Slalom Geant Dames<br />&nbsp;&nbsp;PROMO  U
 8 à U16     Les dimanches de la Glisse / Trophée du Hohwald</li></ul> <a hr
 ef="https://skivosges.net/agenda/export-synchronisation/detailevenement/296
 /-/promo-u8-a-u16-les-dimanches-de-la-glisse-trophee-du-hohwald-reporte?tmp
 l=component">Cet évènement a été importé depuis :https://skivosges.net/agen
 da/export-synchronisation/detailevenement/296/-/promo-u8-a-u16-les-dimanche
 s-de-la-glisse-trophee-du-hohwald-reporte?tmpl=component</a>DTSTAMP:20260420T220642
DTSTART;TZID=Europe/Paris:20150118T080000
DTEND;TZID=Europe/Paris:20150118T170000
SEQUENCE:0
TRANSP:OPAQUE
END:VEVENT
END:VCALENDAR