BEGIN:VCALENDAR
VERSION:2.0
PRODID:-//jEvents 2.0 for Joomla//EN
CALSCALE:GREGORIAN
METHOD:PUBLISH
BEGIN:VTIMEZONE
TZID:Europe/Paris
BEGIN:STANDARD
DTSTART:20140123T080000
RDATE:20140330T030000
TZOFFSETFROM:+0200
TZOFFSETTO:+0100
TZNAME:Europe/Paris CET
END:STANDARD
BEGIN:STANDARD
DTSTART:20141026T020000
RDATE:20150329T030000
TZOFFSETFROM:+0200
TZOFFSETTO:+0100
TZNAME:Europe/Paris CET
END:STANDARD
BEGIN:STANDARD
DTSTART:20151025T020000
RDATE:20160327T030000
TZOFFSETFROM:+0200
TZOFFSETTO:+0100
TZNAME:Europe/Paris CET
END:STANDARD
BEGIN:STANDARD
DTSTART:20161030T020000
RDATE:20170326T030000
TZOFFSETFROM:+0200
TZOFFSETTO:+0100
TZNAME:Europe/Paris CET
END:STANDARD
BEGIN:STANDARD
DTSTART:20171029T020000
RDATE:20180325T030000
TZOFFSETFROM:+0200
TZOFFSETTO:+0100
TZNAME:Europe/Paris CET
END:STANDARD
BEGIN:STANDARD
DTSTART:20181028T020000
RDATE:20190331T030000
TZOFFSETFROM:+0200
TZOFFSETTO:+0100
TZNAME:Europe/Paris CET
END:STANDARD
BEGIN:STANDARD
DTSTART:20191027T020000
RDATE:20200329T030000
TZOFFSETFROM:+0200
TZOFFSETTO:+0100
TZNAME:Europe/Paris CET
END:STANDARD
BEGIN:STANDARD
DTSTART:20201025T020000
RDATE:20210328T030000
TZOFFSETFROM:+0200
TZOFFSETTO:+0100
TZNAME:Europe/Paris CET
END:STANDARD
BEGIN:STANDARD
DTSTART:20211031T020000
RDATE:20220327T030000
TZOFFSETFROM:+0200
TZOFFSETTO:+0100
TZNAME:Europe/Paris CET
END:STANDARD
BEGIN:STANDARD
DTSTART:20221030T020000
RDATE:20230326T030000
TZOFFSETFROM:+0200
TZOFFSETTO:+0100
TZNAME:Europe/Paris CET
END:STANDARD
BEGIN:STANDARD
DTSTART:20231029T020000
RDATE:20240331T030000
TZOFFSETFROM:+0200
TZOFFSETTO:+0100
TZNAME:Europe/Paris CET
END:STANDARD
BEGIN:STANDARD
DTSTART:20241027T020000
RDATE:20250330T030000
TZOFFSETFROM:+0200
TZOFFSETTO:+0100
TZNAME:Europe/Paris CET
END:STANDARD
BEGIN:STANDARD
DTSTART:20251026T020000
RDATE:20260329T030000
TZOFFSETFROM:+0200
TZOFFSETTO:+0100
TZNAME:Europe/Paris CET
END:STANDARD
BEGIN:STANDARD
DTSTART:20261025T020000
RDATE:20270328T030000
TZOFFSETFROM:+0200
TZOFFSETTO:+0100
TZNAME:Europe/Paris CET
END:STANDARD
BEGIN:DAYLIGHT
DTSTART:20140330T030000
RDATE:20141026T020000
TZOFFSETFROM:+0100
TZOFFSETTO:+0200
TZNAME:Europe/Paris CEST
END:DAYLIGHT
BEGIN:DAYLIGHT
DTSTART:20150329T030000
RDATE:20151025T020000
TZOFFSETFROM:+0100
TZOFFSETTO:+0200
TZNAME:Europe/Paris CEST
END:DAYLIGHT
BEGIN:DAYLIGHT
DTSTART:20160327T030000
RDATE:20161030T020000
TZOFFSETFROM:+0100
TZOFFSETTO:+0200
TZNAME:Europe/Paris CEST
END:DAYLIGHT
BEGIN:DAYLIGHT
DTSTART:20170326T030000
RDATE:20171029T020000
TZOFFSETFROM:+0100
TZOFFSETTO:+0200
TZNAME:Europe/Paris CEST
END:DAYLIGHT
BEGIN:DAYLIGHT
DTSTART:20180325T030000
RDATE:20181028T020000
TZOFFSETFROM:+0100
TZOFFSETTO:+0200
TZNAME:Europe/Paris CEST
END:DAYLIGHT
BEGIN:DAYLIGHT
DTSTART:20190331T030000
RDATE:20191027T020000
TZOFFSETFROM:+0100
TZOFFSETTO:+0200
TZNAME:Europe/Paris CEST
END:DAYLIGHT
BEGIN:DAYLIGHT
DTSTART:20200329T030000
RDATE:20201025T020000
TZOFFSETFROM:+0100
TZOFFSETTO:+0200
TZNAME:Europe/Paris CEST
END:DAYLIGHT
BEGIN:DAYLIGHT
DTSTART:20210328T030000
RDATE:20211031T020000
TZOFFSETFROM:+0100
TZOFFSETTO:+0200
TZNAME:Europe/Paris CEST
END:DAYLIGHT
BEGIN:DAYLIGHT
DTSTART:20220327T030000
RDATE:20221030T020000
TZOFFSETFROM:+0100
TZOFFSETTO:+0200
TZNAME:Europe/Paris CEST
END:DAYLIGHT
BEGIN:DAYLIGHT
DTSTART:20230326T030000
RDATE:20231029T020000
TZOFFSETFROM:+0100
TZOFFSETTO:+0200
TZNAME:Europe/Paris CEST
END:DAYLIGHT
BEGIN:DAYLIGHT
DTSTART:20240331T030000
RDATE:20241027T020000
TZOFFSETFROM:+0100
TZOFFSETTO:+0200
TZNAME:Europe/Paris CEST
END:DAYLIGHT
BEGIN:DAYLIGHT
DTSTART:20250330T030000
RDATE:20251026T020000
TZOFFSETFROM:+0100
TZOFFSETTO:+0200
TZNAME:Europe/Paris CEST
END:DAYLIGHT
BEGIN:DAYLIGHT
DTSTART:20260329T030000
RDATE:20261025T020000
TZOFFSETFROM:+0100
TZOFFSETTO:+0200
TZNAME:Europe/Paris CEST
END:DAYLIGHT
END:VTIMEZONE
BEGIN:VEVENT
UID:f8fccace07abf7172efcd3ff7dc1dea7
CATEGORIES:Compétition Ski de Fond
CREATED:20141127T000322
SUMMARY:LA NORDIQUE DES CRETES bigmat
URL;VALUE=URI:https://skivosges.net/agenda/export-synchronisation/detailevenement/299/-/l
 a-nordique-des-cretes-bigmat?tmpl=component
DESCRIPTION:<strong>LA NORDIQUE DES CRETES bigmat</strong><br /><br />Lieu : MARKSTEIN<
 br />Organisateur : TOURING CLUB MULHOUSE <small>(14044 TOURING CLUB MULHOU
 SE)</small><br />Email : <!-- Cette adresse électronique est protégée contr
 e les robots spammeurs. --><span class="cloaked_email ep_21558327"><span da
 ta-ep-b="&#116;" data-ep-a="&#121;v&#101;s"><span data-ep-b="&#114;.&#110;&
 #101;" data-ep-a="&#46;&#98;&#111;&#117;"><span data-ep-a="v&#105;er" data-
 ep-b="&#64;&#101;&#118;&#104;"></span></span></span></span><script>RegularL
 abs.EmailProtector.unCloak("ep_21558327");</script><br />Telecopie : 03 89 
 59 55 56<br /><br />Inscriptions uniquement pour les U14 et U16 SVP<br>24 j
 anvier 2015<br /><br />Inscriptions closes, tirage des dossards en cours<ul
  type="disc"><br />&nbsp;&nbsp;Piste:LE MARKSTEIN<li>FMVF0321  Mass Start (
 Depart ligne) <nobr>U14 (Minime)</nobr> Filles<br />&nbsp;&nbsp;LA NORDIQUE
  DES CRETES MARATHON SKI TOUR 4</li><br />&nbsp;&nbsp;Piste:LE MARKSTEIN<li
 >FMVM0321  Mass Start (Depart ligne) <nobr>U14 (Minime)</nobr> Garçons<br /
 >&nbsp;&nbsp;LA NORDIQUE DES CRETES MARATHON SKI TOUR 4</li><br />&nbsp;&nb
 sp;Piste:LE MARKSTEIN<li><nobr>Le 25/01/2015 à 00:00:00</nobr><br />FMVF032
 2  Mass Start (Depart ligne) <nobr>U16 (Cadet)</nobr> Filles<br />&nbsp;&nb
 sp;LA NORDIQUE DES CRETES MARATHON SKI TOUR 4</li><br />&nbsp;&nbsp;Piste:L
 E MARKSTEIN<li><nobr>Le 25/01/2015 à 00:00:00</nobr><br />FMVM0322  Depart 
 Individuel <nobr>U16 (Cadet)</nobr> Garçons<br />&nbsp;&nbsp;LA NORDIQUE DE
 S CRETES MARATHON SKI TOUR 4</li><br />&nbsp;&nbsp;Piste:LE MARKSTEIN<li><n
 obr>Le 25/01/2015 à 00:00:00</nobr><br />  Depart Individuel <nobr>Senior a
  Master12</nobr> Dames<br />&nbsp;&nbsp;LA NORDIQUE DES CRETES MARATHON SKI
  TOUR 4</li><br />&nbsp;&nbsp;Piste:LE MARKSTEIN<li><nobr>Le 25/01/2015 à 0
 0:00:00</nobr><br />  Depart Individuel <nobr>Senior a Master12</nobr> Homm
 es<br />&nbsp;&nbsp;LA NORDIQUE DES CRETES MARATHON SKI TOUR 4</li></ul> <a
  href="https://skivosges.net/agenda/export-synchronisation/detailevenement/
 299/-/la-nordique-des-cretes-bigmat?tmpl=component">Cet évènement a été imp
 orté depuis :https://skivosges.net/agenda/export-synchronisation/detaileven
 ement/299/-/la-nordique-des-cretes-bigmat?tmpl=component</a>DTSTAMP:20260421T051152
DTSTART;TZID=Europe/Paris:20150124T080000
DTEND;TZID=Europe/Paris:20150124T170000
SEQUENCE:0
TRANSP:OPAQUE
END:VEVENT
END:VCALENDAR