BEGIN:VCALENDAR
VERSION:2.0
PRODID:-//jEvents 2.0 for Joomla//EN
CALSCALE:GREGORIAN
METHOD:PUBLISH
BEGIN:VTIMEZONE
TZID:Europe/Paris
BEGIN:STANDARD
DTSTART:20140123T080000
RDATE:20140330T030000
TZOFFSETFROM:+0200
TZOFFSETTO:+0100
TZNAME:Europe/Paris CET
END:STANDARD
BEGIN:STANDARD
DTSTART:20141026T020000
RDATE:20150329T030000
TZOFFSETFROM:+0200
TZOFFSETTO:+0100
TZNAME:Europe/Paris CET
END:STANDARD
BEGIN:STANDARD
DTSTART:20151025T020000
RDATE:20160327T030000
TZOFFSETFROM:+0200
TZOFFSETTO:+0100
TZNAME:Europe/Paris CET
END:STANDARD
BEGIN:STANDARD
DTSTART:20161030T020000
RDATE:20170326T030000
TZOFFSETFROM:+0200
TZOFFSETTO:+0100
TZNAME:Europe/Paris CET
END:STANDARD
BEGIN:STANDARD
DTSTART:20171029T020000
RDATE:20180325T030000
TZOFFSETFROM:+0200
TZOFFSETTO:+0100
TZNAME:Europe/Paris CET
END:STANDARD
BEGIN:STANDARD
DTSTART:20181028T020000
RDATE:20190331T030000
TZOFFSETFROM:+0200
TZOFFSETTO:+0100
TZNAME:Europe/Paris CET
END:STANDARD
BEGIN:STANDARD
DTSTART:20191027T020000
RDATE:20200329T030000
TZOFFSETFROM:+0200
TZOFFSETTO:+0100
TZNAME:Europe/Paris CET
END:STANDARD
BEGIN:STANDARD
DTSTART:20201025T020000
RDATE:20210328T030000
TZOFFSETFROM:+0200
TZOFFSETTO:+0100
TZNAME:Europe/Paris CET
END:STANDARD
BEGIN:STANDARD
DTSTART:20211031T020000
RDATE:20220327T030000
TZOFFSETFROM:+0200
TZOFFSETTO:+0100
TZNAME:Europe/Paris CET
END:STANDARD
BEGIN:STANDARD
DTSTART:20221030T020000
RDATE:20230326T030000
TZOFFSETFROM:+0200
TZOFFSETTO:+0100
TZNAME:Europe/Paris CET
END:STANDARD
BEGIN:STANDARD
DTSTART:20231029T020000
RDATE:20240331T030000
TZOFFSETFROM:+0200
TZOFFSETTO:+0100
TZNAME:Europe/Paris CET
END:STANDARD
BEGIN:STANDARD
DTSTART:20241027T020000
RDATE:20250330T030000
TZOFFSETFROM:+0200
TZOFFSETTO:+0100
TZNAME:Europe/Paris CET
END:STANDARD
BEGIN:STANDARD
DTSTART:20251026T020000
RDATE:20260329T030000
TZOFFSETFROM:+0200
TZOFFSETTO:+0100
TZNAME:Europe/Paris CET
END:STANDARD
BEGIN:STANDARD
DTSTART:20261025T020000
RDATE:20270328T030000
TZOFFSETFROM:+0200
TZOFFSETTO:+0100
TZNAME:Europe/Paris CET
END:STANDARD
BEGIN:DAYLIGHT
DTSTART:20140330T030000
RDATE:20141026T020000
TZOFFSETFROM:+0100
TZOFFSETTO:+0200
TZNAME:Europe/Paris CEST
END:DAYLIGHT
BEGIN:DAYLIGHT
DTSTART:20150329T030000
RDATE:20151025T020000
TZOFFSETFROM:+0100
TZOFFSETTO:+0200
TZNAME:Europe/Paris CEST
END:DAYLIGHT
BEGIN:DAYLIGHT
DTSTART:20160327T030000
RDATE:20161030T020000
TZOFFSETFROM:+0100
TZOFFSETTO:+0200
TZNAME:Europe/Paris CEST
END:DAYLIGHT
BEGIN:DAYLIGHT
DTSTART:20170326T030000
RDATE:20171029T020000
TZOFFSETFROM:+0100
TZOFFSETTO:+0200
TZNAME:Europe/Paris CEST
END:DAYLIGHT
BEGIN:DAYLIGHT
DTSTART:20180325T030000
RDATE:20181028T020000
TZOFFSETFROM:+0100
TZOFFSETTO:+0200
TZNAME:Europe/Paris CEST
END:DAYLIGHT
BEGIN:DAYLIGHT
DTSTART:20190331T030000
RDATE:20191027T020000
TZOFFSETFROM:+0100
TZOFFSETTO:+0200
TZNAME:Europe/Paris CEST
END:DAYLIGHT
BEGIN:DAYLIGHT
DTSTART:20200329T030000
RDATE:20201025T020000
TZOFFSETFROM:+0100
TZOFFSETTO:+0200
TZNAME:Europe/Paris CEST
END:DAYLIGHT
BEGIN:DAYLIGHT
DTSTART:20210328T030000
RDATE:20211031T020000
TZOFFSETFROM:+0100
TZOFFSETTO:+0200
TZNAME:Europe/Paris CEST
END:DAYLIGHT
BEGIN:DAYLIGHT
DTSTART:20220327T030000
RDATE:20221030T020000
TZOFFSETFROM:+0100
TZOFFSETTO:+0200
TZNAME:Europe/Paris CEST
END:DAYLIGHT
BEGIN:DAYLIGHT
DTSTART:20230326T030000
RDATE:20231029T020000
TZOFFSETFROM:+0100
TZOFFSETTO:+0200
TZNAME:Europe/Paris CEST
END:DAYLIGHT
BEGIN:DAYLIGHT
DTSTART:20240331T030000
RDATE:20241027T020000
TZOFFSETFROM:+0100
TZOFFSETTO:+0200
TZNAME:Europe/Paris CEST
END:DAYLIGHT
BEGIN:DAYLIGHT
DTSTART:20250330T030000
RDATE:20251026T020000
TZOFFSETFROM:+0100
TZOFFSETTO:+0200
TZNAME:Europe/Paris CEST
END:DAYLIGHT
BEGIN:DAYLIGHT
DTSTART:20260329T030000
RDATE:20261025T020000
TZOFFSETFROM:+0100
TZOFFSETTO:+0200
TZNAME:Europe/Paris CEST
END:DAYLIGHT
END:VTIMEZONE
BEGIN:VEVENT
UID:d2722a317e1274ebf87c6003a4a30ecc
CATEGORIES:Autres Épreuves (alpin)
CREATED:20141127T000322
SUMMARY:Chp 90  U8etU10-U12-U14etU16 Coupe du Conseil Général/Chp Départemental **REPORTE**
URL;VALUE=URI:https://skivosges.net/agenda/export-synchronisation/detailevenement/302/-/c
 hp-90-u8etu10-u12-u14etu16-coupe-du-conseil-general-chp-departemental-repor
 te?tmpl=component
DESCRIPTION:Chp 90  U8etU10-U12-U14etU16 Coupe du Conseil Général/Chp Départemental (Ep
 reuve reportée, date à determiner)\n\nLieu : BALLON D'ALSACE\nOrganisateur 
 : SC BALLON D'ALSACE BELFORT (14429 SC BALLON D'ALSACE BELFORT)\nEmail : Re
 gularLabs.EmailProtector.unCloak("ep_cd1aa4c4");\n - AMVF0281  Slalom U14/U
 16 Filles\n  Chp 90  U8etU10-U12-U14etU16 Coupe du Conseil Général/Chp Dépa
 rtemental\n - AMVM0281  Slalom U14/U16 Garçons\n  Chp 90  U8etU10-U12-U14et
 U16 Coupe du Conseil Général/Chp Départemental\n - AMVF0282  Slalom U12 Fil
 les\n  Chp 90  U8etU10-U12-U14etU16 Coupe du Conseil Général/Chp Départemen
 tal\n - AMVM0282  Slalom U12 Garçons\n  Chp 90  U8etU10-U12-U14etU16 Coupe 
 du Conseil Général/Chp Départemental\n - AMVF0283  Slalom U8/U10 Filles\n  
 Chp 90  U8etU10-U12-U14etU16 Coupe du Conseil Général/Chp Départemental\n -
  AMVM0283  Slalom U8/U10 Garçons\n  Chp 90  U8etU10-U12-U14etU16 Coupe du C
 onseil Général/Chp Départemental Cet évènement a été importé depuis :https:
 //skivosges.net/agenda/export-synchronisation/detailevenement/302/-/chp-90-
 u8etu10-u12-u14etu16-coupe-du-conseil-general-chp-departemental-reporte?tmp
 l=component
X-ALT-DESC;FMTTYPE=text/html:<strong>Chp 90  U8etU10-U12-U14etU16 Coupe du Conseil Général/Chp Départeme
 ntal</strong> <font class="attention4">(Epreuve reportée, date à determiner
 )</font><br /><br />Lieu : BALLON D'ALSACE<br />Organisateur : SC BALLON D'
 ALSACE BELFORT <small>(14429 SC BALLON D'ALSACE BELFORT)</small><br />Email
  : <!-- Cette adresse électronique est protégée contre les robots spammeurs
 . --><span class="cloaked_email ep_cd1aa4c4"><span data-ep-a="&#121;v&#97;"
  data-ep-b=".&#102;r"><span data-ep-a="&#110;&#115;k" data-ep-b="&#115;&#11
 6;e"><span data-ep-b="&#97;&#112;&#111;" data-ep-a="&#105;&#64;&#108;"></sp
 an></span></span></span><script>RegularLabs.EmailProtector.unCloak("ep_cd1a
 a4c4");</script><ul type="disc"><li>AMVF0281  Slalom <nobr>U14/U16</nobr> F
 illes<br />&nbsp;&nbsp;Chp 90  U8etU10-U12-U14etU16 Coupe du Conseil Généra
 l/Chp Départemental</li><li>AMVM0281  Slalom <nobr>U14/U16</nobr> Garçons<b
 r />&nbsp;&nbsp;Chp 90  U8etU10-U12-U14etU16 Coupe du Conseil Général/Chp D
 épartemental</li><li>AMVF0282  Slalom <nobr>U12</nobr> Filles<br />&nbsp;&n
 bsp;Chp 90  U8etU10-U12-U14etU16 Coupe du Conseil Général/Chp Départemental
 </li><li>AMVM0282  Slalom <nobr>U12</nobr> Garçons<br />&nbsp;&nbsp;Chp 90 
  U8etU10-U12-U14etU16 Coupe du Conseil Général/Chp Départemental</li><li>AM
 VF0283  Slalom <nobr>U8/U10</nobr> Filles<br />&nbsp;&nbsp;Chp 90  U8etU10-
 U12-U14etU16 Coupe du Conseil Général/Chp Départemental</li><li>AMVM0283  S
 lalom <nobr>U8/U10</nobr> Garçons<br />&nbsp;&nbsp;Chp 90  U8etU10-U12-U14e
 tU16 Coupe du Conseil Général/Chp Départemental</li></ul> <a href="https://
 skivosges.net/agenda/export-synchronisation/detailevenement/302/-/chp-90-u8
 etu10-u12-u14etu16-coupe-du-conseil-general-chp-departemental-reporte?tmpl=
 component">Cet évènement a été importé depuis :https://skivosges.net/agenda
 /export-synchronisation/detailevenement/302/-/chp-90-u8etu10-u12-u14etu16-c
 oupe-du-conseil-general-chp-departemental-reporte?tmpl=component</a>DTSTAMP:20260420T220540
DTSTART;TZID=Europe/Paris:20150124T080000
DTEND;TZID=Europe/Paris:20150124T170000
SEQUENCE:0
TRANSP:OPAQUE
END:VEVENT
END:VCALENDAR