BEGIN:VCALENDAR
VERSION:2.0
PRODID:-//jEvents 2.0 for Joomla//EN
CALSCALE:GREGORIAN
METHOD:PUBLISH
BEGIN:VTIMEZONE
TZID:Europe/Paris
BEGIN:STANDARD
DTSTART:20140124T080000
RDATE:20140330T030000
TZOFFSETFROM:+0200
TZOFFSETTO:+0100
TZNAME:Europe/Paris CET
END:STANDARD
BEGIN:STANDARD
DTSTART:20141026T020000
RDATE:20150329T030000
TZOFFSETFROM:+0200
TZOFFSETTO:+0100
TZNAME:Europe/Paris CET
END:STANDARD
BEGIN:STANDARD
DTSTART:20151025T020000
RDATE:20160327T030000
TZOFFSETFROM:+0200
TZOFFSETTO:+0100
TZNAME:Europe/Paris CET
END:STANDARD
BEGIN:STANDARD
DTSTART:20161030T020000
RDATE:20170326T030000
TZOFFSETFROM:+0200
TZOFFSETTO:+0100
TZNAME:Europe/Paris CET
END:STANDARD
BEGIN:STANDARD
DTSTART:20171029T020000
RDATE:20180325T030000
TZOFFSETFROM:+0200
TZOFFSETTO:+0100
TZNAME:Europe/Paris CET
END:STANDARD
BEGIN:STANDARD
DTSTART:20181028T020000
RDATE:20190331T030000
TZOFFSETFROM:+0200
TZOFFSETTO:+0100
TZNAME:Europe/Paris CET
END:STANDARD
BEGIN:STANDARD
DTSTART:20191027T020000
RDATE:20200329T030000
TZOFFSETFROM:+0200
TZOFFSETTO:+0100
TZNAME:Europe/Paris CET
END:STANDARD
BEGIN:STANDARD
DTSTART:20201025T020000
RDATE:20210328T030000
TZOFFSETFROM:+0200
TZOFFSETTO:+0100
TZNAME:Europe/Paris CET
END:STANDARD
BEGIN:STANDARD
DTSTART:20211031T020000
RDATE:20220327T030000
TZOFFSETFROM:+0200
TZOFFSETTO:+0100
TZNAME:Europe/Paris CET
END:STANDARD
BEGIN:STANDARD
DTSTART:20221030T020000
RDATE:20230326T030000
TZOFFSETFROM:+0200
TZOFFSETTO:+0100
TZNAME:Europe/Paris CET
END:STANDARD
BEGIN:STANDARD
DTSTART:20231029T020000
RDATE:20240331T030000
TZOFFSETFROM:+0200
TZOFFSETTO:+0100
TZNAME:Europe/Paris CET
END:STANDARD
BEGIN:STANDARD
DTSTART:20241027T020000
RDATE:20250330T030000
TZOFFSETFROM:+0200
TZOFFSETTO:+0100
TZNAME:Europe/Paris CET
END:STANDARD
BEGIN:STANDARD
DTSTART:20251026T020000
RDATE:20260329T030000
TZOFFSETFROM:+0200
TZOFFSETTO:+0100
TZNAME:Europe/Paris CET
END:STANDARD
BEGIN:STANDARD
DTSTART:20261025T020000
RDATE:20270328T030000
TZOFFSETFROM:+0200
TZOFFSETTO:+0100
TZNAME:Europe/Paris CET
END:STANDARD
BEGIN:DAYLIGHT
DTSTART:20140330T030000
RDATE:20141026T020000
TZOFFSETFROM:+0100
TZOFFSETTO:+0200
TZNAME:Europe/Paris CEST
END:DAYLIGHT
BEGIN:DAYLIGHT
DTSTART:20150329T030000
RDATE:20151025T020000
TZOFFSETFROM:+0100
TZOFFSETTO:+0200
TZNAME:Europe/Paris CEST
END:DAYLIGHT
BEGIN:DAYLIGHT
DTSTART:20160327T030000
RDATE:20161030T020000
TZOFFSETFROM:+0100
TZOFFSETTO:+0200
TZNAME:Europe/Paris CEST
END:DAYLIGHT
BEGIN:DAYLIGHT
DTSTART:20170326T030000
RDATE:20171029T020000
TZOFFSETFROM:+0100
TZOFFSETTO:+0200
TZNAME:Europe/Paris CEST
END:DAYLIGHT
BEGIN:DAYLIGHT
DTSTART:20180325T030000
RDATE:20181028T020000
TZOFFSETFROM:+0100
TZOFFSETTO:+0200
TZNAME:Europe/Paris CEST
END:DAYLIGHT
BEGIN:DAYLIGHT
DTSTART:20190331T030000
RDATE:20191027T020000
TZOFFSETFROM:+0100
TZOFFSETTO:+0200
TZNAME:Europe/Paris CEST
END:DAYLIGHT
BEGIN:DAYLIGHT
DTSTART:20200329T030000
RDATE:20201025T020000
TZOFFSETFROM:+0100
TZOFFSETTO:+0200
TZNAME:Europe/Paris CEST
END:DAYLIGHT
BEGIN:DAYLIGHT
DTSTART:20210328T030000
RDATE:20211031T020000
TZOFFSETFROM:+0100
TZOFFSETTO:+0200
TZNAME:Europe/Paris CEST
END:DAYLIGHT
BEGIN:DAYLIGHT
DTSTART:20220327T030000
RDATE:20221030T020000
TZOFFSETFROM:+0100
TZOFFSETTO:+0200
TZNAME:Europe/Paris CEST
END:DAYLIGHT
BEGIN:DAYLIGHT
DTSTART:20230326T030000
RDATE:20231029T020000
TZOFFSETFROM:+0100
TZOFFSETTO:+0200
TZNAME:Europe/Paris CEST
END:DAYLIGHT
BEGIN:DAYLIGHT
DTSTART:20240331T030000
RDATE:20241027T020000
TZOFFSETFROM:+0100
TZOFFSETTO:+0200
TZNAME:Europe/Paris CEST
END:DAYLIGHT
BEGIN:DAYLIGHT
DTSTART:20250330T030000
RDATE:20251026T020000
TZOFFSETFROM:+0100
TZOFFSETTO:+0200
TZNAME:Europe/Paris CEST
END:DAYLIGHT
BEGIN:DAYLIGHT
DTSTART:20260329T030000
RDATE:20261025T020000
TZOFFSETFROM:+0100
TZOFFSETTO:+0200
TZNAME:Europe/Paris CEST
END:DAYLIGHT
END:VTIMEZONE
BEGIN:VEVENT
UID:ebb6b6b607593ef3ae4ffe74fe01c600
CATEGORIES:Circuit Massif Jeunes (alpin)
CREATED:20141127T000322
SUMMARY:GPJ  U12etU14     GP de la Godille
URL;VALUE=URI:https://skivosges.net/agenda/export-synchronisation/detailevenement/305/-/g
 pj-u12etu14-gp-de-la-godille?tmpl=component
DESCRIPTION:GPJ  U12etU14     GP de la Godille \n(Grand Prix Jeunes)\n\nLieu : LAC BLAN
 C\nOrganisateur : SKI CLUB LE BONHOMME (14251 SKI CLUB LE BONHOMME)\nEmail 
 : RegularLabs.EmailProtector.unCloak("ep_dc8a772c");\nTelecopie : 063298225
 4\n\nLe maintien de la course et son horaire seront confirmés en fin de sem
 aine en fonction de l´enneigement\n\nInscriptions closes, tirage des dossar
 ds en cours\n - AMVF0301  Slalom Geant (Coupe d'Argent) U12/U14 Filles\n  G
 PJ  U12etU14     GP de la Godille\n - AMVM0301  Slalom Geant (Coupe d'Argen
 t) U12/U14 Garçons\n  GPJ  U12etU14     GP de la Godille Cet évènement a ét
 é importé depuis :https://skivosges.net/agenda/export-synchronisation/detai
 levenement/305/-/gpj-u12etu14-gp-de-la-godille?tmpl=component
X-ALT-DESC;FMTTYPE=text/html:<strong>GPJ  U12etU14     GP de la Godille</strong> <br /><i>(Grand Prix Je
 unes)</i><br /><br />Lieu : LAC BLANC<br />Organisateur : SKI CLUB LE BONHO
 MME <small>(14251 SKI CLUB LE BONHOMME)</small><br />Email : <!-- Cette adr
 esse électronique est protégée contre les robots spammeurs. --><span class=
 "cloaked_email ep_dc8a772c"><span data-ep-b="&#46;&#102;&#114;" data-ep-a="
 &#99;&#104;&#114;is&#116;"><span data-ep-b="or&#97;n&#103;&#101;" data-ep-a
 ="i&#97;&#110;&#46;c&#104;"><span data-ep-b="v&#105;c&#104;&#99;&#64;" data
 -ep-a="a&#102;i&#111;l&#97;"></span></span></span></span><script>RegularLab
 s.EmailProtector.unCloak("ep_dc8a772c");</script><br />Telecopie : 06329822
 54<br /><br />Le maintien de la course et son horaire seront confirmés en f
 in de semaine en fonction de l´enneigement<br /><br />Inscriptions closes, 
 tirage des dossards en cours<ul type="disc"><li>AMVF0301  Slalom Geant <nob
 r><i>(Coupe d'Argent)</i></nobr> <nobr>U12/U14</nobr> Filles<br />&nbsp;&nb
 sp;GPJ  U12etU14     GP de la Godille</li><li>AMVM0301  Slalom Geant <nobr>
 <i>(Coupe d'Argent)</i></nobr> <nobr>U12/U14</nobr> Garçons<br />&nbsp;&nbs
 p;GPJ  U12etU14     GP de la Godille</li></ul> <a href="https://skivosges.n
 et/agenda/export-synchronisation/detailevenement/305/-/gpj-u12etu14-gp-de-l
 a-godille?tmpl=component">Cet évènement a été importé depuis :https://skivo
 sges.net/agenda/export-synchronisation/detailevenement/305/-/gpj-u12etu14-g
 p-de-la-godille?tmpl=component</a>DTSTAMP:20260421T050737
DTSTART;TZID=Europe/Paris:20150125T080000
DTEND;TZID=Europe/Paris:20150125T170000
SEQUENCE:0
TRANSP:OPAQUE
END:VEVENT
END:VCALENDAR