BEGIN:VCALENDAR
VERSION:2.0
PRODID:-//jEvents 2.0 for Joomla//EN
CALSCALE:GREGORIAN
METHOD:PUBLISH
BEGIN:VTIMEZONE
TZID:Europe/Paris
BEGIN:STANDARD
DTSTART:20140124T080000
RDATE:20140330T030000
TZOFFSETFROM:+0200
TZOFFSETTO:+0100
TZNAME:Europe/Paris CET
END:STANDARD
BEGIN:STANDARD
DTSTART:20141026T020000
RDATE:20150329T030000
TZOFFSETFROM:+0200
TZOFFSETTO:+0100
TZNAME:Europe/Paris CET
END:STANDARD
BEGIN:STANDARD
DTSTART:20151025T020000
RDATE:20160327T030000
TZOFFSETFROM:+0200
TZOFFSETTO:+0100
TZNAME:Europe/Paris CET
END:STANDARD
BEGIN:STANDARD
DTSTART:20161030T020000
RDATE:20170326T030000
TZOFFSETFROM:+0200
TZOFFSETTO:+0100
TZNAME:Europe/Paris CET
END:STANDARD
BEGIN:STANDARD
DTSTART:20171029T020000
RDATE:20180325T030000
TZOFFSETFROM:+0200
TZOFFSETTO:+0100
TZNAME:Europe/Paris CET
END:STANDARD
BEGIN:STANDARD
DTSTART:20181028T020000
RDATE:20190331T030000
TZOFFSETFROM:+0200
TZOFFSETTO:+0100
TZNAME:Europe/Paris CET
END:STANDARD
BEGIN:STANDARD
DTSTART:20191027T020000
RDATE:20200329T030000
TZOFFSETFROM:+0200
TZOFFSETTO:+0100
TZNAME:Europe/Paris CET
END:STANDARD
BEGIN:STANDARD
DTSTART:20201025T020000
RDATE:20210328T030000
TZOFFSETFROM:+0200
TZOFFSETTO:+0100
TZNAME:Europe/Paris CET
END:STANDARD
BEGIN:STANDARD
DTSTART:20211031T020000
RDATE:20220327T030000
TZOFFSETFROM:+0200
TZOFFSETTO:+0100
TZNAME:Europe/Paris CET
END:STANDARD
BEGIN:STANDARD
DTSTART:20221030T020000
RDATE:20230326T030000
TZOFFSETFROM:+0200
TZOFFSETTO:+0100
TZNAME:Europe/Paris CET
END:STANDARD
BEGIN:STANDARD
DTSTART:20231029T020000
RDATE:20240331T030000
TZOFFSETFROM:+0200
TZOFFSETTO:+0100
TZNAME:Europe/Paris CET
END:STANDARD
BEGIN:STANDARD
DTSTART:20241027T020000
RDATE:20250330T030000
TZOFFSETFROM:+0200
TZOFFSETTO:+0100
TZNAME:Europe/Paris CET
END:STANDARD
BEGIN:STANDARD
DTSTART:20251026T020000
RDATE:20260329T030000
TZOFFSETFROM:+0200
TZOFFSETTO:+0100
TZNAME:Europe/Paris CET
END:STANDARD
BEGIN:STANDARD
DTSTART:20261025T020000
RDATE:20270328T030000
TZOFFSETFROM:+0200
TZOFFSETTO:+0100
TZNAME:Europe/Paris CET
END:STANDARD
BEGIN:DAYLIGHT
DTSTART:20140330T030000
RDATE:20141026T020000
TZOFFSETFROM:+0100
TZOFFSETTO:+0200
TZNAME:Europe/Paris CEST
END:DAYLIGHT
BEGIN:DAYLIGHT
DTSTART:20150329T030000
RDATE:20151025T020000
TZOFFSETFROM:+0100
TZOFFSETTO:+0200
TZNAME:Europe/Paris CEST
END:DAYLIGHT
BEGIN:DAYLIGHT
DTSTART:20160327T030000
RDATE:20161030T020000
TZOFFSETFROM:+0100
TZOFFSETTO:+0200
TZNAME:Europe/Paris CEST
END:DAYLIGHT
BEGIN:DAYLIGHT
DTSTART:20170326T030000
RDATE:20171029T020000
TZOFFSETFROM:+0100
TZOFFSETTO:+0200
TZNAME:Europe/Paris CEST
END:DAYLIGHT
BEGIN:DAYLIGHT
DTSTART:20180325T030000
RDATE:20181028T020000
TZOFFSETFROM:+0100
TZOFFSETTO:+0200
TZNAME:Europe/Paris CEST
END:DAYLIGHT
BEGIN:DAYLIGHT
DTSTART:20190331T030000
RDATE:20191027T020000
TZOFFSETFROM:+0100
TZOFFSETTO:+0200
TZNAME:Europe/Paris CEST
END:DAYLIGHT
BEGIN:DAYLIGHT
DTSTART:20200329T030000
RDATE:20201025T020000
TZOFFSETFROM:+0100
TZOFFSETTO:+0200
TZNAME:Europe/Paris CEST
END:DAYLIGHT
BEGIN:DAYLIGHT
DTSTART:20210328T030000
RDATE:20211031T020000
TZOFFSETFROM:+0100
TZOFFSETTO:+0200
TZNAME:Europe/Paris CEST
END:DAYLIGHT
BEGIN:DAYLIGHT
DTSTART:20220327T030000
RDATE:20221030T020000
TZOFFSETFROM:+0100
TZOFFSETTO:+0200
TZNAME:Europe/Paris CEST
END:DAYLIGHT
BEGIN:DAYLIGHT
DTSTART:20230326T030000
RDATE:20231029T020000
TZOFFSETFROM:+0100
TZOFFSETTO:+0200
TZNAME:Europe/Paris CEST
END:DAYLIGHT
BEGIN:DAYLIGHT
DTSTART:20240331T030000
RDATE:20241027T020000
TZOFFSETFROM:+0100
TZOFFSETTO:+0200
TZNAME:Europe/Paris CEST
END:DAYLIGHT
BEGIN:DAYLIGHT
DTSTART:20250330T030000
RDATE:20251026T020000
TZOFFSETFROM:+0100
TZOFFSETTO:+0200
TZNAME:Europe/Paris CEST
END:DAYLIGHT
BEGIN:DAYLIGHT
DTSTART:20260329T030000
RDATE:20261025T020000
TZOFFSETFROM:+0100
TZOFFSETTO:+0200
TZNAME:Europe/Paris CEST
END:DAYLIGHT
END:VTIMEZONE
BEGIN:VEVENT
UID:7b0dbac51c708cda7124e95755fd4fa1
CATEGORIES:Circuit Massif Jeunes (alpin)
CREATED:20141127T000322
SUMMARY:GPJ  U12etU14     GP de la Ville de Strasbourg
URL;VALUE=URI:https://skivosges.net/agenda/export-synchronisation/detailevenement/306/-/g
 pj-u12etu14-gp-de-la-ville-de-strasbourg?tmpl=component
DESCRIPTION:GPJ  U12etU14     GP de la Ville de Strasbourg \n(Grand Prix Jeunes)\n\nLie
 u : LAC BLANC\nOrganisateur : SKIEURS DE STRASBOURG (14077 SKIEURS DE STRAS
 BOURG)\nEmail : RegularLabs.EmailProtector.unCloak("ep_ac146c68");\nTelecop
 ie : 03 88 57 61 39\n\nSlalom Géant\n\nInscriptions closes, tirage des doss
 ards en cours\n - AMVF0331  Slalom Geant (Coupe d'Argent) U12/U14 Filles\n 
  GPJ  U12etU14     GP de la Ville de Strasbourg\n - AMVM0331  Slalom Geant 
 (Coupe d'Argent) U12/U14 Garçons\n  GPJ  U12etU14     GP de la Ville de Str
 asbourg Cet évènement a été importé depuis :https://skivosges.net/agenda/ex
 port-synchronisation/detailevenement/306/-/gpj-u12etu14-gp-de-la-ville-de-s
 trasbourg?tmpl=component
X-ALT-DESC;FMTTYPE=text/html:<strong>GPJ  U12etU14     GP de la Ville de Strasbourg</strong> <br /><i>(G
 rand Prix Jeunes)</i><br /><br />Lieu : LAC BLANC<br />Organisateur : SKIEU
 RS DE STRASBOURG <small>(14077 SKIEURS DE STRASBOURG)</small><br />Email : 
 <!-- Cette adresse électronique est protégée contre les robots spammeurs. -
 -><span class="cloaked_email ep_ac146c68"><span data-ep-b="&#102;&#114;" da
 ta-ep-a="&#106;&#45;&#112;&#104;"><span data-ep-b="&#100;&#111;&#111;&#46;"
  data-ep-a="&#46;&#104;ol"><span data-ep-b="&#119;&#97;&#110;&#97;" data-ep
 -a="&#119;eg&#64;"></span></span></span></span><script>RegularLabs.EmailPro
 tector.unCloak("ep_ac146c68");</script><br />Telecopie : 03 88 57 61 39<br 
 /><br />Slalom Géant<br /><br />Inscriptions closes, tirage des dossards en
  cours<ul type="disc"><li>AMVF0331  Slalom Geant <nobr><i>(Coupe d'Argent)<
 /i></nobr> <nobr>U12/U14</nobr> Filles<br />&nbsp;&nbsp;GPJ  U12etU14     G
 P de la Ville de Strasbourg</li><li>AMVM0331  Slalom Geant <nobr><i>(Coupe 
 d'Argent)</i></nobr> <nobr>U12/U14</nobr> Garçons<br />&nbsp;&nbsp;GPJ  U12
 etU14     GP de la Ville de Strasbourg</li></ul> <a href="https://skivosges
 .net/agenda/export-synchronisation/detailevenement/306/-/gpj-u12etu14-gp-de
 -la-ville-de-strasbourg?tmpl=component">Cet évènement a été importé depuis 
 :https://skivosges.net/agenda/export-synchronisation/detailevenement/306/-/
 gpj-u12etu14-gp-de-la-ville-de-strasbourg?tmpl=component</a>DTSTAMP:20260420T220529
DTSTART;TZID=Europe/Paris:20150125T080000
DTEND;TZID=Europe/Paris:20150125T170000
SEQUENCE:0
TRANSP:OPAQUE
END:VEVENT
END:VCALENDAR