BEGIN:VCALENDAR
VERSION:2.0
PRODID:-//jEvents 2.0 for Joomla//EN
CALSCALE:GREGORIAN
METHOD:PUBLISH
BEGIN:VTIMEZONE
TZID:Europe/Paris
BEGIN:STANDARD
DTSTART:20140129T080000
RDATE:20140330T030000
TZOFFSETFROM:+0200
TZOFFSETTO:+0100
TZNAME:Europe/Paris CET
END:STANDARD
BEGIN:STANDARD
DTSTART:20141026T020000
RDATE:20150329T030000
TZOFFSETFROM:+0200
TZOFFSETTO:+0100
TZNAME:Europe/Paris CET
END:STANDARD
BEGIN:STANDARD
DTSTART:20151025T020000
RDATE:20160327T030000
TZOFFSETFROM:+0200
TZOFFSETTO:+0100
TZNAME:Europe/Paris CET
END:STANDARD
BEGIN:STANDARD
DTSTART:20161030T020000
RDATE:20170326T030000
TZOFFSETFROM:+0200
TZOFFSETTO:+0100
TZNAME:Europe/Paris CET
END:STANDARD
BEGIN:STANDARD
DTSTART:20171029T020000
RDATE:20180325T030000
TZOFFSETFROM:+0200
TZOFFSETTO:+0100
TZNAME:Europe/Paris CET
END:STANDARD
BEGIN:STANDARD
DTSTART:20181028T020000
RDATE:20190331T030000
TZOFFSETFROM:+0200
TZOFFSETTO:+0100
TZNAME:Europe/Paris CET
END:STANDARD
BEGIN:STANDARD
DTSTART:20191027T020000
RDATE:20200329T030000
TZOFFSETFROM:+0200
TZOFFSETTO:+0100
TZNAME:Europe/Paris CET
END:STANDARD
BEGIN:STANDARD
DTSTART:20201025T020000
RDATE:20210328T030000
TZOFFSETFROM:+0200
TZOFFSETTO:+0100
TZNAME:Europe/Paris CET
END:STANDARD
BEGIN:STANDARD
DTSTART:20211031T020000
RDATE:20220327T030000
TZOFFSETFROM:+0200
TZOFFSETTO:+0100
TZNAME:Europe/Paris CET
END:STANDARD
BEGIN:STANDARD
DTSTART:20221030T020000
RDATE:20230326T030000
TZOFFSETFROM:+0200
TZOFFSETTO:+0100
TZNAME:Europe/Paris CET
END:STANDARD
BEGIN:STANDARD
DTSTART:20231029T020000
RDATE:20240331T030000
TZOFFSETFROM:+0200
TZOFFSETTO:+0100
TZNAME:Europe/Paris CET
END:STANDARD
BEGIN:STANDARD
DTSTART:20241027T020000
RDATE:20250330T030000
TZOFFSETFROM:+0200
TZOFFSETTO:+0100
TZNAME:Europe/Paris CET
END:STANDARD
BEGIN:STANDARD
DTSTART:20251026T020000
RDATE:20260329T030000
TZOFFSETFROM:+0200
TZOFFSETTO:+0100
TZNAME:Europe/Paris CET
END:STANDARD
BEGIN:STANDARD
DTSTART:20261025T020000
RDATE:20270328T030000
TZOFFSETFROM:+0200
TZOFFSETTO:+0100
TZNAME:Europe/Paris CET
END:STANDARD
BEGIN:DAYLIGHT
DTSTART:20140330T030000
RDATE:20141026T020000
TZOFFSETFROM:+0100
TZOFFSETTO:+0200
TZNAME:Europe/Paris CEST
END:DAYLIGHT
BEGIN:DAYLIGHT
DTSTART:20150329T030000
RDATE:20151025T020000
TZOFFSETFROM:+0100
TZOFFSETTO:+0200
TZNAME:Europe/Paris CEST
END:DAYLIGHT
BEGIN:DAYLIGHT
DTSTART:20160327T030000
RDATE:20161030T020000
TZOFFSETFROM:+0100
TZOFFSETTO:+0200
TZNAME:Europe/Paris CEST
END:DAYLIGHT
BEGIN:DAYLIGHT
DTSTART:20170326T030000
RDATE:20171029T020000
TZOFFSETFROM:+0100
TZOFFSETTO:+0200
TZNAME:Europe/Paris CEST
END:DAYLIGHT
BEGIN:DAYLIGHT
DTSTART:20180325T030000
RDATE:20181028T020000
TZOFFSETFROM:+0100
TZOFFSETTO:+0200
TZNAME:Europe/Paris CEST
END:DAYLIGHT
BEGIN:DAYLIGHT
DTSTART:20190331T030000
RDATE:20191027T020000
TZOFFSETFROM:+0100
TZOFFSETTO:+0200
TZNAME:Europe/Paris CEST
END:DAYLIGHT
BEGIN:DAYLIGHT
DTSTART:20200329T030000
RDATE:20201025T020000
TZOFFSETFROM:+0100
TZOFFSETTO:+0200
TZNAME:Europe/Paris CEST
END:DAYLIGHT
BEGIN:DAYLIGHT
DTSTART:20210328T030000
RDATE:20211031T020000
TZOFFSETFROM:+0100
TZOFFSETTO:+0200
TZNAME:Europe/Paris CEST
END:DAYLIGHT
BEGIN:DAYLIGHT
DTSTART:20220327T030000
RDATE:20221030T020000
TZOFFSETFROM:+0100
TZOFFSETTO:+0200
TZNAME:Europe/Paris CEST
END:DAYLIGHT
BEGIN:DAYLIGHT
DTSTART:20230326T030000
RDATE:20231029T020000
TZOFFSETFROM:+0100
TZOFFSETTO:+0200
TZNAME:Europe/Paris CEST
END:DAYLIGHT
BEGIN:DAYLIGHT
DTSTART:20240331T030000
RDATE:20241027T020000
TZOFFSETFROM:+0100
TZOFFSETTO:+0200
TZNAME:Europe/Paris CEST
END:DAYLIGHT
BEGIN:DAYLIGHT
DTSTART:20250330T030000
RDATE:20251026T020000
TZOFFSETFROM:+0100
TZOFFSETTO:+0200
TZNAME:Europe/Paris CEST
END:DAYLIGHT
BEGIN:DAYLIGHT
DTSTART:20260329T030000
RDATE:20261025T020000
TZOFFSETFROM:+0100
TZOFFSETTO:+0200
TZNAME:Europe/Paris CEST
END:DAYLIGHT
END:VTIMEZONE
BEGIN:VEVENT
UID:6b7ac3829f0a8309f5a16901edc84f45
CATEGORIES:Circuit Massif Masters (alpin)
CREATED:20141127T000322
SUMMARY:GPM  +U30     GP de la Bulle **REPORTE**
URL;VALUE=URI:https://skivosges.net/agenda/export-synchronisation/detailevenement/309/-/g
 pm-u30-gp-de-la-bulle-reporte?tmpl=component
DESCRIPTION:GPM  +U30     GP de la Bulle (Epreuve reportée) \n(Grand Prix Masters)\n\nL
 ieu : MARKSTEIN\nOrganisateur : S.C VALLEE DE WESSERLING (14186 S.C VALLEE 
 DE WESSERLING)\nEmail : RegularLabs.EmailProtector.unCloak("ep_892b7289");\
 n\nInscriptions en cours sur ce site\n - AMVF0341  Slalom (Courses Masters)
  Tous les Masters Dames Dames\n  GPM  +U30     GP de la Bulle\n - AMVM0341 
  Slalom (Courses Masters) Master A1 a A5 Hommes Hommes\n  GPM  +U30     GP 
 de la Bulle\n - AMVM0342  Slalom (Courses Masters) Master B6 a B13 Hommes H
 ommes\n  GPM  +U30     GP de la Bulle Cet évènement a été importé depuis :h
 ttps://skivosges.net/agenda/export-synchronisation/detailevenement/309/-/gp
 m-u30-gp-de-la-bulle-reporte?tmpl=component (https://skivosges.net/agenda/e
 xport-synchronisation/detailevenement/309/-/gpm-u30-gp-de-la-bulle-reporte?
 tmpl=component)
X-ALT-DESC;FMTTYPE=text/html:<strong>GPM  +U30     GP de la Bulle</strong> <font class="attention4">(Epr
 euve reportée)</font> <br /><i>(Grand Prix Masters)</i><br /><br />Lieu : M
 ARKSTEIN<br />Organisateur : S.C VALLEE DE WESSERLING <small>(14186 S.C VAL
 LEE DE WESSERLING)</small><br />Email : <!-- Cette adresse électronique est
  protégée contre les robots spammeurs. --><span class="cloaked_email ep_892
 b7289"><span data-ep-b="&#109;" data-ep-a="sc&#118;&#119;"><span data-ep-b=
 "&#108;&#46;c&#111;" data-ep-a="e&#115;&#115;&#101;"><span data-ep-b="&#103
 ;&#64;&#97;&#111;" data-ep-a="r&#108;&#105;n"></span></span></span></span><
 script>RegularLabs.EmailProtector.unCloak("ep_892b7289");</script><br /><br
  />Inscriptions en cours sur ce site<ul type="disc"><li>AMVF0341  Slalom <n
 obr><i>(Courses Masters)</i></nobr> <nobr>Tous les Masters Dames</nobr> Dam
 es<br />&nbsp;&nbsp;GPM  +U30     GP de la Bulle</li><li>AMVM0341  Slalom <
 nobr><i>(Courses Masters)</i></nobr> <nobr>Master A1 a A5 Hommes</nobr> Hom
 mes<br />&nbsp;&nbsp;GPM  +U30     GP de la Bulle</li><li>AMVM0342  Slalom 
 <nobr><i>(Courses Masters)</i></nobr> <nobr>Master B6 a B13 Hommes</nobr> H
 ommes<br />&nbsp;&nbsp;GPM  +U30     GP de la Bulle</li></ul> <a href="http
 s://skivosges.net/agenda/export-synchronisation/detailevenement/309/-/gpm-u
 30-gp-de-la-bulle-reporte?tmpl=component">Cet évènement a été importé depui
 s :https://skivosges.net/agenda/export-synchronisation/detailevenement/309/
 -/gpm-u30-gp-de-la-bulle-reporte?tmpl=component</a>DTSTAMP:20260420T220714
DTSTART;TZID=Europe/Paris:20150130T080000
DTEND;TZID=Europe/Paris:20150130T170000
SEQUENCE:0
TRANSP:OPAQUE
END:VEVENT
END:VCALENDAR