BEGIN:VCALENDAR
VERSION:2.0
PRODID:-//jEvents 2.0 for Joomla//EN
CALSCALE:GREGORIAN
METHOD:PUBLISH
BEGIN:VTIMEZONE
TZID:Europe/Paris
BEGIN:STANDARD
DTSTART:20140130T080000
RDATE:20140330T030000
TZOFFSETFROM:+0200
TZOFFSETTO:+0100
TZNAME:Europe/Paris CET
END:STANDARD
BEGIN:STANDARD
DTSTART:20141026T020000
RDATE:20150329T030000
TZOFFSETFROM:+0200
TZOFFSETTO:+0100
TZNAME:Europe/Paris CET
END:STANDARD
BEGIN:STANDARD
DTSTART:20151025T020000
RDATE:20160327T030000
TZOFFSETFROM:+0200
TZOFFSETTO:+0100
TZNAME:Europe/Paris CET
END:STANDARD
BEGIN:STANDARD
DTSTART:20161030T020000
RDATE:20170326T030000
TZOFFSETFROM:+0200
TZOFFSETTO:+0100
TZNAME:Europe/Paris CET
END:STANDARD
BEGIN:STANDARD
DTSTART:20171029T020000
RDATE:20180325T030000
TZOFFSETFROM:+0200
TZOFFSETTO:+0100
TZNAME:Europe/Paris CET
END:STANDARD
BEGIN:STANDARD
DTSTART:20181028T020000
RDATE:20190331T030000
TZOFFSETFROM:+0200
TZOFFSETTO:+0100
TZNAME:Europe/Paris CET
END:STANDARD
BEGIN:STANDARD
DTSTART:20191027T020000
RDATE:20200329T030000
TZOFFSETFROM:+0200
TZOFFSETTO:+0100
TZNAME:Europe/Paris CET
END:STANDARD
BEGIN:STANDARD
DTSTART:20201025T020000
RDATE:20210328T030000
TZOFFSETFROM:+0200
TZOFFSETTO:+0100
TZNAME:Europe/Paris CET
END:STANDARD
BEGIN:STANDARD
DTSTART:20211031T020000
RDATE:20220327T030000
TZOFFSETFROM:+0200
TZOFFSETTO:+0100
TZNAME:Europe/Paris CET
END:STANDARD
BEGIN:STANDARD
DTSTART:20221030T020000
RDATE:20230326T030000
TZOFFSETFROM:+0200
TZOFFSETTO:+0100
TZNAME:Europe/Paris CET
END:STANDARD
BEGIN:STANDARD
DTSTART:20231029T020000
RDATE:20240331T030000
TZOFFSETFROM:+0200
TZOFFSETTO:+0100
TZNAME:Europe/Paris CET
END:STANDARD
BEGIN:STANDARD
DTSTART:20241027T020000
RDATE:20250330T030000
TZOFFSETFROM:+0200
TZOFFSETTO:+0100
TZNAME:Europe/Paris CET
END:STANDARD
BEGIN:STANDARD
DTSTART:20251026T020000
RDATE:20260329T030000
TZOFFSETFROM:+0200
TZOFFSETTO:+0100
TZNAME:Europe/Paris CET
END:STANDARD
BEGIN:STANDARD
DTSTART:20261025T020000
RDATE:20270328T030000
TZOFFSETFROM:+0200
TZOFFSETTO:+0100
TZNAME:Europe/Paris CET
END:STANDARD
BEGIN:DAYLIGHT
DTSTART:20140330T030000
RDATE:20141026T020000
TZOFFSETFROM:+0100
TZOFFSETTO:+0200
TZNAME:Europe/Paris CEST
END:DAYLIGHT
BEGIN:DAYLIGHT
DTSTART:20150329T030000
RDATE:20151025T020000
TZOFFSETFROM:+0100
TZOFFSETTO:+0200
TZNAME:Europe/Paris CEST
END:DAYLIGHT
BEGIN:DAYLIGHT
DTSTART:20160327T030000
RDATE:20161030T020000
TZOFFSETFROM:+0100
TZOFFSETTO:+0200
TZNAME:Europe/Paris CEST
END:DAYLIGHT
BEGIN:DAYLIGHT
DTSTART:20170326T030000
RDATE:20171029T020000
TZOFFSETFROM:+0100
TZOFFSETTO:+0200
TZNAME:Europe/Paris CEST
END:DAYLIGHT
BEGIN:DAYLIGHT
DTSTART:20180325T030000
RDATE:20181028T020000
TZOFFSETFROM:+0100
TZOFFSETTO:+0200
TZNAME:Europe/Paris CEST
END:DAYLIGHT
BEGIN:DAYLIGHT
DTSTART:20190331T030000
RDATE:20191027T020000
TZOFFSETFROM:+0100
TZOFFSETTO:+0200
TZNAME:Europe/Paris CEST
END:DAYLIGHT
BEGIN:DAYLIGHT
DTSTART:20200329T030000
RDATE:20201025T020000
TZOFFSETFROM:+0100
TZOFFSETTO:+0200
TZNAME:Europe/Paris CEST
END:DAYLIGHT
BEGIN:DAYLIGHT
DTSTART:20210328T030000
RDATE:20211031T020000
TZOFFSETFROM:+0100
TZOFFSETTO:+0200
TZNAME:Europe/Paris CEST
END:DAYLIGHT
BEGIN:DAYLIGHT
DTSTART:20220327T030000
RDATE:20221030T020000
TZOFFSETFROM:+0100
TZOFFSETTO:+0200
TZNAME:Europe/Paris CEST
END:DAYLIGHT
BEGIN:DAYLIGHT
DTSTART:20230326T030000
RDATE:20231029T020000
TZOFFSETFROM:+0100
TZOFFSETTO:+0200
TZNAME:Europe/Paris CEST
END:DAYLIGHT
BEGIN:DAYLIGHT
DTSTART:20240331T030000
RDATE:20241027T020000
TZOFFSETFROM:+0100
TZOFFSETTO:+0200
TZNAME:Europe/Paris CEST
END:DAYLIGHT
BEGIN:DAYLIGHT
DTSTART:20250330T030000
RDATE:20251026T020000
TZOFFSETFROM:+0100
TZOFFSETTO:+0200
TZNAME:Europe/Paris CEST
END:DAYLIGHT
BEGIN:DAYLIGHT
DTSTART:20260329T030000
RDATE:20261025T020000
TZOFFSETFROM:+0100
TZOFFSETTO:+0200
TZNAME:Europe/Paris CEST
END:DAYLIGHT
END:VTIMEZONE
BEGIN:VEVENT
UID:42b9a16f6d2551aa803b6c7bd13780cc
CATEGORIES:Circuit Massif Jeunes (alpin)
CREATED:20141127T000322
SUMMARY:GPJ  U12etU14     GP Résidence des Magasins de Ski La Bresse
URL;VALUE=URI:https://skivosges.net/agenda/export-synchronisation/detailevenement/310/-/g
 pj-u12etu14-gp-residence-des-magasins-de-ski-la-bresse?tmpl=component
DESCRIPTION:<strong>GPJ  U12etU14     GP Résidence des Magasins de Ski La Bresse</stron
 g> <br /><i>(Grand Prix Jeunes)</i><br /><br />Lieu : GERARDMER<br />Organi
 sateur : GERARDMER SKI ALPIN <small>(14089 GERARDMER SKI ALPIN)</small><br 
 />Email : <!-- Cette adresse électronique est protégée contre les robots sp
 ammeurs. --><span class="cloaked_email ep_121c7893"><span data-ep-b="&#101;
 &#46;&#102;&#114;" data-ep-a="g&#101;&#114;&#97;&#114;"><span data-ep-a="&#
 100;&#109;e&#114;&#45;" data-ep-b="&#111;&#114;&#97;&#110;&#103;"><span dat
 a-ep-a="&#115;ki-a" data-ep-b="&#108;&#112;&#105;&#110;&#64;"></span></span
 ></span></span><script>RegularLabs.EmailProtector.unCloak("ep_121c7893");</
 script><br />Telecopie : 03 29 60 98 04<br />Telecopie : 03 29 60 98 04<br 
 /><br />ATTENTION COURSE DEPLACEE LE DIMANCHE<br /><br />Inscriptions close
 s, les listes de départ sont visualisables sur ce site<ul type="disc"><li>A
 MVF0351  Slalom <nobr><i>(Coupe d'Argent)</i></nobr> <nobr>U12</nobr> Fille
 s<br />&nbsp;&nbsp;GPJ  U12etU14     GP Résidence des Magasins de Ski La Br
 esse</li><li>AMVM0351  Slalom <nobr><i>(Coupe d'Argent)</i></nobr> <nobr>U1
 2</nobr> Garçons<br />&nbsp;&nbsp;GPJ  U12etU14     GP Résidence des Magasi
 ns de Ski La Bresse</li><li>AMVF0352  Slalom <nobr><i>(Coupe d'Argent)</i><
 /nobr> <nobr>U14</nobr> Filles<br />&nbsp;&nbsp;GPJ  U12etU14     GP Réside
 nce des Magasins de Ski La Bresse</li><li>AMVM0352  Slalom <nobr><i>(Coupe 
 d'Argent)</i></nobr> <nobr>U14</nobr> Garçons<br />&nbsp;&nbsp;GPJ  U12etU1
 4     GP Résidence des Magasins de Ski La Bresse</li></ul> <a href="https:/
 /skivosges.net/agenda/export-synchronisation/detailevenement/310/-/gpj-u12e
 tu14-gp-residence-des-magasins-de-ski-la-bresse?tmpl=component">Cet évèneme
 nt a été importé depuis :https://skivosges.net/agenda/export-synchronisatio
 n/detailevenement/310/-/gpj-u12etu14-gp-residence-des-magasins-de-ski-la-br
 esse?tmpl=component</a>DTSTAMP:20260420T221302
DTSTART;TZID=Europe/Paris:20150131T080000
DTEND;TZID=Europe/Paris:20150131T170000
SEQUENCE:0
TRANSP:OPAQUE
END:VEVENT
END:VCALENDAR