BEGIN:VCALENDAR
VERSION:2.0
PRODID:-//jEvents 2.0 for Joomla//EN
CALSCALE:GREGORIAN
METHOD:PUBLISH
BEGIN:VTIMEZONE
TZID:Europe/Paris
BEGIN:STANDARD
DTSTART:20140130T080000
RDATE:20140330T030000
TZOFFSETFROM:+0200
TZOFFSETTO:+0100
TZNAME:Europe/Paris CET
END:STANDARD
BEGIN:STANDARD
DTSTART:20141026T020000
RDATE:20150329T030000
TZOFFSETFROM:+0200
TZOFFSETTO:+0100
TZNAME:Europe/Paris CET
END:STANDARD
BEGIN:STANDARD
DTSTART:20151025T020000
RDATE:20160327T030000
TZOFFSETFROM:+0200
TZOFFSETTO:+0100
TZNAME:Europe/Paris CET
END:STANDARD
BEGIN:STANDARD
DTSTART:20161030T020000
RDATE:20170326T030000
TZOFFSETFROM:+0200
TZOFFSETTO:+0100
TZNAME:Europe/Paris CET
END:STANDARD
BEGIN:STANDARD
DTSTART:20171029T020000
RDATE:20180325T030000
TZOFFSETFROM:+0200
TZOFFSETTO:+0100
TZNAME:Europe/Paris CET
END:STANDARD
BEGIN:STANDARD
DTSTART:20181028T020000
RDATE:20190331T030000
TZOFFSETFROM:+0200
TZOFFSETTO:+0100
TZNAME:Europe/Paris CET
END:STANDARD
BEGIN:STANDARD
DTSTART:20191027T020000
RDATE:20200329T030000
TZOFFSETFROM:+0200
TZOFFSETTO:+0100
TZNAME:Europe/Paris CET
END:STANDARD
BEGIN:STANDARD
DTSTART:20201025T020000
RDATE:20210328T030000
TZOFFSETFROM:+0200
TZOFFSETTO:+0100
TZNAME:Europe/Paris CET
END:STANDARD
BEGIN:STANDARD
DTSTART:20211031T020000
RDATE:20220327T030000
TZOFFSETFROM:+0200
TZOFFSETTO:+0100
TZNAME:Europe/Paris CET
END:STANDARD
BEGIN:STANDARD
DTSTART:20221030T020000
RDATE:20230326T030000
TZOFFSETFROM:+0200
TZOFFSETTO:+0100
TZNAME:Europe/Paris CET
END:STANDARD
BEGIN:STANDARD
DTSTART:20231029T020000
RDATE:20240331T030000
TZOFFSETFROM:+0200
TZOFFSETTO:+0100
TZNAME:Europe/Paris CET
END:STANDARD
BEGIN:STANDARD
DTSTART:20241027T020000
RDATE:20250330T030000
TZOFFSETFROM:+0200
TZOFFSETTO:+0100
TZNAME:Europe/Paris CET
END:STANDARD
BEGIN:STANDARD
DTSTART:20251026T020000
RDATE:20260329T030000
TZOFFSETFROM:+0200
TZOFFSETTO:+0100
TZNAME:Europe/Paris CET
END:STANDARD
BEGIN:STANDARD
DTSTART:20261025T020000
RDATE:20270328T030000
TZOFFSETFROM:+0200
TZOFFSETTO:+0100
TZNAME:Europe/Paris CET
END:STANDARD
BEGIN:DAYLIGHT
DTSTART:20140330T030000
RDATE:20141026T020000
TZOFFSETFROM:+0100
TZOFFSETTO:+0200
TZNAME:Europe/Paris CEST
END:DAYLIGHT
BEGIN:DAYLIGHT
DTSTART:20150329T030000
RDATE:20151025T020000
TZOFFSETFROM:+0100
TZOFFSETTO:+0200
TZNAME:Europe/Paris CEST
END:DAYLIGHT
BEGIN:DAYLIGHT
DTSTART:20160327T030000
RDATE:20161030T020000
TZOFFSETFROM:+0100
TZOFFSETTO:+0200
TZNAME:Europe/Paris CEST
END:DAYLIGHT
BEGIN:DAYLIGHT
DTSTART:20170326T030000
RDATE:20171029T020000
TZOFFSETFROM:+0100
TZOFFSETTO:+0200
TZNAME:Europe/Paris CEST
END:DAYLIGHT
BEGIN:DAYLIGHT
DTSTART:20180325T030000
RDATE:20181028T020000
TZOFFSETFROM:+0100
TZOFFSETTO:+0200
TZNAME:Europe/Paris CEST
END:DAYLIGHT
BEGIN:DAYLIGHT
DTSTART:20190331T030000
RDATE:20191027T020000
TZOFFSETFROM:+0100
TZOFFSETTO:+0200
TZNAME:Europe/Paris CEST
END:DAYLIGHT
BEGIN:DAYLIGHT
DTSTART:20200329T030000
RDATE:20201025T020000
TZOFFSETFROM:+0100
TZOFFSETTO:+0200
TZNAME:Europe/Paris CEST
END:DAYLIGHT
BEGIN:DAYLIGHT
DTSTART:20210328T030000
RDATE:20211031T020000
TZOFFSETFROM:+0100
TZOFFSETTO:+0200
TZNAME:Europe/Paris CEST
END:DAYLIGHT
BEGIN:DAYLIGHT
DTSTART:20220327T030000
RDATE:20221030T020000
TZOFFSETFROM:+0100
TZOFFSETTO:+0200
TZNAME:Europe/Paris CEST
END:DAYLIGHT
BEGIN:DAYLIGHT
DTSTART:20230326T030000
RDATE:20231029T020000
TZOFFSETFROM:+0100
TZOFFSETTO:+0200
TZNAME:Europe/Paris CEST
END:DAYLIGHT
BEGIN:DAYLIGHT
DTSTART:20240331T030000
RDATE:20241027T020000
TZOFFSETFROM:+0100
TZOFFSETTO:+0200
TZNAME:Europe/Paris CEST
END:DAYLIGHT
BEGIN:DAYLIGHT
DTSTART:20250330T030000
RDATE:20251026T020000
TZOFFSETFROM:+0100
TZOFFSETTO:+0200
TZNAME:Europe/Paris CEST
END:DAYLIGHT
BEGIN:DAYLIGHT
DTSTART:20260329T030000
RDATE:20261025T020000
TZOFFSETFROM:+0100
TZOFFSETTO:+0200
TZNAME:Europe/Paris CEST
END:DAYLIGHT
END:VTIMEZONE
BEGIN:VEVENT
UID:f854694ecadde074c9b48230ac82e2a8
CATEGORIES:Opens et Promos (alpin)
CREATED:20141127T000322
SUMMARY:OPEN  U14 et U16     Prix Mat et Peinture
URL;VALUE=URI:https://skivosges.net/agenda/export-synchronisation/detailevenement/312/-/o
 pen-u14-et-u16-prix-mat-et-peinture?tmpl=component
DESCRIPTION:OPEN  U14 et U16     Prix Mat et Peinture\n\nLieu : ROUGE GAZON\nOrganisate
 ur : SKIEURS DE ST MAURICE/MOSELLE (14063 SKIEURS DE ST MAURICE/MOSELLE)\nE
 mail : RegularLabs.EmailProtector.unCloak("ep_890b0113");\nTelecopie : 0780
 028040\n\nCOURSE MAINTENUE\n\nInscriptions closes, les listes de départ son
 t visualisables sur ce site\n - AMVF0371  Slalom Geant U14/U16 Filles\n  OP
 EN  U12etU14     Prix Mat et Peinture\n - AMVM0371  Slalom Geant U14/U16 Ga
 rçons\n  OPEN  U12etU14     Prix Mat et Peinture Cet évènement a été import
 é depuis :https://skivosges.net/agenda/export-synchronisation/detaileveneme
 nt/312/-/open-u14-et-u16-prix-mat-et-peinture?tmpl=component
X-ALT-DESC;FMTTYPE=text/html:<strong>OPEN  U14 et U16     Prix Mat et Peinture</strong><br /><br />Lieu 
 : ROUGE GAZON<br />Organisateur : SKIEURS DE ST MAURICE/MOSELLE <small>(140
 63 SKIEURS DE ST MAURICE/MOSELLE)</small><br />Email : <!-- Cette adresse é
 lectronique est protégée contre les robots spammeurs. --><span class="cloak
 ed_email ep_890b0113"><span data-ep-b="" data-ep-a="d&#97;&#110;&#105;&#101
 ;"><span data-ep-b="&#111;&#111;.&#102;&#114;" data-ep-a="l.&#109;&#111;&#1
 14;"><span data-ep-a="&#101;&#108;&#50;5&#64;" data-ep-b="&#119;a&#110;&#97
 ;&#100;"></span></span></span></span><script>RegularLabs.EmailProtector.unC
 loak("ep_890b0113");</script><br />Telecopie : 0780028040<br /><br />COURSE
  MAINTENUE<br /><br />Inscriptions closes, les listes de départ sont visual
 isables sur ce site<ul type="disc"><li>AMVF0371  Slalom Geant <nobr>U14/U16
 </nobr> Filles<br />&nbsp;&nbsp;OPEN  U12etU14     Prix Mat et Peinture</li
 ><li>AMVM0371  Slalom Geant <nobr>U14/U16</nobr> Garçons<br />&nbsp;&nbsp;O
 PEN  U12etU14     Prix Mat et Peinture</li></ul> <a href="https://skivosges
 .net/agenda/export-synchronisation/detailevenement/312/-/open-u14-et-u16-pr
 ix-mat-et-peinture?tmpl=component">Cet évènement a été importé depuis :http
 s://skivosges.net/agenda/export-synchronisation/detailevenement/312/-/open-
 u14-et-u16-prix-mat-et-peinture?tmpl=component</a>DTSTAMP:20260420T220702
DTSTART;TZID=Europe/Paris:20150131T080000
DTEND;TZID=Europe/Paris:20150131T170000
SEQUENCE:0
TRANSP:OPAQUE
END:VEVENT
END:VCALENDAR