BEGIN:VCALENDAR
VERSION:2.0
PRODID:-//jEvents 2.0 for Joomla//EN
CALSCALE:GREGORIAN
METHOD:PUBLISH
BEGIN:VTIMEZONE
TZID:Europe/Paris
BEGIN:STANDARD
DTSTART:20140131T080000
RDATE:20140330T030000
TZOFFSETFROM:+0200
TZOFFSETTO:+0100
TZNAME:Europe/Paris CET
END:STANDARD
BEGIN:STANDARD
DTSTART:20141026T020000
RDATE:20150329T030000
TZOFFSETFROM:+0200
TZOFFSETTO:+0100
TZNAME:Europe/Paris CET
END:STANDARD
BEGIN:STANDARD
DTSTART:20151025T020000
RDATE:20160327T030000
TZOFFSETFROM:+0200
TZOFFSETTO:+0100
TZNAME:Europe/Paris CET
END:STANDARD
BEGIN:STANDARD
DTSTART:20161030T020000
RDATE:20170326T030000
TZOFFSETFROM:+0200
TZOFFSETTO:+0100
TZNAME:Europe/Paris CET
END:STANDARD
BEGIN:STANDARD
DTSTART:20171029T020000
RDATE:20180325T030000
TZOFFSETFROM:+0200
TZOFFSETTO:+0100
TZNAME:Europe/Paris CET
END:STANDARD
BEGIN:STANDARD
DTSTART:20181028T020000
RDATE:20190331T030000
TZOFFSETFROM:+0200
TZOFFSETTO:+0100
TZNAME:Europe/Paris CET
END:STANDARD
BEGIN:STANDARD
DTSTART:20191027T020000
RDATE:20200329T030000
TZOFFSETFROM:+0200
TZOFFSETTO:+0100
TZNAME:Europe/Paris CET
END:STANDARD
BEGIN:STANDARD
DTSTART:20201025T020000
RDATE:20210328T030000
TZOFFSETFROM:+0200
TZOFFSETTO:+0100
TZNAME:Europe/Paris CET
END:STANDARD
BEGIN:STANDARD
DTSTART:20211031T020000
RDATE:20220327T030000
TZOFFSETFROM:+0200
TZOFFSETTO:+0100
TZNAME:Europe/Paris CET
END:STANDARD
BEGIN:STANDARD
DTSTART:20221030T020000
RDATE:20230326T030000
TZOFFSETFROM:+0200
TZOFFSETTO:+0100
TZNAME:Europe/Paris CET
END:STANDARD
BEGIN:STANDARD
DTSTART:20231029T020000
RDATE:20240331T030000
TZOFFSETFROM:+0200
TZOFFSETTO:+0100
TZNAME:Europe/Paris CET
END:STANDARD
BEGIN:STANDARD
DTSTART:20241027T020000
RDATE:20250330T030000
TZOFFSETFROM:+0200
TZOFFSETTO:+0100
TZNAME:Europe/Paris CET
END:STANDARD
BEGIN:STANDARD
DTSTART:20251026T020000
RDATE:20260329T030000
TZOFFSETFROM:+0200
TZOFFSETTO:+0100
TZNAME:Europe/Paris CET
END:STANDARD
BEGIN:STANDARD
DTSTART:20261025T020000
RDATE:20270328T030000
TZOFFSETFROM:+0200
TZOFFSETTO:+0100
TZNAME:Europe/Paris CET
END:STANDARD
BEGIN:DAYLIGHT
DTSTART:20140330T030000
RDATE:20141026T020000
TZOFFSETFROM:+0100
TZOFFSETTO:+0200
TZNAME:Europe/Paris CEST
END:DAYLIGHT
BEGIN:DAYLIGHT
DTSTART:20150329T030000
RDATE:20151025T020000
TZOFFSETFROM:+0100
TZOFFSETTO:+0200
TZNAME:Europe/Paris CEST
END:DAYLIGHT
BEGIN:DAYLIGHT
DTSTART:20160327T030000
RDATE:20161030T020000
TZOFFSETFROM:+0100
TZOFFSETTO:+0200
TZNAME:Europe/Paris CEST
END:DAYLIGHT
BEGIN:DAYLIGHT
DTSTART:20170326T030000
RDATE:20171029T020000
TZOFFSETFROM:+0100
TZOFFSETTO:+0200
TZNAME:Europe/Paris CEST
END:DAYLIGHT
BEGIN:DAYLIGHT
DTSTART:20180325T030000
RDATE:20181028T020000
TZOFFSETFROM:+0100
TZOFFSETTO:+0200
TZNAME:Europe/Paris CEST
END:DAYLIGHT
BEGIN:DAYLIGHT
DTSTART:20190331T030000
RDATE:20191027T020000
TZOFFSETFROM:+0100
TZOFFSETTO:+0200
TZNAME:Europe/Paris CEST
END:DAYLIGHT
BEGIN:DAYLIGHT
DTSTART:20200329T030000
RDATE:20201025T020000
TZOFFSETFROM:+0100
TZOFFSETTO:+0200
TZNAME:Europe/Paris CEST
END:DAYLIGHT
BEGIN:DAYLIGHT
DTSTART:20210328T030000
RDATE:20211031T020000
TZOFFSETFROM:+0100
TZOFFSETTO:+0200
TZNAME:Europe/Paris CEST
END:DAYLIGHT
BEGIN:DAYLIGHT
DTSTART:20220327T030000
RDATE:20221030T020000
TZOFFSETFROM:+0100
TZOFFSETTO:+0200
TZNAME:Europe/Paris CEST
END:DAYLIGHT
BEGIN:DAYLIGHT
DTSTART:20230326T030000
RDATE:20231029T020000
TZOFFSETFROM:+0100
TZOFFSETTO:+0200
TZNAME:Europe/Paris CEST
END:DAYLIGHT
BEGIN:DAYLIGHT
DTSTART:20240331T030000
RDATE:20241027T020000
TZOFFSETFROM:+0100
TZOFFSETTO:+0200
TZNAME:Europe/Paris CEST
END:DAYLIGHT
BEGIN:DAYLIGHT
DTSTART:20250330T030000
RDATE:20251026T020000
TZOFFSETFROM:+0100
TZOFFSETTO:+0200
TZNAME:Europe/Paris CEST
END:DAYLIGHT
BEGIN:DAYLIGHT
DTSTART:20260329T030000
RDATE:20261025T020000
TZOFFSETFROM:+0100
TZOFFSETTO:+0200
TZNAME:Europe/Paris CEST
END:DAYLIGHT
END:VTIMEZONE
BEGIN:VEVENT
UID:b68cc5fff5384cd1187ce08444564df7
CATEGORIES:Circuit Massif Jeunes (alpin)
CREATED:20141127T000322
SUMMARY:GPJ  U12etU14     GP La Table du Rouan / Hotel de la Jamagne Gérardmer
URL;VALUE=URI:https://skivosges.net/agenda/export-synchronisation/detailevenement/316/-/g
 pj-u12etu14-gp-la-table-du-rouan-hotel-de-la-jamagne-gerardmer?tmpl=compone
 nt
DESCRIPTION:GPJ  U12etU14     GP La Table du Rouan / Hotel de la Jamagne Gérardmer \n(G
 rand Prix Jeunes)\n\nLieu : GERARDMER\nOrganisateur : GERARDMER SKI ALPIN (
 14089 GERARDMER SKI ALPIN)\nEmail : RegularLabs.EmailProtector.unCloak("ep_
 cf8d4852");\nTelecopie : 03 29 60 98 04\nTelecopie : 03 29 60 98 04\n\nATTE
 NTION COURSE AVANCEE AU SAMEDI\n\nInscriptions closes, les listes de départ
  sont visualisables sur ce site\n - AMVF0431  Slalom Geant (Coupe d'Argent)
  U12/U14 Filles\n  GPJ  U12etU14     GP La Table du Rouan / Hotel de la Jam
 agne Gérardmer\n - AMVM0431  Slalom Geant (Coupe d'Argent) U12/U14 Garçons\
 n  GPJ  U12etU14     GP La Table du Rouan / Hotel de la Jamagne Gérardmer C
 et évènement a été importé depuis :https://skivosges.net/agenda/export-sync
 hronisation/detailevenement/316/-/gpj-u12etu14-gp-la-table-du-rouan-hotel-d
 e-la-jamagne-gerardmer?tmpl=component
X-ALT-DESC;FMTTYPE=text/html:<strong>GPJ  U12etU14     GP La Table du Rouan / Hotel de la Jamagne Gérard
 mer</strong> <br /><i>(Grand Prix Jeunes)</i><br /><br />Lieu : GERARDMER<b
 r />Organisateur : GERARDMER SKI ALPIN <small>(14089 GERARDMER SKI ALPIN)</
 small><br />Email : <!-- Cette adresse électronique est protégée contre les
  robots spammeurs. --><span class="cloaked_email ep_cf8d4852"><span data-ep
 -a="&#103;&#101;r&#97;&#114;" data-ep-b="&#101;&#46;&#102;r"><span data-ep-
 a="dm&#101;r&#45;" data-ep-b="or&#97;&#110;g"><span data-ep-b="l&#112;&#105
 ;&#110;&#64;" data-ep-a="s&#107;i&#45;&#97;"></span></span></span></span><s
 cript>RegularLabs.EmailProtector.unCloak("ep_cf8d4852");</script><br />Tele
 copie : 03 29 60 98 04<br />Telecopie : 03 29 60 98 04<br /><br />ATTENTION
  COURSE AVANCEE AU SAMEDI<br /><br />Inscriptions closes, les listes de dép
 art sont visualisables sur ce site<ul type="disc"><li>AMVF0431  Slalom Gean
 t <nobr><i>(Coupe d'Argent)</i></nobr> <nobr>U12/U14</nobr> Filles<br />&nb
 sp;&nbsp;GPJ  U12etU14     GP La Table du Rouan / Hotel de la Jamagne Gérar
 dmer</li><li>AMVM0431  Slalom Geant <nobr><i>(Coupe d'Argent)</i></nobr> <n
 obr>U12/U14</nobr> Garçons<br />&nbsp;&nbsp;GPJ  U12etU14     GP La Table d
 u Rouan / Hotel de la Jamagne Gérardmer</li></ul> <a href="https://skivosge
 s.net/agenda/export-synchronisation/detailevenement/316/-/gpj-u12etu14-gp-l
 a-table-du-rouan-hotel-de-la-jamagne-gerardmer?tmpl=component">Cet évènemen
 t a été importé depuis :https://skivosges.net/agenda/export-synchronisation
 /detailevenement/316/-/gpj-u12etu14-gp-la-table-du-rouan-hotel-de-la-jamagn
 e-gerardmer?tmpl=component</a>DTSTAMP:20260420T220837
DTSTART;TZID=Europe/Paris:20150201T080000
DTEND;TZID=Europe/Paris:20150201T170000
SEQUENCE:0
TRANSP:OPAQUE
END:VEVENT
END:VCALENDAR