BEGIN:VCALENDAR
VERSION:2.0
PRODID:-//jEvents 2.0 for Joomla//EN
CALSCALE:GREGORIAN
METHOD:PUBLISH
BEGIN:VTIMEZONE
TZID:Europe/Paris
BEGIN:STANDARD
DTSTART:20140131T080000
RDATE:20140330T030000
TZOFFSETFROM:+0200
TZOFFSETTO:+0100
TZNAME:Europe/Paris CET
END:STANDARD
BEGIN:STANDARD
DTSTART:20141026T020000
RDATE:20150329T030000
TZOFFSETFROM:+0200
TZOFFSETTO:+0100
TZNAME:Europe/Paris CET
END:STANDARD
BEGIN:STANDARD
DTSTART:20151025T020000
RDATE:20160327T030000
TZOFFSETFROM:+0200
TZOFFSETTO:+0100
TZNAME:Europe/Paris CET
END:STANDARD
BEGIN:STANDARD
DTSTART:20161030T020000
RDATE:20170326T030000
TZOFFSETFROM:+0200
TZOFFSETTO:+0100
TZNAME:Europe/Paris CET
END:STANDARD
BEGIN:STANDARD
DTSTART:20171029T020000
RDATE:20180325T030000
TZOFFSETFROM:+0200
TZOFFSETTO:+0100
TZNAME:Europe/Paris CET
END:STANDARD
BEGIN:STANDARD
DTSTART:20181028T020000
RDATE:20190331T030000
TZOFFSETFROM:+0200
TZOFFSETTO:+0100
TZNAME:Europe/Paris CET
END:STANDARD
BEGIN:STANDARD
DTSTART:20191027T020000
RDATE:20200329T030000
TZOFFSETFROM:+0200
TZOFFSETTO:+0100
TZNAME:Europe/Paris CET
END:STANDARD
BEGIN:STANDARD
DTSTART:20201025T020000
RDATE:20210328T030000
TZOFFSETFROM:+0200
TZOFFSETTO:+0100
TZNAME:Europe/Paris CET
END:STANDARD
BEGIN:STANDARD
DTSTART:20211031T020000
RDATE:20220327T030000
TZOFFSETFROM:+0200
TZOFFSETTO:+0100
TZNAME:Europe/Paris CET
END:STANDARD
BEGIN:STANDARD
DTSTART:20221030T020000
RDATE:20230326T030000
TZOFFSETFROM:+0200
TZOFFSETTO:+0100
TZNAME:Europe/Paris CET
END:STANDARD
BEGIN:STANDARD
DTSTART:20231029T020000
RDATE:20240331T030000
TZOFFSETFROM:+0200
TZOFFSETTO:+0100
TZNAME:Europe/Paris CET
END:STANDARD
BEGIN:STANDARD
DTSTART:20241027T020000
RDATE:20250330T030000
TZOFFSETFROM:+0200
TZOFFSETTO:+0100
TZNAME:Europe/Paris CET
END:STANDARD
BEGIN:STANDARD
DTSTART:20251026T020000
RDATE:20260329T030000
TZOFFSETFROM:+0200
TZOFFSETTO:+0100
TZNAME:Europe/Paris CET
END:STANDARD
BEGIN:STANDARD
DTSTART:20261025T020000
RDATE:20270328T030000
TZOFFSETFROM:+0200
TZOFFSETTO:+0100
TZNAME:Europe/Paris CET
END:STANDARD
BEGIN:DAYLIGHT
DTSTART:20140330T030000
RDATE:20141026T020000
TZOFFSETFROM:+0100
TZOFFSETTO:+0200
TZNAME:Europe/Paris CEST
END:DAYLIGHT
BEGIN:DAYLIGHT
DTSTART:20150329T030000
RDATE:20151025T020000
TZOFFSETFROM:+0100
TZOFFSETTO:+0200
TZNAME:Europe/Paris CEST
END:DAYLIGHT
BEGIN:DAYLIGHT
DTSTART:20160327T030000
RDATE:20161030T020000
TZOFFSETFROM:+0100
TZOFFSETTO:+0200
TZNAME:Europe/Paris CEST
END:DAYLIGHT
BEGIN:DAYLIGHT
DTSTART:20170326T030000
RDATE:20171029T020000
TZOFFSETFROM:+0100
TZOFFSETTO:+0200
TZNAME:Europe/Paris CEST
END:DAYLIGHT
BEGIN:DAYLIGHT
DTSTART:20180325T030000
RDATE:20181028T020000
TZOFFSETFROM:+0100
TZOFFSETTO:+0200
TZNAME:Europe/Paris CEST
END:DAYLIGHT
BEGIN:DAYLIGHT
DTSTART:20190331T030000
RDATE:20191027T020000
TZOFFSETFROM:+0100
TZOFFSETTO:+0200
TZNAME:Europe/Paris CEST
END:DAYLIGHT
BEGIN:DAYLIGHT
DTSTART:20200329T030000
RDATE:20201025T020000
TZOFFSETFROM:+0100
TZOFFSETTO:+0200
TZNAME:Europe/Paris CEST
END:DAYLIGHT
BEGIN:DAYLIGHT
DTSTART:20210328T030000
RDATE:20211031T020000
TZOFFSETFROM:+0100
TZOFFSETTO:+0200
TZNAME:Europe/Paris CEST
END:DAYLIGHT
BEGIN:DAYLIGHT
DTSTART:20220327T030000
RDATE:20221030T020000
TZOFFSETFROM:+0100
TZOFFSETTO:+0200
TZNAME:Europe/Paris CEST
END:DAYLIGHT
BEGIN:DAYLIGHT
DTSTART:20230326T030000
RDATE:20231029T020000
TZOFFSETFROM:+0100
TZOFFSETTO:+0200
TZNAME:Europe/Paris CEST
END:DAYLIGHT
BEGIN:DAYLIGHT
DTSTART:20240331T030000
RDATE:20241027T020000
TZOFFSETFROM:+0100
TZOFFSETTO:+0200
TZNAME:Europe/Paris CEST
END:DAYLIGHT
BEGIN:DAYLIGHT
DTSTART:20250330T030000
RDATE:20251026T020000
TZOFFSETFROM:+0100
TZOFFSETTO:+0200
TZNAME:Europe/Paris CEST
END:DAYLIGHT
BEGIN:DAYLIGHT
DTSTART:20260329T030000
RDATE:20261025T020000
TZOFFSETFROM:+0100
TZOFFSETTO:+0200
TZNAME:Europe/Paris CEST
END:DAYLIGHT
END:VTIMEZONE
BEGIN:VEVENT
UID:71b20a9ffbf46e383fe90b21b47079ba
CATEGORIES:Autres Épreuves (alpin)
CREATED:20141127T000322
SUMMARY:CI2A U16 à Masters Coupe de la Ville de Belfort et ASPTT 
URL;VALUE=URI:https://skivosges.net/agenda/export-synchronisation/detailevenement/317/-/c
 i2a-u16-a-masters-coupe-de-la-ville-de-belfort-et-asptt?tmpl=component
DESCRIPTION:CI2A U16 à Masters Coupe de la Ville de Belfort et ASPTT \n\nLieu : Markste
 in\nOrganisateur : SSTMB (14004 STE SKI TOURISME MONTAGNE)\nEmail : Regular
 Labs.EmailProtector.unCloak("ep_e421c1e2");\nTelecopie : 03 84 90 01 72\n\n
 Fin de reconnaissance 10H15\nDépart de la course 10H30\n\nInscriptions clos
 es, les listes de départ sont visualisables sur ce site\n  Lieu:BALLON D'AL
 SACE\n  Organisateur:ASPTT BELFORT\n - AMVF0401  Slalom U16 a Masters Dames
 \n  CI2A  U16 à Masters     Coupe de la Ville de Belfort et ASPTT Belfort \
 n  Lieu:BALLON D'ALSACE\n  Organisateur:ASPTT BELFORT\n - AMVM0401  Slalom 
 U16 a Masters Hommes\n  CI2A  U16 à Masters     Coupe de la Ville de Belfor
 t et ASPTT Belfort  Cet évènement a été importé depuis :https://skivosges.n
 et/agenda/export-synchronisation/detailevenement/317/-/ci2a-u16-a-masters-c
 oupe-de-la-ville-de-belfort-et-asptt?tmpl=component
X-ALT-DESC;FMTTYPE=text/html:<strong>CI2A U16 à Masters Coupe de la Ville de Belfort et ASPTT </strong><
 br /><br />Lieu : Markstein<br />Organisateur : SSTMB <small>(14004 STE SKI
  TOURISME MONTAGNE)</small><br />Email : <!-- Cette adresse électronique es
 t protégée contre les robots spammeurs. --><span class="cloaked_email ep_e4
 21c1e2"><span data-ep-b="" data-ep-a="j&#103;h"><span data-ep-a="&#64;&#99;
 i" data-ep-b="&#114;"><span data-ep-a="&#116;e&#108;" data-ep-b="e.&#102;">
 </span></span></span></span><script>RegularLabs.EmailProtector.unCloak("ep_
 e421c1e2");</script><br />Telecopie : 03 84 90 01 72<br /><br />Fin de reco
 nnaissance 10H15<br>Départ de la course 10H30<br /><br />Inscriptions close
 s, les listes de départ sont visualisables sur ce site<ul type="disc"><br /
 >&nbsp;&nbsp;Lieu:BALLON D'ALSACE<br />&nbsp;&nbsp;Organisateur:ASPTT BELFO
 RT<li>AMVF0401  Slalom <nobr>U16 a Masters</nobr> Dames<br />&nbsp;&nbsp;CI
 2A  U16 à Masters     Coupe de la Ville de Belfort et ASPTT Belfort&nbsp;</
 li><br />&nbsp;&nbsp;Lieu:BALLON D'ALSACE<br />&nbsp;&nbsp;Organisateur:ASP
 TT BELFORT<li>AMVM0401  Slalom <nobr>U16 a Masters</nobr> Hommes<br />&nbsp
 ;&nbsp;CI2A  U16 à Masters     Coupe de la Ville de Belfort et ASPTT Belfor
 t&nbsp;</li></ul> <a href="https://skivosges.net/agenda/export-synchronisat
 ion/detailevenement/317/-/ci2a-u16-a-masters-coupe-de-la-ville-de-belfort-e
 t-asptt?tmpl=component">Cet évènement a été importé depuis :https://skivosg
 es.net/agenda/export-synchronisation/detailevenement/317/-/ci2a-u16-a-maste
 rs-coupe-de-la-ville-de-belfort-et-asptt?tmpl=component</a>DTSTAMP:20260420T220640
DTSTART;TZID=Europe/Paris:20150201T080000
DTEND;TZID=Europe/Paris:20150201T170000
SEQUENCE:0
TRANSP:OPAQUE
END:VEVENT
END:VCALENDAR