BEGIN:VCALENDAR
VERSION:2.0
PRODID:-//jEvents 2.0 for Joomla//EN
CALSCALE:GREGORIAN
METHOD:PUBLISH
BEGIN:VTIMEZONE
TZID:Europe/Paris
BEGIN:STANDARD
DTSTART:20140131T080000
RDATE:20140330T030000
TZOFFSETFROM:+0200
TZOFFSETTO:+0100
TZNAME:Europe/Paris CET
END:STANDARD
BEGIN:STANDARD
DTSTART:20141026T020000
RDATE:20150329T030000
TZOFFSETFROM:+0200
TZOFFSETTO:+0100
TZNAME:Europe/Paris CET
END:STANDARD
BEGIN:STANDARD
DTSTART:20151025T020000
RDATE:20160327T030000
TZOFFSETFROM:+0200
TZOFFSETTO:+0100
TZNAME:Europe/Paris CET
END:STANDARD
BEGIN:STANDARD
DTSTART:20161030T020000
RDATE:20170326T030000
TZOFFSETFROM:+0200
TZOFFSETTO:+0100
TZNAME:Europe/Paris CET
END:STANDARD
BEGIN:STANDARD
DTSTART:20171029T020000
RDATE:20180325T030000
TZOFFSETFROM:+0200
TZOFFSETTO:+0100
TZNAME:Europe/Paris CET
END:STANDARD
BEGIN:STANDARD
DTSTART:20181028T020000
RDATE:20190331T030000
TZOFFSETFROM:+0200
TZOFFSETTO:+0100
TZNAME:Europe/Paris CET
END:STANDARD
BEGIN:STANDARD
DTSTART:20191027T020000
RDATE:20200329T030000
TZOFFSETFROM:+0200
TZOFFSETTO:+0100
TZNAME:Europe/Paris CET
END:STANDARD
BEGIN:STANDARD
DTSTART:20201025T020000
RDATE:20210328T030000
TZOFFSETFROM:+0200
TZOFFSETTO:+0100
TZNAME:Europe/Paris CET
END:STANDARD
BEGIN:STANDARD
DTSTART:20211031T020000
RDATE:20220327T030000
TZOFFSETFROM:+0200
TZOFFSETTO:+0100
TZNAME:Europe/Paris CET
END:STANDARD
BEGIN:STANDARD
DTSTART:20221030T020000
RDATE:20230326T030000
TZOFFSETFROM:+0200
TZOFFSETTO:+0100
TZNAME:Europe/Paris CET
END:STANDARD
BEGIN:STANDARD
DTSTART:20231029T020000
RDATE:20240331T030000
TZOFFSETFROM:+0200
TZOFFSETTO:+0100
TZNAME:Europe/Paris CET
END:STANDARD
BEGIN:STANDARD
DTSTART:20241027T020000
RDATE:20250330T030000
TZOFFSETFROM:+0200
TZOFFSETTO:+0100
TZNAME:Europe/Paris CET
END:STANDARD
BEGIN:STANDARD
DTSTART:20251026T020000
RDATE:20260329T030000
TZOFFSETFROM:+0200
TZOFFSETTO:+0100
TZNAME:Europe/Paris CET
END:STANDARD
BEGIN:STANDARD
DTSTART:20261025T020000
RDATE:20270328T030000
TZOFFSETFROM:+0200
TZOFFSETTO:+0100
TZNAME:Europe/Paris CET
END:STANDARD
BEGIN:DAYLIGHT
DTSTART:20140330T030000
RDATE:20141026T020000
TZOFFSETFROM:+0100
TZOFFSETTO:+0200
TZNAME:Europe/Paris CEST
END:DAYLIGHT
BEGIN:DAYLIGHT
DTSTART:20150329T030000
RDATE:20151025T020000
TZOFFSETFROM:+0100
TZOFFSETTO:+0200
TZNAME:Europe/Paris CEST
END:DAYLIGHT
BEGIN:DAYLIGHT
DTSTART:20160327T030000
RDATE:20161030T020000
TZOFFSETFROM:+0100
TZOFFSETTO:+0200
TZNAME:Europe/Paris CEST
END:DAYLIGHT
BEGIN:DAYLIGHT
DTSTART:20170326T030000
RDATE:20171029T020000
TZOFFSETFROM:+0100
TZOFFSETTO:+0200
TZNAME:Europe/Paris CEST
END:DAYLIGHT
BEGIN:DAYLIGHT
DTSTART:20180325T030000
RDATE:20181028T020000
TZOFFSETFROM:+0100
TZOFFSETTO:+0200
TZNAME:Europe/Paris CEST
END:DAYLIGHT
BEGIN:DAYLIGHT
DTSTART:20190331T030000
RDATE:20191027T020000
TZOFFSETFROM:+0100
TZOFFSETTO:+0200
TZNAME:Europe/Paris CEST
END:DAYLIGHT
BEGIN:DAYLIGHT
DTSTART:20200329T030000
RDATE:20201025T020000
TZOFFSETFROM:+0100
TZOFFSETTO:+0200
TZNAME:Europe/Paris CEST
END:DAYLIGHT
BEGIN:DAYLIGHT
DTSTART:20210328T030000
RDATE:20211031T020000
TZOFFSETFROM:+0100
TZOFFSETTO:+0200
TZNAME:Europe/Paris CEST
END:DAYLIGHT
BEGIN:DAYLIGHT
DTSTART:20220327T030000
RDATE:20221030T020000
TZOFFSETFROM:+0100
TZOFFSETTO:+0200
TZNAME:Europe/Paris CEST
END:DAYLIGHT
BEGIN:DAYLIGHT
DTSTART:20230326T030000
RDATE:20231029T020000
TZOFFSETFROM:+0100
TZOFFSETTO:+0200
TZNAME:Europe/Paris CEST
END:DAYLIGHT
BEGIN:DAYLIGHT
DTSTART:20240331T030000
RDATE:20241027T020000
TZOFFSETFROM:+0100
TZOFFSETTO:+0200
TZNAME:Europe/Paris CEST
END:DAYLIGHT
BEGIN:DAYLIGHT
DTSTART:20250330T030000
RDATE:20251026T020000
TZOFFSETFROM:+0100
TZOFFSETTO:+0200
TZNAME:Europe/Paris CEST
END:DAYLIGHT
BEGIN:DAYLIGHT
DTSTART:20260329T030000
RDATE:20261025T020000
TZOFFSETFROM:+0100
TZOFFSETTO:+0200
TZNAME:Europe/Paris CEST
END:DAYLIGHT
END:VTIMEZONE
BEGIN:VEVENT
UID:bffe1c3cfd8c909eff9ea8e03f29fbbc
CATEGORIES:Opens et Promos (alpin)
CREATED:20141127T000322
SUMMARY:OPEN  U8etU10-U12etU14     Open des Téléski du Champ du Feu
URL;VALUE=URI:https://skivosges.net/agenda/export-synchronisation/detailevenement/318/-/o
 pen-u8etu10-u12etu14-open-des-teleski-du-champ-du-feu?tmpl=component
DESCRIPTION:OPEN  U8etU10-U12etU14     Open des Téléski du Champ du Feu\n\nLieu : CHAMP
  DU FEU\nOrganisateur : A.S DES CHEMINOTS STRASBOURG (14071 A.S DES CHEMINO
 TS STRASBOURG)\nEmail : RegularLabs.EmailProtector.unCloak("ep_719e82fa");\
 nTelecopie : 03.88.97.72.85\n\nPortable : 06.87.39.13.83\n\nInscriptions cl
 oses, tirage des dossards en cours\n - AMVF0391  Slalom Geant U12/U14 Fille
 s\n  OPEN  U8etU10-U12etU14     Open des Téléski du Champ du Feu\n - AMVM03
 91  Slalom Geant U12/U14 Garçons\n  OPEN  U8etU10-U12etU14     Open des Tél
 éski du Champ du Feu\n - AMVF0392  Slalom Geant U8/U10 Filles\n  OPEN  U8et
 U10-U12etU14     Open des Téléski du Champ du Feu\n - AMVM0392  Slalom Gean
 t U8/U10 Garçons\n  OPEN  U8etU10-U12etU14     Open des Téléski du Champ du
  Feu Cet évènement a été importé depuis :https://skivosges.net/agenda/expor
 t-synchronisation/detailevenement/318/-/open-u8etu10-u12etu14-open-des-tele
 ski-du-champ-du-feu?tmpl=component
X-ALT-DESC;FMTTYPE=text/html:<strong>OPEN  U8etU10-U12etU14     Open des Téléski du Champ du Feu</strong
 ><br /><br />Lieu : CHAMP DU FEU<br />Organisateur : A.S DES CHEMINOTS STRA
 SBOURG <small>(14071 A.S DES CHEMINOTS STRASBOURG)</small><br />Email : <!-
 - Cette adresse électronique est protégée contre les robots spammeurs. --><
 span class="cloaked_email ep_719e82fa"><span data-ep-a="herv&#101;" data-ep
 -b=""><span data-ep-b="&#101;&#46;ne&#116;" data-ep-a=".&#98;&#114;i&#103;"
 ><span data-ep-b="&#97;&#112;ost" data-ep-a="&#110;&#111;&#110;&#64;&#108;"
 ></span></span></span></span><script>RegularLabs.EmailProtector.unCloak("ep
 _719e82fa");</script><br />Telecopie : 03.88.97.72.85<br /><br />Portable :
  06.87.39.13.83<br /><br />Inscriptions closes, tirage des dossards en cour
 s<ul type="disc"><li>AMVF0391  Slalom Geant <nobr>U12/U14</nobr> Filles<br 
 />&nbsp;&nbsp;OPEN  U8etU10-U12etU14     Open des Téléski du Champ du Feu</
 li><li>AMVM0391  Slalom Geant <nobr>U12/U14</nobr> Garçons<br />&nbsp;&nbsp
 ;OPEN  U8etU10-U12etU14     Open des Téléski du Champ du Feu</li><li>AMVF03
 92  Slalom Geant <nobr>U8/U10</nobr> Filles<br />&nbsp;&nbsp;OPEN  U8etU10-
 U12etU14     Open des Téléski du Champ du Feu</li><li>AMVM0392  Slalom Gean
 t <nobr>U8/U10</nobr> Garçons<br />&nbsp;&nbsp;OPEN  U8etU10-U12etU14     O
 pen des Téléski du Champ du Feu</li></ul> <a href="https://skivosges.net/ag
 enda/export-synchronisation/detailevenement/318/-/open-u8etu10-u12etu14-ope
 n-des-teleski-du-champ-du-feu?tmpl=component">Cet évènement a été importé d
 epuis :https://skivosges.net/agenda/export-synchronisation/detailevenement/
 318/-/open-u8etu10-u12etu14-open-des-teleski-du-champ-du-feu?tmpl=component
 </a>DTSTAMP:20260420T220826
DTSTART;TZID=Europe/Paris:20150201T080000
DTEND;TZID=Europe/Paris:20150201T170000
SEQUENCE:0
TRANSP:OPAQUE
END:VEVENT
END:VCALENDAR