BEGIN:VCALENDAR
VERSION:2.0
PRODID:-//jEvents 2.0 for Joomla//EN
CALSCALE:GREGORIAN
METHOD:PUBLISH
BEGIN:VTIMEZONE
TZID:Europe/Paris
BEGIN:STANDARD
DTSTART:20140207T080000
RDATE:20140330T030000
TZOFFSETFROM:+0200
TZOFFSETTO:+0100
TZNAME:Europe/Paris CET
END:STANDARD
BEGIN:STANDARD
DTSTART:20141026T020000
RDATE:20150329T030000
TZOFFSETFROM:+0200
TZOFFSETTO:+0100
TZNAME:Europe/Paris CET
END:STANDARD
BEGIN:STANDARD
DTSTART:20151025T020000
RDATE:20160327T030000
TZOFFSETFROM:+0200
TZOFFSETTO:+0100
TZNAME:Europe/Paris CET
END:STANDARD
BEGIN:STANDARD
DTSTART:20161030T020000
RDATE:20170326T030000
TZOFFSETFROM:+0200
TZOFFSETTO:+0100
TZNAME:Europe/Paris CET
END:STANDARD
BEGIN:STANDARD
DTSTART:20171029T020000
RDATE:20180325T030000
TZOFFSETFROM:+0200
TZOFFSETTO:+0100
TZNAME:Europe/Paris CET
END:STANDARD
BEGIN:STANDARD
DTSTART:20181028T020000
RDATE:20190331T030000
TZOFFSETFROM:+0200
TZOFFSETTO:+0100
TZNAME:Europe/Paris CET
END:STANDARD
BEGIN:STANDARD
DTSTART:20191027T020000
RDATE:20200329T030000
TZOFFSETFROM:+0200
TZOFFSETTO:+0100
TZNAME:Europe/Paris CET
END:STANDARD
BEGIN:STANDARD
DTSTART:20201025T020000
RDATE:20210328T030000
TZOFFSETFROM:+0200
TZOFFSETTO:+0100
TZNAME:Europe/Paris CET
END:STANDARD
BEGIN:STANDARD
DTSTART:20211031T020000
RDATE:20220327T030000
TZOFFSETFROM:+0200
TZOFFSETTO:+0100
TZNAME:Europe/Paris CET
END:STANDARD
BEGIN:STANDARD
DTSTART:20221030T020000
RDATE:20230326T030000
TZOFFSETFROM:+0200
TZOFFSETTO:+0100
TZNAME:Europe/Paris CET
END:STANDARD
BEGIN:STANDARD
DTSTART:20231029T020000
RDATE:20240331T030000
TZOFFSETFROM:+0200
TZOFFSETTO:+0100
TZNAME:Europe/Paris CET
END:STANDARD
BEGIN:STANDARD
DTSTART:20241027T020000
RDATE:20250330T030000
TZOFFSETFROM:+0200
TZOFFSETTO:+0100
TZNAME:Europe/Paris CET
END:STANDARD
BEGIN:STANDARD
DTSTART:20251026T020000
RDATE:20260329T030000
TZOFFSETFROM:+0200
TZOFFSETTO:+0100
TZNAME:Europe/Paris CET
END:STANDARD
BEGIN:STANDARD
DTSTART:20261025T020000
RDATE:20270328T030000
TZOFFSETFROM:+0200
TZOFFSETTO:+0100
TZNAME:Europe/Paris CET
END:STANDARD
BEGIN:DAYLIGHT
DTSTART:20140330T030000
RDATE:20141026T020000
TZOFFSETFROM:+0100
TZOFFSETTO:+0200
TZNAME:Europe/Paris CEST
END:DAYLIGHT
BEGIN:DAYLIGHT
DTSTART:20150329T030000
RDATE:20151025T020000
TZOFFSETFROM:+0100
TZOFFSETTO:+0200
TZNAME:Europe/Paris CEST
END:DAYLIGHT
BEGIN:DAYLIGHT
DTSTART:20160327T030000
RDATE:20161030T020000
TZOFFSETFROM:+0100
TZOFFSETTO:+0200
TZNAME:Europe/Paris CEST
END:DAYLIGHT
BEGIN:DAYLIGHT
DTSTART:20170326T030000
RDATE:20171029T020000
TZOFFSETFROM:+0100
TZOFFSETTO:+0200
TZNAME:Europe/Paris CEST
END:DAYLIGHT
BEGIN:DAYLIGHT
DTSTART:20180325T030000
RDATE:20181028T020000
TZOFFSETFROM:+0100
TZOFFSETTO:+0200
TZNAME:Europe/Paris CEST
END:DAYLIGHT
BEGIN:DAYLIGHT
DTSTART:20190331T030000
RDATE:20191027T020000
TZOFFSETFROM:+0100
TZOFFSETTO:+0200
TZNAME:Europe/Paris CEST
END:DAYLIGHT
BEGIN:DAYLIGHT
DTSTART:20200329T030000
RDATE:20201025T020000
TZOFFSETFROM:+0100
TZOFFSETTO:+0200
TZNAME:Europe/Paris CEST
END:DAYLIGHT
BEGIN:DAYLIGHT
DTSTART:20210328T030000
RDATE:20211031T020000
TZOFFSETFROM:+0100
TZOFFSETTO:+0200
TZNAME:Europe/Paris CEST
END:DAYLIGHT
BEGIN:DAYLIGHT
DTSTART:20220327T030000
RDATE:20221030T020000
TZOFFSETFROM:+0100
TZOFFSETTO:+0200
TZNAME:Europe/Paris CEST
END:DAYLIGHT
BEGIN:DAYLIGHT
DTSTART:20230326T030000
RDATE:20231029T020000
TZOFFSETFROM:+0100
TZOFFSETTO:+0200
TZNAME:Europe/Paris CEST
END:DAYLIGHT
BEGIN:DAYLIGHT
DTSTART:20240331T030000
RDATE:20241027T020000
TZOFFSETFROM:+0100
TZOFFSETTO:+0200
TZNAME:Europe/Paris CEST
END:DAYLIGHT
BEGIN:DAYLIGHT
DTSTART:20250330T030000
RDATE:20251026T020000
TZOFFSETFROM:+0100
TZOFFSETTO:+0200
TZNAME:Europe/Paris CEST
END:DAYLIGHT
BEGIN:DAYLIGHT
DTSTART:20260329T030000
RDATE:20261025T020000
TZOFFSETFROM:+0100
TZOFFSETTO:+0200
TZNAME:Europe/Paris CEST
END:DAYLIGHT
END:VTIMEZONE
BEGIN:VEVENT
UID:c9fd20e31a956138ab869c5576990cdd
CATEGORIES:Circuit Lorraine Jeunes (alpin)
CREATED:20141127T000322
SUMMARY:CLJ  U10-U12-U14      Prix Maurice Grosjean
URL;VALUE=URI:https://skivosges.net/agenda/export-synchronisation/detailevenement/327/-/c
 lj-u10-u12-u14-prix-maurice-grosjean?tmpl=component
DESCRIPTION:CLJ  U10-U12-U14      Prix Maurice Grosjean \n(Coupe de Lorraine Jeunes)\n\
 nLieu : BUSSANG LARCENAIRE\nOrganisateur : UNION SPORTIVE BUSSANG (14007 UN
 ION SPORTIVE BUSSANG)\nEmail : RegularLabs.EmailProtector.unCloak("ep_535e5
 806");\nTelecopie : 0780028040\n\nInscriptions closes, les listes de départ
  sont visualisables sur ce site\n - AMVF0451  Slalom (Coupe de Bronze) U14 
 Filles\n  CLJ  U10-U12-U14      Prix Maurice Grosjean\n - AMVM0451  Slalom 
 (Coupe de Bronze) U14 Garçons\n  CLJ  U10-U12-U14      Prix Maurice Grosjea
 n\n - AMVF0452  Slalom (Coupe de Bronze) U12 Filles\n  CLJ  U10-U12-U14    
   Prix Maurice Grosjean\n - AMVM0452  Slalom (Coupe de Bronze) U12 Garçons\
 n  CLJ  U10-U12-U14      Prix Maurice Grosjean\n - AMVF0453  Slalom (Coupe 
 de Bronze) U8/U10 Filles\n  CLJ  U10-U12-U14      Prix Maurice Grosjean\n -
  AMVM0453  Slalom (Coupe de Bronze) U8/U10 Garçons\n  CLJ  U10-U12-U14     
  Prix Maurice Grosjean Cet évènement a été importé depuis :https://skivosge
 s.net/agenda/export-synchronisation/detailevenement/327/-/clj-u10-u12-u14-p
 rix-maurice-grosjean?tmpl=component
X-ALT-DESC;FMTTYPE=text/html:<strong>CLJ  U10-U12-U14      Prix Maurice Grosjean</strong> <br /><i>(Coup
 e de Lorraine Jeunes)</i><br /><br />Lieu : BUSSANG LARCENAIRE<br />Organis
 ateur : UNION SPORTIVE BUSSANG <small>(14007 UNION SPORTIVE BUSSANG)</small
 ><br />Email : <!-- Cette adresse électronique est protégée contre les robo
 ts spammeurs. --><span class="cloaked_email ep_535e5806"><span data-ep-a="&
 #100;&#97;n&#105;&#101;" data-ep-b=""><span data-ep-b="&#111;&#111;&#46;&#1
 02;&#114;" data-ep-a="&#108;&#46;&#109;&#111;&#114;"><span data-ep-a="e&#10
 8;&#50;5&#64;" data-ep-b="w&#97;&#110;&#97;&#100;"></span></span></span></s
 pan><script>RegularLabs.EmailProtector.unCloak("ep_535e5806");</script><br 
 />Telecopie : 0780028040<br /><br />Inscriptions closes, les listes de dépa
 rt sont visualisables sur ce site<ul type="disc"><li>AMVF0451  Slalom <nobr
 ><i>(Coupe de Bronze)</i></nobr> <nobr>U14</nobr> Filles<br />&nbsp;&nbsp;C
 LJ  U10-U12-U14      Prix Maurice Grosjean</li><li>AMVM0451  Slalom <nobr><
 i>(Coupe de Bronze)</i></nobr> <nobr>U14</nobr> Garçons<br />&nbsp;&nbsp;CL
 J  U10-U12-U14      Prix Maurice Grosjean</li><li>AMVF0452  Slalom <nobr><i
 >(Coupe de Bronze)</i></nobr> <nobr>U12</nobr> Filles<br />&nbsp;&nbsp;CLJ 
  U10-U12-U14      Prix Maurice Grosjean</li><li>AMVM0452  Slalom <nobr><i>(
 Coupe de Bronze)</i></nobr> <nobr>U12</nobr> Garçons<br />&nbsp;&nbsp;CLJ  
 U10-U12-U14      Prix Maurice Grosjean</li><li>AMVF0453  Slalom <nobr><i>(C
 oupe de Bronze)</i></nobr> <nobr>U8/U10</nobr> Filles<br />&nbsp;&nbsp;CLJ 
  U10-U12-U14      Prix Maurice Grosjean</li><li>AMVM0453  Slalom <nobr><i>(
 Coupe de Bronze)</i></nobr> <nobr>U8/U10</nobr> Garçons<br />&nbsp;&nbsp;CL
 J  U10-U12-U14      Prix Maurice Grosjean</li></ul> <a href="https://skivos
 ges.net/agenda/export-synchronisation/detailevenement/327/-/clj-u10-u12-u14
 -prix-maurice-grosjean?tmpl=component">Cet évènement a été importé depuis :
 https://skivosges.net/agenda/export-synchronisation/detailevenement/327/-/c
 lj-u10-u12-u14-prix-maurice-grosjean?tmpl=component</a>DTSTAMP:20260420T220558
DTSTART;TZID=Europe/Paris:20150208T080000
DTEND;TZID=Europe/Paris:20150208T170000
SEQUENCE:0
TRANSP:OPAQUE
END:VEVENT
END:VCALENDAR