BEGIN:VCALENDAR
VERSION:2.0
PRODID:-//jEvents 2.0 for Joomla//EN
CALSCALE:GREGORIAN
METHOD:PUBLISH
BEGIN:VTIMEZONE
TZID:Europe/Paris
BEGIN:STANDARD
DTSTART:20140207T080000
RDATE:20140330T030000
TZOFFSETFROM:+0200
TZOFFSETTO:+0100
TZNAME:Europe/Paris CET
END:STANDARD
BEGIN:STANDARD
DTSTART:20141026T020000
RDATE:20150329T030000
TZOFFSETFROM:+0200
TZOFFSETTO:+0100
TZNAME:Europe/Paris CET
END:STANDARD
BEGIN:STANDARD
DTSTART:20151025T020000
RDATE:20160327T030000
TZOFFSETFROM:+0200
TZOFFSETTO:+0100
TZNAME:Europe/Paris CET
END:STANDARD
BEGIN:STANDARD
DTSTART:20161030T020000
RDATE:20170326T030000
TZOFFSETFROM:+0200
TZOFFSETTO:+0100
TZNAME:Europe/Paris CET
END:STANDARD
BEGIN:STANDARD
DTSTART:20171029T020000
RDATE:20180325T030000
TZOFFSETFROM:+0200
TZOFFSETTO:+0100
TZNAME:Europe/Paris CET
END:STANDARD
BEGIN:STANDARD
DTSTART:20181028T020000
RDATE:20190331T030000
TZOFFSETFROM:+0200
TZOFFSETTO:+0100
TZNAME:Europe/Paris CET
END:STANDARD
BEGIN:STANDARD
DTSTART:20191027T020000
RDATE:20200329T030000
TZOFFSETFROM:+0200
TZOFFSETTO:+0100
TZNAME:Europe/Paris CET
END:STANDARD
BEGIN:STANDARD
DTSTART:20201025T020000
RDATE:20210328T030000
TZOFFSETFROM:+0200
TZOFFSETTO:+0100
TZNAME:Europe/Paris CET
END:STANDARD
BEGIN:STANDARD
DTSTART:20211031T020000
RDATE:20220327T030000
TZOFFSETFROM:+0200
TZOFFSETTO:+0100
TZNAME:Europe/Paris CET
END:STANDARD
BEGIN:STANDARD
DTSTART:20221030T020000
RDATE:20230326T030000
TZOFFSETFROM:+0200
TZOFFSETTO:+0100
TZNAME:Europe/Paris CET
END:STANDARD
BEGIN:STANDARD
DTSTART:20231029T020000
RDATE:20240331T030000
TZOFFSETFROM:+0200
TZOFFSETTO:+0100
TZNAME:Europe/Paris CET
END:STANDARD
BEGIN:STANDARD
DTSTART:20241027T020000
RDATE:20250330T030000
TZOFFSETFROM:+0200
TZOFFSETTO:+0100
TZNAME:Europe/Paris CET
END:STANDARD
BEGIN:STANDARD
DTSTART:20251026T020000
RDATE:20260329T030000
TZOFFSETFROM:+0200
TZOFFSETTO:+0100
TZNAME:Europe/Paris CET
END:STANDARD
BEGIN:STANDARD
DTSTART:20261025T020000
RDATE:20270328T030000
TZOFFSETFROM:+0200
TZOFFSETTO:+0100
TZNAME:Europe/Paris CET
END:STANDARD
BEGIN:DAYLIGHT
DTSTART:20140330T030000
RDATE:20141026T020000
TZOFFSETFROM:+0100
TZOFFSETTO:+0200
TZNAME:Europe/Paris CEST
END:DAYLIGHT
BEGIN:DAYLIGHT
DTSTART:20150329T030000
RDATE:20151025T020000
TZOFFSETFROM:+0100
TZOFFSETTO:+0200
TZNAME:Europe/Paris CEST
END:DAYLIGHT
BEGIN:DAYLIGHT
DTSTART:20160327T030000
RDATE:20161030T020000
TZOFFSETFROM:+0100
TZOFFSETTO:+0200
TZNAME:Europe/Paris CEST
END:DAYLIGHT
BEGIN:DAYLIGHT
DTSTART:20170326T030000
RDATE:20171029T020000
TZOFFSETFROM:+0100
TZOFFSETTO:+0200
TZNAME:Europe/Paris CEST
END:DAYLIGHT
BEGIN:DAYLIGHT
DTSTART:20180325T030000
RDATE:20181028T020000
TZOFFSETFROM:+0100
TZOFFSETTO:+0200
TZNAME:Europe/Paris CEST
END:DAYLIGHT
BEGIN:DAYLIGHT
DTSTART:20190331T030000
RDATE:20191027T020000
TZOFFSETFROM:+0100
TZOFFSETTO:+0200
TZNAME:Europe/Paris CEST
END:DAYLIGHT
BEGIN:DAYLIGHT
DTSTART:20200329T030000
RDATE:20201025T020000
TZOFFSETFROM:+0100
TZOFFSETTO:+0200
TZNAME:Europe/Paris CEST
END:DAYLIGHT
BEGIN:DAYLIGHT
DTSTART:20210328T030000
RDATE:20211031T020000
TZOFFSETFROM:+0100
TZOFFSETTO:+0200
TZNAME:Europe/Paris CEST
END:DAYLIGHT
BEGIN:DAYLIGHT
DTSTART:20220327T030000
RDATE:20221030T020000
TZOFFSETFROM:+0100
TZOFFSETTO:+0200
TZNAME:Europe/Paris CEST
END:DAYLIGHT
BEGIN:DAYLIGHT
DTSTART:20230326T030000
RDATE:20231029T020000
TZOFFSETFROM:+0100
TZOFFSETTO:+0200
TZNAME:Europe/Paris CEST
END:DAYLIGHT
BEGIN:DAYLIGHT
DTSTART:20240331T030000
RDATE:20241027T020000
TZOFFSETFROM:+0100
TZOFFSETTO:+0200
TZNAME:Europe/Paris CEST
END:DAYLIGHT
BEGIN:DAYLIGHT
DTSTART:20250330T030000
RDATE:20251026T020000
TZOFFSETFROM:+0100
TZOFFSETTO:+0200
TZNAME:Europe/Paris CEST
END:DAYLIGHT
BEGIN:DAYLIGHT
DTSTART:20260329T030000
RDATE:20261025T020000
TZOFFSETFROM:+0100
TZOFFSETTO:+0200
TZNAME:Europe/Paris CEST
END:DAYLIGHT
END:VTIMEZONE
BEGIN:VEVENT
UID:8836215e2f240b7c6ab32245a2d6a9d8
CATEGORIES:Circuit Alsace Jeunes (alpin)
CREATED:20141127T000322
SUMMARY:CAJ  U8 U10-U12etU14 Mémorial Olivier Kling
URL;VALUE=URI:https://skivosges.net/agenda/export-synchronisation/detailevenement/329/-/c
 aj-u8-u10-u12etu14-memorial-olivier-kling?tmpl=component
DESCRIPTION:CAJ  U8 U10-U12etU14 Mémorial Olivier Kling \n(Coupe d'Alsace Jeunes)\n\nLi
 eu : LE TANET\nOrganisateur : SKIEURS DU TANET (14199 SKIEURS DU TANET)\nEm
 ail : RegularLabs.EmailProtector.unCloak("ep_bea391fe");\n\nDossards à reti
 rer à l´Auberge du Saestaedle\n\nInscriptions closes, les listes de départ 
 sont visualisables sur ce site\n - AMVF0471  Slalom Geant (Coupe de Bronze)
  U12/U14 Filles\n  CAJ  U10-U12etU14     Mémorial Olivier Kling\n - AMVM047
 1  Slalom Geant (Coupe de Bronze) U12/U14 Garçons\n  CAJ  U10-U12etU14     
 Mémorial Olivier Kling\n - AMVF0472  Slalom Geant (Coupe de Bronze) U8/U10 
 Filles\n  CAJ  U10-U12etU14     Mémorial Olivier Kling\n - AMVM0472  Slalom
  Geant (Coupe de Bronze) U8/U10 Garçons\n  CAJ  U10-U12etU14     Mémorial O
 livier Kling Cet évènement a été importé depuis :https://skivosges.net/agen
 da/export-synchronisation/detailevenement/329/-/caj-u8-u10-u12etu14-memoria
 l-olivier-kling?tmpl=component
X-ALT-DESC;FMTTYPE=text/html:<strong>CAJ  U8 U10-U12etU14 Mémorial Olivier Kling</strong> <br /><i>(Coup
 e d'Alsace Jeunes)</i><br /><br />Lieu : LE TANET<br />Organisateur : SKIEU
 RS DU TANET <small>(14199 SKIEURS DU TANET)</small><br />Email : <!-- Cette
  adresse électronique est protégée contre les robots spammeurs. --><span cl
 ass="cloaked_email ep_bea391fe"><span data-ep-b="r" data-ep-a="&#109;&#97;&
 #114;c"><span data-ep-a="&#104;a&#110;&#100;" data-ep-b="&#101;&#101;&#46;f
 "><span data-ep-b="&#105;&#64;f&#114;" data-ep-a="&#99;&#97;p&#104;"></span
 ></span></span></span><script>RegularLabs.EmailProtector.unCloak("ep_bea391
 fe");</script><br /><br />Dossards à retirer à l´Auberge du Saestaedle<br /
 ><br />Inscriptions closes, les listes de départ sont visualisables sur ce 
 site<ul type="disc"><li>AMVF0471  Slalom Geant <nobr><i>(Coupe de Bronze)</
 i></nobr> <nobr>U12/U14</nobr> Filles<br />&nbsp;&nbsp;CAJ  U10-U12etU14   
   Mémorial Olivier Kling</li><li>AMVM0471  Slalom Geant <nobr><i>(Coupe de 
 Bronze)</i></nobr> <nobr>U12/U14</nobr> Garçons<br />&nbsp;&nbsp;CAJ  U10-U
 12etU14     Mémorial Olivier Kling</li><li>AMVF0472  Slalom Geant <nobr><i>
 (Coupe de Bronze)</i></nobr> <nobr>U8/U10</nobr> Filles<br />&nbsp;&nbsp;CA
 J  U10-U12etU14     Mémorial Olivier Kling</li><li>AMVM0472  Slalom Geant <
 nobr><i>(Coupe de Bronze)</i></nobr> <nobr>U8/U10</nobr> Garçons<br />&nbsp
 ;&nbsp;CAJ  U10-U12etU14     Mémorial Olivier Kling</li></ul> <a href="http
 s://skivosges.net/agenda/export-synchronisation/detailevenement/329/-/caj-u
 8-u10-u12etu14-memorial-olivier-kling?tmpl=component">Cet évènement a été i
 mporté depuis :https://skivosges.net/agenda/export-synchronisation/detailev
 enement/329/-/caj-u8-u10-u12etu14-memorial-olivier-kling?tmpl=component</a>DTSTAMP:20260420T220749
DTSTART;TZID=Europe/Paris:20150208T080000
DTEND;TZID=Europe/Paris:20150208T170000
SEQUENCE:0
TRANSP:OPAQUE
END:VEVENT
END:VCALENDAR