BEGIN:VCALENDAR
VERSION:2.0
PRODID:-//jEvents 2.0 for Joomla//EN
CALSCALE:GREGORIAN
METHOD:PUBLISH
BEGIN:VTIMEZONE
TZID:Europe/Paris
BEGIN:STANDARD
DTSTART:20140213T080000
RDATE:20140330T030000
TZOFFSETFROM:+0200
TZOFFSETTO:+0100
TZNAME:Europe/Paris CET
END:STANDARD
BEGIN:STANDARD
DTSTART:20141026T020000
RDATE:20150329T030000
TZOFFSETFROM:+0200
TZOFFSETTO:+0100
TZNAME:Europe/Paris CET
END:STANDARD
BEGIN:STANDARD
DTSTART:20151025T020000
RDATE:20160327T030000
TZOFFSETFROM:+0200
TZOFFSETTO:+0100
TZNAME:Europe/Paris CET
END:STANDARD
BEGIN:STANDARD
DTSTART:20161030T020000
RDATE:20170326T030000
TZOFFSETFROM:+0200
TZOFFSETTO:+0100
TZNAME:Europe/Paris CET
END:STANDARD
BEGIN:STANDARD
DTSTART:20171029T020000
RDATE:20180325T030000
TZOFFSETFROM:+0200
TZOFFSETTO:+0100
TZNAME:Europe/Paris CET
END:STANDARD
BEGIN:STANDARD
DTSTART:20181028T020000
RDATE:20190331T030000
TZOFFSETFROM:+0200
TZOFFSETTO:+0100
TZNAME:Europe/Paris CET
END:STANDARD
BEGIN:STANDARD
DTSTART:20191027T020000
RDATE:20200329T030000
TZOFFSETFROM:+0200
TZOFFSETTO:+0100
TZNAME:Europe/Paris CET
END:STANDARD
BEGIN:STANDARD
DTSTART:20201025T020000
RDATE:20210328T030000
TZOFFSETFROM:+0200
TZOFFSETTO:+0100
TZNAME:Europe/Paris CET
END:STANDARD
BEGIN:STANDARD
DTSTART:20211031T020000
RDATE:20220327T030000
TZOFFSETFROM:+0200
TZOFFSETTO:+0100
TZNAME:Europe/Paris CET
END:STANDARD
BEGIN:STANDARD
DTSTART:20221030T020000
RDATE:20230326T030000
TZOFFSETFROM:+0200
TZOFFSETTO:+0100
TZNAME:Europe/Paris CET
END:STANDARD
BEGIN:STANDARD
DTSTART:20231029T020000
RDATE:20240331T030000
TZOFFSETFROM:+0200
TZOFFSETTO:+0100
TZNAME:Europe/Paris CET
END:STANDARD
BEGIN:STANDARD
DTSTART:20241027T020000
RDATE:20250330T030000
TZOFFSETFROM:+0200
TZOFFSETTO:+0100
TZNAME:Europe/Paris CET
END:STANDARD
BEGIN:STANDARD
DTSTART:20251026T020000
RDATE:20260329T030000
TZOFFSETFROM:+0200
TZOFFSETTO:+0100
TZNAME:Europe/Paris CET
END:STANDARD
BEGIN:STANDARD
DTSTART:20261025T020000
RDATE:20270328T030000
TZOFFSETFROM:+0200
TZOFFSETTO:+0100
TZNAME:Europe/Paris CET
END:STANDARD
BEGIN:DAYLIGHT
DTSTART:20140330T030000
RDATE:20141026T020000
TZOFFSETFROM:+0100
TZOFFSETTO:+0200
TZNAME:Europe/Paris CEST
END:DAYLIGHT
BEGIN:DAYLIGHT
DTSTART:20150329T030000
RDATE:20151025T020000
TZOFFSETFROM:+0100
TZOFFSETTO:+0200
TZNAME:Europe/Paris CEST
END:DAYLIGHT
BEGIN:DAYLIGHT
DTSTART:20160327T030000
RDATE:20161030T020000
TZOFFSETFROM:+0100
TZOFFSETTO:+0200
TZNAME:Europe/Paris CEST
END:DAYLIGHT
BEGIN:DAYLIGHT
DTSTART:20170326T030000
RDATE:20171029T020000
TZOFFSETFROM:+0100
TZOFFSETTO:+0200
TZNAME:Europe/Paris CEST
END:DAYLIGHT
BEGIN:DAYLIGHT
DTSTART:20180325T030000
RDATE:20181028T020000
TZOFFSETFROM:+0100
TZOFFSETTO:+0200
TZNAME:Europe/Paris CEST
END:DAYLIGHT
BEGIN:DAYLIGHT
DTSTART:20190331T030000
RDATE:20191027T020000
TZOFFSETFROM:+0100
TZOFFSETTO:+0200
TZNAME:Europe/Paris CEST
END:DAYLIGHT
BEGIN:DAYLIGHT
DTSTART:20200329T030000
RDATE:20201025T020000
TZOFFSETFROM:+0100
TZOFFSETTO:+0200
TZNAME:Europe/Paris CEST
END:DAYLIGHT
BEGIN:DAYLIGHT
DTSTART:20210328T030000
RDATE:20211031T020000
TZOFFSETFROM:+0100
TZOFFSETTO:+0200
TZNAME:Europe/Paris CEST
END:DAYLIGHT
BEGIN:DAYLIGHT
DTSTART:20220327T030000
RDATE:20221030T020000
TZOFFSETFROM:+0100
TZOFFSETTO:+0200
TZNAME:Europe/Paris CEST
END:DAYLIGHT
BEGIN:DAYLIGHT
DTSTART:20230326T030000
RDATE:20231029T020000
TZOFFSETFROM:+0100
TZOFFSETTO:+0200
TZNAME:Europe/Paris CEST
END:DAYLIGHT
BEGIN:DAYLIGHT
DTSTART:20240331T030000
RDATE:20241027T020000
TZOFFSETFROM:+0100
TZOFFSETTO:+0200
TZNAME:Europe/Paris CEST
END:DAYLIGHT
BEGIN:DAYLIGHT
DTSTART:20250330T030000
RDATE:20251026T020000
TZOFFSETFROM:+0100
TZOFFSETTO:+0200
TZNAME:Europe/Paris CEST
END:DAYLIGHT
BEGIN:DAYLIGHT
DTSTART:20260329T030000
RDATE:20261025T020000
TZOFFSETFROM:+0100
TZOFFSETTO:+0200
TZNAME:Europe/Paris CEST
END:DAYLIGHT
END:VTIMEZONE
BEGIN:VEVENT
UID:c5bdafca68d0ee3ebce83c230d190668
CATEGORIES:Autres Épreuves (alpin)
CREATED:20141127T000322
SUMMARY:Ski Chrono National Tour Technique Le Lac Blanc
URL;VALUE=URI:https://skivosges.net/agenda/export-synchronisation/detailevenement/332/-/s
 ki-chrono-national-tour-technique-le-lac-blanc?tmpl=component
DESCRIPTION:Ski Chrono National Tour Technique Le Lac Blanc\nOrganisateur : SKIEURS DE 
 STRASBOURG (14077 SKIEURS DE STRASBOURG)\nEmail : RegularLabs.EmailProtecto
 r.unCloak("ep_8e5793ed");\nTelecopie : 33(388) 33 08 6\nTelecopie : 33(388)
  81 16 6\n\nInscriptions en cours sur ce site\n  Piste:Le Lac Blanc\n - Le 
 14/02/2015 à 00:00:00\n748  Slalom Geant Toutes les Categories Hommes\n  Sk
 i Chrono National Tour Technique Le Lac Blanc\n  Piste:Le Lac Blanc\n - Le 
 15/02/2015 à 00:00:00\n749  Slalom Geant Toutes les Categories Hommes\n  Sk
 i Chrono National Tour Technique Le Lac Blanc\n  Piste:Le Lac Blanc\n - Le 
 16/02/2015 à 00:00:00\n751  Slalom Toutes les Categories Hommes\n  Ski Chro
 no National Tour Technique Le Lac Blanc\n  Piste:Le Lac Blanc\n - Le 17/02/
 2015 à 00:00:00\n752  Slalom Toutes les Categories Hommes\n  Ski Chrono Nat
 ional Tour Technique Le Lac Blanc Cet évènement a été importé depuis :https
 ://skivosges.net/agenda/export-synchronisation/detailevenement/332/-/ski-ch
 rono-national-tour-technique-le-lac-blanc?tmpl=component (https://skivosges
 .net/agenda/export-synchronisation/detailevenement/332/-/ski-chrono-nationa
 l-tour-technique-le-lac-blanc?tmpl=component)
X-ALT-DESC;FMTTYPE=text/html:<strong>Ski Chrono National Tour Technique Le Lac Blanc</strong><br />Organ
 isateur : SKIEURS DE STRASBOURG <small>(14077 SKIEURS DE STRASBOURG)</small
 ><br />Email : <!-- Cette adresse électronique est protégée contre les robo
 ts spammeurs. --><span class="cloaked_email ep_8e5793ed"><span data-ep-b="&
 #46;fr" data-ep-a="&#106;&#101;&#97;&#110;&#45;"><span data-ep-a="&#99;l&#9
 7;&#117;&#100;" data-ep-b="r&#97;&#110;&#103;&#101;"><span data-ep-b="&#119
 ;&#101;g&#64;o" data-ep-a="e.h&#111;&#108;"></span></span></span></span><sc
 ript>RegularLabs.EmailProtector.unCloak("ep_8e5793ed");</script><br />Telec
 opie : 33(388) 33 08 6<br />Telecopie : 33(388) 81 16 6<br /><br />Inscript
 ions en cours sur ce site<ul type="disc"><br />&nbsp;&nbsp;Piste:Le Lac Bla
 nc<li><nobr>Le 14/02/2015 à 00:00:00</nobr><br />748  Slalom Geant <nobr>To
 utes les Categories</nobr> Hommes<br />&nbsp;&nbsp;Ski Chrono National Tour
  Technique Le Lac Blanc</li><br />&nbsp;&nbsp;Piste:Le Lac Blanc<li><nobr>L
 e 15/02/2015 à 00:00:00</nobr><br />749  Slalom Geant <nobr>Toutes les Cate
 gories</nobr> Hommes<br />&nbsp;&nbsp;Ski Chrono National Tour Technique Le
  Lac Blanc</li><br />&nbsp;&nbsp;Piste:Le Lac Blanc<li><nobr>Le 16/02/2015 
 à 00:00:00</nobr><br />751  Slalom <nobr>Toutes les Categories</nobr> Homme
 s<br />&nbsp;&nbsp;Ski Chrono National Tour Technique Le Lac Blanc</li><br 
 />&nbsp;&nbsp;Piste:Le Lac Blanc<li><nobr>Le 17/02/2015 à 00:00:00</nobr><b
 r />752  Slalom <nobr>Toutes les Categories</nobr> Hommes<br />&nbsp;&nbsp;
 Ski Chrono National Tour Technique Le Lac Blanc</li></ul> <a href="https://
 skivosges.net/agenda/export-synchronisation/detailevenement/332/-/ski-chron
 o-national-tour-technique-le-lac-blanc?tmpl=component">Cet évènement a été 
 importé depuis :https://skivosges.net/agenda/export-synchronisation/detaile
 venement/332/-/ski-chrono-national-tour-technique-le-lac-blanc?tmpl=compone
 nt</a>DTSTAMP:20260420T220512
DTSTART;TZID=Europe/Paris:20150214T080000
DTEND;TZID=Europe/Paris:20150217T170000
SEQUENCE:0
TRANSP:OPAQUE
END:VEVENT
END:VCALENDAR