BEGIN:VCALENDAR
VERSION:2.0
PRODID:-//jEvents 2.0 for Joomla//EN
CALSCALE:GREGORIAN
METHOD:PUBLISH
BEGIN:VTIMEZONE
TZID:Europe/Paris
BEGIN:STANDARD
DTSTART:20140214T080000
RDATE:20140330T030000
TZOFFSETFROM:+0200
TZOFFSETTO:+0100
TZNAME:Europe/Paris CET
END:STANDARD
BEGIN:STANDARD
DTSTART:20141026T020000
RDATE:20150329T030000
TZOFFSETFROM:+0200
TZOFFSETTO:+0100
TZNAME:Europe/Paris CET
END:STANDARD
BEGIN:STANDARD
DTSTART:20151025T020000
RDATE:20160327T030000
TZOFFSETFROM:+0200
TZOFFSETTO:+0100
TZNAME:Europe/Paris CET
END:STANDARD
BEGIN:STANDARD
DTSTART:20161030T020000
RDATE:20170326T030000
TZOFFSETFROM:+0200
TZOFFSETTO:+0100
TZNAME:Europe/Paris CET
END:STANDARD
BEGIN:STANDARD
DTSTART:20171029T020000
RDATE:20180325T030000
TZOFFSETFROM:+0200
TZOFFSETTO:+0100
TZNAME:Europe/Paris CET
END:STANDARD
BEGIN:STANDARD
DTSTART:20181028T020000
RDATE:20190331T030000
TZOFFSETFROM:+0200
TZOFFSETTO:+0100
TZNAME:Europe/Paris CET
END:STANDARD
BEGIN:STANDARD
DTSTART:20191027T020000
RDATE:20200329T030000
TZOFFSETFROM:+0200
TZOFFSETTO:+0100
TZNAME:Europe/Paris CET
END:STANDARD
BEGIN:STANDARD
DTSTART:20201025T020000
RDATE:20210328T030000
TZOFFSETFROM:+0200
TZOFFSETTO:+0100
TZNAME:Europe/Paris CET
END:STANDARD
BEGIN:STANDARD
DTSTART:20211031T020000
RDATE:20220327T030000
TZOFFSETFROM:+0200
TZOFFSETTO:+0100
TZNAME:Europe/Paris CET
END:STANDARD
BEGIN:STANDARD
DTSTART:20221030T020000
RDATE:20230326T030000
TZOFFSETFROM:+0200
TZOFFSETTO:+0100
TZNAME:Europe/Paris CET
END:STANDARD
BEGIN:STANDARD
DTSTART:20231029T020000
RDATE:20240331T030000
TZOFFSETFROM:+0200
TZOFFSETTO:+0100
TZNAME:Europe/Paris CET
END:STANDARD
BEGIN:STANDARD
DTSTART:20241027T020000
RDATE:20250330T030000
TZOFFSETFROM:+0200
TZOFFSETTO:+0100
TZNAME:Europe/Paris CET
END:STANDARD
BEGIN:STANDARD
DTSTART:20251026T020000
RDATE:20260329T030000
TZOFFSETFROM:+0200
TZOFFSETTO:+0100
TZNAME:Europe/Paris CET
END:STANDARD
BEGIN:STANDARD
DTSTART:20261025T020000
RDATE:20270328T030000
TZOFFSETFROM:+0200
TZOFFSETTO:+0100
TZNAME:Europe/Paris CET
END:STANDARD
BEGIN:DAYLIGHT
DTSTART:20140330T030000
RDATE:20141026T020000
TZOFFSETFROM:+0100
TZOFFSETTO:+0200
TZNAME:Europe/Paris CEST
END:DAYLIGHT
BEGIN:DAYLIGHT
DTSTART:20150329T030000
RDATE:20151025T020000
TZOFFSETFROM:+0100
TZOFFSETTO:+0200
TZNAME:Europe/Paris CEST
END:DAYLIGHT
BEGIN:DAYLIGHT
DTSTART:20160327T030000
RDATE:20161030T020000
TZOFFSETFROM:+0100
TZOFFSETTO:+0200
TZNAME:Europe/Paris CEST
END:DAYLIGHT
BEGIN:DAYLIGHT
DTSTART:20170326T030000
RDATE:20171029T020000
TZOFFSETFROM:+0100
TZOFFSETTO:+0200
TZNAME:Europe/Paris CEST
END:DAYLIGHT
BEGIN:DAYLIGHT
DTSTART:20180325T030000
RDATE:20181028T020000
TZOFFSETFROM:+0100
TZOFFSETTO:+0200
TZNAME:Europe/Paris CEST
END:DAYLIGHT
BEGIN:DAYLIGHT
DTSTART:20190331T030000
RDATE:20191027T020000
TZOFFSETFROM:+0100
TZOFFSETTO:+0200
TZNAME:Europe/Paris CEST
END:DAYLIGHT
BEGIN:DAYLIGHT
DTSTART:20200329T030000
RDATE:20201025T020000
TZOFFSETFROM:+0100
TZOFFSETTO:+0200
TZNAME:Europe/Paris CEST
END:DAYLIGHT
BEGIN:DAYLIGHT
DTSTART:20210328T030000
RDATE:20211031T020000
TZOFFSETFROM:+0100
TZOFFSETTO:+0200
TZNAME:Europe/Paris CEST
END:DAYLIGHT
BEGIN:DAYLIGHT
DTSTART:20220327T030000
RDATE:20221030T020000
TZOFFSETFROM:+0100
TZOFFSETTO:+0200
TZNAME:Europe/Paris CEST
END:DAYLIGHT
BEGIN:DAYLIGHT
DTSTART:20230326T030000
RDATE:20231029T020000
TZOFFSETFROM:+0100
TZOFFSETTO:+0200
TZNAME:Europe/Paris CEST
END:DAYLIGHT
BEGIN:DAYLIGHT
DTSTART:20240331T030000
RDATE:20241027T020000
TZOFFSETFROM:+0100
TZOFFSETTO:+0200
TZNAME:Europe/Paris CEST
END:DAYLIGHT
BEGIN:DAYLIGHT
DTSTART:20250330T030000
RDATE:20251026T020000
TZOFFSETFROM:+0100
TZOFFSETTO:+0200
TZNAME:Europe/Paris CEST
END:DAYLIGHT
BEGIN:DAYLIGHT
DTSTART:20260329T030000
RDATE:20261025T020000
TZOFFSETFROM:+0100
TZOFFSETTO:+0200
TZNAME:Europe/Paris CEST
END:DAYLIGHT
END:VTIMEZONE
BEGIN:VEVENT
UID:7f03b500492240debdfdf21f6a355002
CATEGORIES:Circuit Alsace Adultes (alpin)
CREATED:20141127T000322
SUMMARY:CAA  U16 à Masters      Coupe du Vignoble
URL;VALUE=URI:https://skivosges.net/agenda/export-synchronisation/detailevenement/338/-/c
 aa-u16-a-masters-coupe-du-vignoble?tmpl=component
DESCRIPTION:CAA  U16 à Masters      Coupe du Vignoble \n(Coupe d'Alsace Adultes)\n\nLie
 u : SCHNEPFENRIED\nPiste : Combe\nOrganisateur : SKI CLUB LA RIQUEWIHRIENNE
  (14105 SKI CLUB LA RIQUEWIHRIENNE)\nEmail : RegularLabs.EmailProtector.unC
 loak("ep_c9564100");\nTelecopie : 06.76.01.31.26\n\nPiste la combe\nDossard
  au fond du self au Panoramic\nRemise des Prix salle du bas au Panoramic\n\
 nInscriptions closes, tirage des dossards en cours\n - AMVF0521  Slalom (Co
 urses FFS) U16 a Masters Dames\n  CAA  U16 à Masters      Coupe du Vignoble
 \n - AMVM0521  Slalom (Courses FFS) U16 a Masters Hommes\n  CAA  U16 à Mast
 ers      Coupe du Vignoble Cet évènement a été importé depuis :https://skiv
 osges.net/agenda/export-synchronisation/detailevenement/338/-/caa-u16-a-mas
 ters-coupe-du-vignoble?tmpl=component
X-ALT-DESC;FMTTYPE=text/html:<strong>CAA  U16 à Masters      Coupe du Vignoble</strong> <br /><i>(Coupe 
 d'Alsace Adultes)</i><br /><br />Lieu : SCHNEPFENRIED<br />Piste : Combe<br
  />Organisateur : SKI CLUB LA RIQUEWIHRIENNE <small>(14105 SKI CLUB LA RIQU
 EWIHRIENNE)</small><br />Email : <!-- Cette adresse électronique est protég
 ée contre les robots spammeurs. --><span class="cloaked_email ep_c9564100">
 <span data-ep-b="" data-ep-a="&#106;&#117;&#110;&#103;"><span data-ep-a=".r
 em" data-ep-b="&#111;.&#102;&#114;"><span data-ep-b="&#110;&#97;&#100;o" da
 ta-ep-a="&#121;&#64;&#119;a"></span></span></span></span><script>RegularLab
 s.EmailProtector.unCloak("ep_c9564100");</script><br />Telecopie : 06.76.01
 .31.26<br /><br />Piste la combe<br>Dossard au fond du self au Panoramic<br
 >Remise des Prix salle du bas au Panoramic<br /><br />Inscriptions closes, 
 tirage des dossards en cours<ul type="disc"><li>AMVF0521  Slalom <nobr><i>(
 Courses FFS)</i></nobr> <nobr>U16 a Masters</nobr> Dames<br />&nbsp;&nbsp;C
 AA  U16 à Masters      Coupe du Vignoble</li><li>AMVM0521  Slalom <nobr><i>
 (Courses FFS)</i></nobr> <nobr>U16 a Masters</nobr> Hommes<br />&nbsp;&nbsp
 ;CAA  U16 à Masters      Coupe du Vignoble</li></ul> <a href="https://skivo
 sges.net/agenda/export-synchronisation/detailevenement/338/-/caa-u16-a-mast
 ers-coupe-du-vignoble?tmpl=component">Cet évènement a été importé depuis :h
 ttps://skivosges.net/agenda/export-synchronisation/detailevenement/338/-/ca
 a-u16-a-masters-coupe-du-vignoble?tmpl=component</a>DTSTAMP:20260420T220454
DTSTART;TZID=Europe/Paris:20150215T080000
DTEND;TZID=Europe/Paris:20150215T170000
SEQUENCE:0
TRANSP:OPAQUE
END:VEVENT
END:VCALENDAR