BEGIN:VCALENDAR
VERSION:2.0
PRODID:-//jEvents 2.0 for Joomla//EN
CALSCALE:GREGORIAN
METHOD:PUBLISH
BEGIN:VTIMEZONE
TZID:Europe/Paris
BEGIN:STANDARD
DTSTART:20140214T080000
RDATE:20140330T030000
TZOFFSETFROM:+0200
TZOFFSETTO:+0100
TZNAME:Europe/Paris CET
END:STANDARD
BEGIN:STANDARD
DTSTART:20141026T020000
RDATE:20150329T030000
TZOFFSETFROM:+0200
TZOFFSETTO:+0100
TZNAME:Europe/Paris CET
END:STANDARD
BEGIN:STANDARD
DTSTART:20151025T020000
RDATE:20160327T030000
TZOFFSETFROM:+0200
TZOFFSETTO:+0100
TZNAME:Europe/Paris CET
END:STANDARD
BEGIN:STANDARD
DTSTART:20161030T020000
RDATE:20170326T030000
TZOFFSETFROM:+0200
TZOFFSETTO:+0100
TZNAME:Europe/Paris CET
END:STANDARD
BEGIN:STANDARD
DTSTART:20171029T020000
RDATE:20180325T030000
TZOFFSETFROM:+0200
TZOFFSETTO:+0100
TZNAME:Europe/Paris CET
END:STANDARD
BEGIN:STANDARD
DTSTART:20181028T020000
RDATE:20190331T030000
TZOFFSETFROM:+0200
TZOFFSETTO:+0100
TZNAME:Europe/Paris CET
END:STANDARD
BEGIN:STANDARD
DTSTART:20191027T020000
RDATE:20200329T030000
TZOFFSETFROM:+0200
TZOFFSETTO:+0100
TZNAME:Europe/Paris CET
END:STANDARD
BEGIN:STANDARD
DTSTART:20201025T020000
RDATE:20210328T030000
TZOFFSETFROM:+0200
TZOFFSETTO:+0100
TZNAME:Europe/Paris CET
END:STANDARD
BEGIN:STANDARD
DTSTART:20211031T020000
RDATE:20220327T030000
TZOFFSETFROM:+0200
TZOFFSETTO:+0100
TZNAME:Europe/Paris CET
END:STANDARD
BEGIN:STANDARD
DTSTART:20221030T020000
RDATE:20230326T030000
TZOFFSETFROM:+0200
TZOFFSETTO:+0100
TZNAME:Europe/Paris CET
END:STANDARD
BEGIN:STANDARD
DTSTART:20231029T020000
RDATE:20240331T030000
TZOFFSETFROM:+0200
TZOFFSETTO:+0100
TZNAME:Europe/Paris CET
END:STANDARD
BEGIN:STANDARD
DTSTART:20241027T020000
RDATE:20250330T030000
TZOFFSETFROM:+0200
TZOFFSETTO:+0100
TZNAME:Europe/Paris CET
END:STANDARD
BEGIN:STANDARD
DTSTART:20251026T020000
RDATE:20260329T030000
TZOFFSETFROM:+0200
TZOFFSETTO:+0100
TZNAME:Europe/Paris CET
END:STANDARD
BEGIN:STANDARD
DTSTART:20261025T020000
RDATE:20270328T030000
TZOFFSETFROM:+0200
TZOFFSETTO:+0100
TZNAME:Europe/Paris CET
END:STANDARD
BEGIN:DAYLIGHT
DTSTART:20140330T030000
RDATE:20141026T020000
TZOFFSETFROM:+0100
TZOFFSETTO:+0200
TZNAME:Europe/Paris CEST
END:DAYLIGHT
BEGIN:DAYLIGHT
DTSTART:20150329T030000
RDATE:20151025T020000
TZOFFSETFROM:+0100
TZOFFSETTO:+0200
TZNAME:Europe/Paris CEST
END:DAYLIGHT
BEGIN:DAYLIGHT
DTSTART:20160327T030000
RDATE:20161030T020000
TZOFFSETFROM:+0100
TZOFFSETTO:+0200
TZNAME:Europe/Paris CEST
END:DAYLIGHT
BEGIN:DAYLIGHT
DTSTART:20170326T030000
RDATE:20171029T020000
TZOFFSETFROM:+0100
TZOFFSETTO:+0200
TZNAME:Europe/Paris CEST
END:DAYLIGHT
BEGIN:DAYLIGHT
DTSTART:20180325T030000
RDATE:20181028T020000
TZOFFSETFROM:+0100
TZOFFSETTO:+0200
TZNAME:Europe/Paris CEST
END:DAYLIGHT
BEGIN:DAYLIGHT
DTSTART:20190331T030000
RDATE:20191027T020000
TZOFFSETFROM:+0100
TZOFFSETTO:+0200
TZNAME:Europe/Paris CEST
END:DAYLIGHT
BEGIN:DAYLIGHT
DTSTART:20200329T030000
RDATE:20201025T020000
TZOFFSETFROM:+0100
TZOFFSETTO:+0200
TZNAME:Europe/Paris CEST
END:DAYLIGHT
BEGIN:DAYLIGHT
DTSTART:20210328T030000
RDATE:20211031T020000
TZOFFSETFROM:+0100
TZOFFSETTO:+0200
TZNAME:Europe/Paris CEST
END:DAYLIGHT
BEGIN:DAYLIGHT
DTSTART:20220327T030000
RDATE:20221030T020000
TZOFFSETFROM:+0100
TZOFFSETTO:+0200
TZNAME:Europe/Paris CEST
END:DAYLIGHT
BEGIN:DAYLIGHT
DTSTART:20230326T030000
RDATE:20231029T020000
TZOFFSETFROM:+0100
TZOFFSETTO:+0200
TZNAME:Europe/Paris CEST
END:DAYLIGHT
BEGIN:DAYLIGHT
DTSTART:20240331T030000
RDATE:20241027T020000
TZOFFSETFROM:+0100
TZOFFSETTO:+0200
TZNAME:Europe/Paris CEST
END:DAYLIGHT
BEGIN:DAYLIGHT
DTSTART:20250330T030000
RDATE:20251026T020000
TZOFFSETFROM:+0100
TZOFFSETTO:+0200
TZNAME:Europe/Paris CEST
END:DAYLIGHT
BEGIN:DAYLIGHT
DTSTART:20260329T030000
RDATE:20261025T020000
TZOFFSETFROM:+0100
TZOFFSETTO:+0200
TZNAME:Europe/Paris CEST
END:DAYLIGHT
END:VTIMEZONE
BEGIN:VEVENT
UID:8275b220ad8b38f77f27546575a01a6a
CATEGORIES:Circuit Alsace Jeunes (alpin)
CREATED:20141127T000322
SUMMARY:CAJ  U10-U12etU14     Coupe du Conseil Général / Mémorial Rugeri
URL;VALUE=URI:https://skivosges.net/agenda/export-synchronisation/detailevenement/339/-/c
 aj-u10-u12etu14-coupe-du-conseil-general-memorial-rugeri?tmpl=component
DESCRIPTION:<strong>CAJ  U10-U12etU14     Coupe du Conseil Général / Mémorial Rugeri</s
 trong> <br /><i>(Coupe d'Alsace Jeunes)</i><br /><br />Lieu : BALLON D&acut
 e;ALSACE<br />Piste : Stade du Langenberg<br />Organisateur : SKI CLUB HAUT
 E SAVOUREUSE 90 <small>(14429 SC BALLON D'ALSACE BELFORT)</small><br />Emai
 l : <!-- Cette adresse électronique est protégée contre les robots spammeur
 s. --><span class="cloaked_email ep_861bdb03"><span data-ep-b="e&#46;&#102;
 &#114;" data-ep-a="&#112;&#97;t&#114;"><span data-ep-a="i&#99;&#101;&#114;"
  data-ep-b="&#114;a&#110;&#103;"><span data-ep-a="ug&#103;&#101;" data-ep-b
 ="&#114;&#105;&#64;&#111;"></span></span></span></span><script>RegularLabs.
 EmailProtector.unCloak("ep_861bdb03");</script><br />Telecopie : 06 64 52 1
 0 46<br /><br />Inscriptions en cours sur ce site<ul type="disc"><br />&nbs
 p;&nbsp;Lieu:BALLON D'ALSACE<li>AMVF0511  Slalom Geant <nobr><i>(Coupe de B
 ronze)</i></nobr> <nobr>U12/U14</nobr> Filles<br />&nbsp;&nbsp;CAJ  U10-U12
 etU14     Coupe du Conseil Général / Mémorial Rugeri&nbsp;</li><br />&nbsp;
 &nbsp;Lieu:BALLON D'ALSACE<li>AMVM0511  Slalom Geant <nobr><i>(Coupe de Bro
 nze)</i></nobr> <nobr>U12/U14</nobr> Garçons<br />&nbsp;&nbsp;CAJ  U10-U12e
 tU14     Coupe du Conseil Général / Mémorial Rugeri&nbsp;</li><br />&nbsp;&
 nbsp;Lieu:BALLON D'ALSACE<li>AMVF0512  Slalom Geant <nobr><i>(Coupe de Bron
 ze)</i></nobr> <nobr>U8/U10</nobr> Filles<br />&nbsp;&nbsp;CAJ  U10-U12etU1
 4     Coupe du Conseil Général / Mémorial Rugeri&nbsp;</li><br />&nbsp;&nbs
 p;Lieu:BALLON D'ALSACE<li>AMVM0512  Slalom Geant <nobr><i>(Coupe de Bronze)
 </i></nobr> <nobr>U8/U10</nobr> Garçons<br />&nbsp;&nbsp;CAJ  U10-U12etU14 
     Coupe du Conseil Général / Mémorial Rugeri&nbsp;</li></ul> <a href="htt
 ps://skivosges.net/agenda/export-synchronisation/detailevenement/339/-/caj-
 u10-u12etu14-coupe-du-conseil-general-memorial-rugeri?tmpl=component">Cet é
 vènement a été importé depuis :https://skivosges.net/agenda/export-synchron
 isation/detailevenement/339/-/caj-u10-u12etu14-coupe-du-conseil-general-mem
 orial-rugeri?tmpl=component</a>DTSTAMP:20260420T221349
DTSTART;TZID=Europe/Paris:20150215T080000
DTEND;TZID=Europe/Paris:20150215T170000
SEQUENCE:0
TRANSP:OPAQUE
END:VEVENT
END:VCALENDAR