BEGIN:VCALENDAR
VERSION:2.0
PRODID:-//jEvents 2.0 for Joomla//EN
CALSCALE:GREGORIAN
METHOD:PUBLISH
BEGIN:VTIMEZONE
TZID:Europe/Paris
BEGIN:STANDARD
DTSTART:20140214T080000
RDATE:20140330T030000
TZOFFSETFROM:+0200
TZOFFSETTO:+0100
TZNAME:Europe/Paris CET
END:STANDARD
BEGIN:STANDARD
DTSTART:20141026T020000
RDATE:20150329T030000
TZOFFSETFROM:+0200
TZOFFSETTO:+0100
TZNAME:Europe/Paris CET
END:STANDARD
BEGIN:STANDARD
DTSTART:20151025T020000
RDATE:20160327T030000
TZOFFSETFROM:+0200
TZOFFSETTO:+0100
TZNAME:Europe/Paris CET
END:STANDARD
BEGIN:STANDARD
DTSTART:20161030T020000
RDATE:20170326T030000
TZOFFSETFROM:+0200
TZOFFSETTO:+0100
TZNAME:Europe/Paris CET
END:STANDARD
BEGIN:STANDARD
DTSTART:20171029T020000
RDATE:20180325T030000
TZOFFSETFROM:+0200
TZOFFSETTO:+0100
TZNAME:Europe/Paris CET
END:STANDARD
BEGIN:STANDARD
DTSTART:20181028T020000
RDATE:20190331T030000
TZOFFSETFROM:+0200
TZOFFSETTO:+0100
TZNAME:Europe/Paris CET
END:STANDARD
BEGIN:STANDARD
DTSTART:20191027T020000
RDATE:20200329T030000
TZOFFSETFROM:+0200
TZOFFSETTO:+0100
TZNAME:Europe/Paris CET
END:STANDARD
BEGIN:STANDARD
DTSTART:20201025T020000
RDATE:20210328T030000
TZOFFSETFROM:+0200
TZOFFSETTO:+0100
TZNAME:Europe/Paris CET
END:STANDARD
BEGIN:STANDARD
DTSTART:20211031T020000
RDATE:20220327T030000
TZOFFSETFROM:+0200
TZOFFSETTO:+0100
TZNAME:Europe/Paris CET
END:STANDARD
BEGIN:STANDARD
DTSTART:20221030T020000
RDATE:20230326T030000
TZOFFSETFROM:+0200
TZOFFSETTO:+0100
TZNAME:Europe/Paris CET
END:STANDARD
BEGIN:STANDARD
DTSTART:20231029T020000
RDATE:20240331T030000
TZOFFSETFROM:+0200
TZOFFSETTO:+0100
TZNAME:Europe/Paris CET
END:STANDARD
BEGIN:STANDARD
DTSTART:20241027T020000
RDATE:20250330T030000
TZOFFSETFROM:+0200
TZOFFSETTO:+0100
TZNAME:Europe/Paris CET
END:STANDARD
BEGIN:STANDARD
DTSTART:20251026T020000
RDATE:20260329T030000
TZOFFSETFROM:+0200
TZOFFSETTO:+0100
TZNAME:Europe/Paris CET
END:STANDARD
BEGIN:STANDARD
DTSTART:20261025T020000
RDATE:20270328T030000
TZOFFSETFROM:+0200
TZOFFSETTO:+0100
TZNAME:Europe/Paris CET
END:STANDARD
BEGIN:DAYLIGHT
DTSTART:20140330T030000
RDATE:20141026T020000
TZOFFSETFROM:+0100
TZOFFSETTO:+0200
TZNAME:Europe/Paris CEST
END:DAYLIGHT
BEGIN:DAYLIGHT
DTSTART:20150329T030000
RDATE:20151025T020000
TZOFFSETFROM:+0100
TZOFFSETTO:+0200
TZNAME:Europe/Paris CEST
END:DAYLIGHT
BEGIN:DAYLIGHT
DTSTART:20160327T030000
RDATE:20161030T020000
TZOFFSETFROM:+0100
TZOFFSETTO:+0200
TZNAME:Europe/Paris CEST
END:DAYLIGHT
BEGIN:DAYLIGHT
DTSTART:20170326T030000
RDATE:20171029T020000
TZOFFSETFROM:+0100
TZOFFSETTO:+0200
TZNAME:Europe/Paris CEST
END:DAYLIGHT
BEGIN:DAYLIGHT
DTSTART:20180325T030000
RDATE:20181028T020000
TZOFFSETFROM:+0100
TZOFFSETTO:+0200
TZNAME:Europe/Paris CEST
END:DAYLIGHT
BEGIN:DAYLIGHT
DTSTART:20190331T030000
RDATE:20191027T020000
TZOFFSETFROM:+0100
TZOFFSETTO:+0200
TZNAME:Europe/Paris CEST
END:DAYLIGHT
BEGIN:DAYLIGHT
DTSTART:20200329T030000
RDATE:20201025T020000
TZOFFSETFROM:+0100
TZOFFSETTO:+0200
TZNAME:Europe/Paris CEST
END:DAYLIGHT
BEGIN:DAYLIGHT
DTSTART:20210328T030000
RDATE:20211031T020000
TZOFFSETFROM:+0100
TZOFFSETTO:+0200
TZNAME:Europe/Paris CEST
END:DAYLIGHT
BEGIN:DAYLIGHT
DTSTART:20220327T030000
RDATE:20221030T020000
TZOFFSETFROM:+0100
TZOFFSETTO:+0200
TZNAME:Europe/Paris CEST
END:DAYLIGHT
BEGIN:DAYLIGHT
DTSTART:20230326T030000
RDATE:20231029T020000
TZOFFSETFROM:+0100
TZOFFSETTO:+0200
TZNAME:Europe/Paris CEST
END:DAYLIGHT
BEGIN:DAYLIGHT
DTSTART:20240331T030000
RDATE:20241027T020000
TZOFFSETFROM:+0100
TZOFFSETTO:+0200
TZNAME:Europe/Paris CEST
END:DAYLIGHT
BEGIN:DAYLIGHT
DTSTART:20250330T030000
RDATE:20251026T020000
TZOFFSETFROM:+0100
TZOFFSETTO:+0200
TZNAME:Europe/Paris CEST
END:DAYLIGHT
BEGIN:DAYLIGHT
DTSTART:20260329T030000
RDATE:20261025T020000
TZOFFSETFROM:+0100
TZOFFSETTO:+0200
TZNAME:Europe/Paris CEST
END:DAYLIGHT
END:VTIMEZONE
BEGIN:VEVENT
UID:643ea8bb9d22f01627acafcbfb0a222b
CATEGORIES:Opens et Promos (alpin)
CREATED:20141127T000322
SUMMARY:PROMO  U8 à U16     Les dimanches de la Glisse / Trophée du SC Kochersberg
URL;VALUE=URI:https://skivosges.net/agenda/export-synchronisation/detailevenement/340/-/p
 romo-u8-a-u16-les-dimanches-de-la-glisse-trophee-du-sc-kochersberg?tmpl=com
 ponent
DESCRIPTION:PROMO  U8 à U16     Les dimanches de la Glisse / Trophée du SC Kochersberg\
 n\nLieu : CHAMP DU FEU\nOrganisateur : SKI TEAM KOCHERSBERG (14492 SKI TEAM
  KOCHERSBERG)\nEmail : RegularLabs.EmailProtector.unCloak("ep_6b4b5187");\n
 Telecopie : 08 88 51 23 19\n - AMVF0501  Slalom Geant Dames\n  PROMO  U8 à 
 U16     Les dimanches de la Glisse / Trophée du SC Kochersberg\n - AMVM0501
   Slalom Geant Hommes\n  PROMO  U8 à U16     Les dimanches de la Glisse / T
 rophée du SC Kochersberg Cet évènement a été importé depuis :https://skivos
 ges.net/agenda/export-synchronisation/detailevenement/340/-/promo-u8-a-u16-
 les-dimanches-de-la-glisse-trophee-du-sc-kochersberg?tmpl=component
X-ALT-DESC;FMTTYPE=text/html:<strong>PROMO  U8 à U16     Les dimanches de la Glisse / Trophée du SC Koch
 ersberg</strong><br /><br />Lieu : CHAMP DU FEU<br />Organisateur : SKI TEA
 M KOCHERSBERG <small>(14492 SKI TEAM KOCHERSBERG)</small><br />Email : <!--
  Cette adresse électronique est protégée contre les robots spammeurs. --><s
 pan class="cloaked_email ep_6b4b5187"><span data-ep-b="&#102;&#114;" data-e
 p-a="g&#101;&#114;a"><span data-ep-a="&#114;d&#99;&#108;" data-ep-b="&#110;
 &#103;&#101;&#46;"><span data-ep-a="&#97;us&#115;" data-ep-b="&#64;or&#97;"
 ></span></span></span></span><script>RegularLabs.EmailProtector.unCloak("ep
 _6b4b5187");</script><br />Telecopie : 08 88 51 23 19<ul type="disc"><li>AM
 VF0501  Slalom Geant Dames<br />&nbsp;&nbsp;PROMO  U8 à U16     Les dimanch
 es de la Glisse / Trophée du SC Kochersberg</li><li>AMVM0501  Slalom Geant 
 Hommes<br />&nbsp;&nbsp;PROMO  U8 à U16     Les dimanches de la Glisse / Tr
 ophée du SC Kochersberg</li></ul> <a href="https://skivosges.net/agenda/exp
 ort-synchronisation/detailevenement/340/-/promo-u8-a-u16-les-dimanches-de-l
 a-glisse-trophee-du-sc-kochersberg?tmpl=component">Cet évènement a été impo
 rté depuis :https://skivosges.net/agenda/export-synchronisation/detailevene
 ment/340/-/promo-u8-a-u16-les-dimanches-de-la-glisse-trophee-du-sc-kochersb
 erg?tmpl=component</a>DTSTAMP:20260420T220517
DTSTART;TZID=Europe/Paris:20150215T080000
DTEND;TZID=Europe/Paris:20150215T170000
SEQUENCE:0
TRANSP:OPAQUE
END:VEVENT
END:VCALENDAR